Workbook

Sheet Dashboard
A1: Batch Production Schedule
A2: Plan production batches using planned batch IDs, due dates, vessel or line capacity, and changeover families.
A3: Illustrative sample data is provided for planning examples only.
A4: Planning Date | B4: =TODAY()
A7: Planned Batch Rows | B7: =IFERROR(SUMPRODUCT(--('Batch Schedule'!$A$7:$A$106<>"")),0) | C7: Fits Future Sequence | D7: =IFERROR(SUMPRODUCT(--('Batch Schedule'!$I$7:$I$106="Fits future sequence")),0) | E7: Scheduled Batches | F7: =IFERROR(SUMPRODUCT(--('Batch Schedule'!$P$7:$P$106="Scheduled")),0) | G7: Unscheduled Batches | H7: =IFERROR(SUMPRODUCT(--('Batch Schedule'!$P$7:$P$106="Unscheduled")),0)
A10: Capacity Fits | B10: =IFERROR(SUMPRODUCT(--('Batch Schedule'!$L$7:$L$106="Capacity fits")),0) | C10: Capacity Items Needing Attention | D10: =IFERROR(SUMPRODUCT(--('Batch Schedule'!$L$7:$L$106="Vessel or line needed"),--('Batch Schedule'!$L$7:$L$106<>""))+SUMPRODUCT(--('Batch Schedule'!$L$7:$L$106="Required capacity needed"),--('Batch Schedule'!$L$7:$L$106<>""))+SUMPRODUCT(--('Batch Schedule'!$L$7:$L$106="Required capacity unit needed"),--('Batch Schedule'!$L$7:$L$106<>""))+SUMPRODUCT(--('Batch Schedule'!$L$7:$L$106="Vessel or line capacity not found"),--('Batch Schedule'!$L$7:$L$106<>""))+SUMPRODUCT(--('Batch Schedule'!$L$7:$L$106="Capacity units do not match"),--('Batch Schedule'!$L$7:$L$106<>""))+SUMPRODUCT(--('Batch Schedule'!$L$7:$L$106="Capacity exceeds vessel or line capacity"),--('Batch Schedule'!$L$7:$L$106<>"")),0) | E10: Changeover Reviews Needed | F10: =IFERROR(SUMPRODUCT(--('Batch Schedule'!$O$7:$O$106="Changeover review needed")),0) | G10: Future Calendar Rows | H10: =IFERROR(SUMPRODUCT(--('Future Calendar & Exceptions'!$B$7:$B$106<>"")),0)
A14: Next Scheduled Batches | J14: Current Unscheduled Batch Preview
A16: Calendar Order | B16: Batch ID | C16: Due Date | D16: Vessel or Line | E16: Changeover Family | F16: Required Capacity | G16: Capacity Check | H16: Changeover Check | J16: List Order | K16: Batch ID | L16: Due Date | M16: Vessel or Line | N16: Future Sequence Fit | O16: Capacity Check
A17: =IFERROR('Future Calendar & Exceptions'!A7,"") | B17: =IFERROR('Future Calendar & Exceptions'!B7,"") | C17: =IFERROR('Future Calendar & Exceptions'!C7,"") | D17: =IFERROR('Future Calendar & Exceptions'!D7,"") | E17: =IFERROR('Future Calendar & Exceptions'!E7,"") | F17: =IFERROR('Future Calendar & Exceptions'!F7,"") | G17: =IFERROR('Future Calendar & Exceptions'!H7,"") | H17: =IFERROR('Future Calendar & Exceptions'!I7,"") | J17: =IFERROR('Future Calendar & Exceptions'!A117,"") | K17: =IFERROR('Future Calendar & Exceptions'!B117,"") | L17: =IFERROR('Future Calendar & Exceptions'!C117,"") | M17: =IFERROR('Future Calendar & Exceptions'!D117,"") | N17: =IFERROR('Future Calendar & Exceptions'!H117,"") | O17: =IFERROR('Future Calendar & Exceptions'!I117,"")
A18: =IFERROR('Future Calendar & Exceptions'!A8,"") | B18: =IFERROR('Future Calendar & Exceptions'!B8,"") | C18: =IFERROR('Future Calendar & Exceptions'!C8,"") | D18: =IFERROR('Future Calendar & Exceptions'!D8,"") | E18: =IFERROR('Future Calendar & Exceptions'!E8,"") | F18: =IFERROR('Future Calendar & Exceptions'!F8,"") | G18: =IFERROR('Future Calendar & Exceptions'!H8,"") | H18: =IFERROR('Future Calendar & Exceptions'!I8,"") | J18: =IFERROR('Future Calendar & Exceptions'!A118,"") | K18: =IFERROR('Future Calendar & Exceptions'!B118,"") | L18: =IFERROR('Future Calendar & Exceptions'!C118,"") | M18: =IFERROR('Future Calendar & Exceptions'!D118,"") | N18: =IFERROR('Future Calendar & Exceptions'!H118,"") | O18: =IFERROR('Future Calendar & Exceptions'!I118,"")
A19: =IFERROR('Future Calendar & Exceptions'!A9,"") | B19: =IFERROR('Future Calendar & Exceptions'!B9,"") | C19: =IFERROR('Future Calendar & Exceptions'!C9,"") | D19: =IFERROR('Future Calendar & Exceptions'!D9,"") | E19: =IFERROR('Future Calendar & Exceptions'!E9,"") | F19: =IFERROR('Future Calendar & Exceptions'!F9,"") | G19: =IFERROR('Future Calendar & Exceptions'!H9,"") | H19: =IFERROR('Future Calendar & Exceptions'!I9,"") | J19: =IFERROR('Future Calendar & Exceptions'!A119,"") | K19: =IFERROR('Future Calendar & Exceptions'!B119,"") | L19: =IFERROR('Future Calendar & Exceptions'!C119,"") | M19: =IFERROR('Future Calendar & Exceptions'!D119,"") | N19: =IFERROR('Future Calendar & Exceptions'!H119,"") | O19: =IFERROR('Future Calendar & Exceptions'!I119,"")
A20: =IFERROR('Future Calendar & Exceptions'!A10,"") | B20: =IFERROR('Future Calendar & Exceptions'!B10,"") | C20: =IFERROR('Future Calendar & Exceptions'!C10,"") | D20: =IFERROR('Future Calendar & Exceptions'!D10,"") | E20: =IFERROR('Future Calendar & Exceptions'!E10,"") | F20: =IFERROR('Future Calendar & Exceptions'!F10,"") | G20: =IFERROR('Future Calendar & Exceptions'!H10,"") | H20: =IFERROR('Future Calendar & Exceptions'!I10,"") | J20: =IFERROR('Future Calendar & Exceptions'!A120,"") | K20: =IFERROR('Future Calendar & Exceptions'!B120,"") | L20: =IFERROR('Future Calendar & Exceptions'!C120,"") | M20: =IFERROR('Future Calendar & Exceptions'!D120,"") | N20: =IFERROR('Future Calendar & Exceptions'!H120,"") | O20: =IFERROR('Future Calendar & Exceptions'!I120,"")
A21: =IFERROR('Future Calendar & Exceptions'!A11,"") | B21: =IFERROR('Future Calendar & Exceptions'!B11,"") | C21: =IFERROR('Future Calendar & Exceptions'!C11,"") | D21: =IFERROR('Future Calendar & Exceptions'!D11,"") | E21: =IFERROR('Future Calendar & Exceptions'!E11,"") | F21: =IFERROR('Future Calendar & Exceptions'!F11,"") | G21: =IFERROR('Future Calendar & Exceptions'!H11,"") | H21: =IFERROR('Future Calendar & Exceptions'!I11,"") | J21: =IFERROR('Future Calendar & Exceptions'!A121,"") | K21: =IFERROR('Future Calendar & Exceptions'!B121,"") | L21: =IFERROR('Future Calendar & Exceptions'!C121,"") | M21: =IFERROR('Future Calendar & Exceptions'!D121,"") | N21: =IFERROR('Future Calendar & Exceptions'!H121,"") | O21: =IFERROR('Future Calendar & Exceptions'!I121,"")
A22: =IFERROR('Future Calendar & Exceptions'!A12,"") | B22: =IFERROR('Future Calendar & Exceptions'!B12,"") | C22: =IFERROR('Future Calendar & Exceptions'!C12,"") | D22: =IFERROR('Future Calendar & Exceptions'!D12,"") | E22: =IFERROR('Future Calendar & Exceptions'!E12,"") | F22: =IFERROR('Future Calendar & Exceptions'!F12,"") | G22: =IFERROR('Future Calendar & Exceptions'!H12,"") | H22: =IFERROR('Future Calendar & Exceptions'!I12,"") | J22: =IFERROR('Future Calendar & Exceptions'!A122,"") | K22: =IFERROR('Future Calendar & Exceptions'!B122,"") | L22: =IFERROR('Future Calendar & Exceptions'!C122,"") | M22: =IFERROR('Future Calendar & Exceptions'!D122,"") | N22: =IFERROR('Future Calendar & Exceptions'!H122,"") | O22: =IFERROR('Future Calendar & Exceptions'!I122,"")
A23: =IFERROR('Future Calendar & Exceptions'!A13,"") | B23: =IFERROR('Future Calendar & Exceptions'!B13,"") | C23: =IFERROR('Future Calendar & Exceptions'!C13,"") | D23: =IFERROR('Future Calendar & Exceptions'!D13,"") | E23: =IFERROR('Future Calendar & Exceptions'!E13,"") | F23: =IFERROR('Future Calendar & Exceptions'!F13,"") | G23: =IFERROR('Future Calendar & Exceptions'!H13,"") | H23: =IFERROR('Future Calendar & Exceptions'!I13,"") | J23: =IFERROR('Future Calendar & Exceptions'!A123,"") | K23: =IFERROR('Future Calendar & Exceptions'!B123,"") | L23: =IFERROR('Future Calendar & Exceptions'!C123,"") | M23: =IFERROR('Future Calendar & Exceptions'!D123,"") | N23: =IFERROR('Future Calendar & Exceptions'!H123,"") | O23: =IFERROR('Future Calendar & Exceptions'!I123,"")
A24: =IFERROR('Future Calendar & Exceptions'!A14,"") | B24: =IFERROR('Future Calendar & Exceptions'!B14,"") | C24: =IFERROR('Future Calendar & Exceptions'!C14,"") | D24: =IFERROR('Future Calendar & Exceptions'!D14,"") | E24: =IFERROR('Future Calendar & Exceptions'!E14,"") | F24: =IFERROR('Future Calendar & Exceptions'!F14,"") | G24: =IFERROR('Future Calendar & Exceptions'!H14,"") | H24: =IFERROR('Future Calendar & Exceptions'!I14,"") | J24: =IFERROR('Future Calendar & Exceptions'!A124,"") | K24: =IFERROR('Future Calendar & Exceptions'!B124,"") | L24: =IFERROR('Future Calendar & Exceptions'!C124,"") | M24: =IFERROR('Future Calendar & Exceptions'!D124,"") | N24: =IFERROR('Future Calendar & Exceptions'!H124,"") | O24: =IFERROR('Future Calendar & Exceptions'!I124,"")
A25: ="" | B25: ="" | C25: ="" | D25: ="" | E25: ="" | F25: ="" | G25: ="" | H25: ="" | J25: ="" | K25: ="" | L25: ="" | M25: ="" | N25: ="" | O25: =""
A26: ="" | B26: ="" | C26: ="" | D26: ="" | E26: ="" | F26: ="" | G26: ="" | H26: ="" | J26: ="" | K26: ="" | L26: ="" | M26: ="" | N26: ="" | O26: =""
A27: ="" | B27: ="" | C27: ="" | D27: ="" | E27: ="" | F27: ="" | G27: ="" | H27: ="" | J27: ="" | K27: ="" | L27: ="" | M27: ="" | N27: ="" | O27: =""
A28: ="" | B28: ="" | C28: ="" | D28: ="" | E28: ="" | F28: ="" | G28: ="" | H28: ="" | J28: ="" | K28: ="" | L28: ="" | M28: ="" | N28: ="" | O28: =""
A29: ="" | B29: ="" | C29: ="" | D29: ="" | E29: ="" | F29: ="" | G29: ="" | H29: ="" | J29: ="" | K29: ="" | L29: ="" | M29: ="" | N29: ="" | O29: =""
A30: ="" | B30: ="" | C30: ="" | D30: ="" | E30: ="" | F30: ="" | G30: ="" | H30: ="" | J30: ="" | K30: ="" | L30: ="" | M30: ="" | N30: ="" | O30: =""
A31: ="" | B31: ="" | C31: ="" | D31: ="" | E31: ="" | F31: ="" | G31: ="" | H31: ="" | J31: ="" | K31: ="" | L31: ="" | M31: ="" | N31: ="" | O31: =""
A32: ="" | B32: ="" | C32: ="" | D32: ="" | E32: ="" | F32: ="" | G32: ="" | H32: ="" | J32: ="" | K32: ="" | L32: ="" | M32: ="" | N32: ="" | O32: =""
A33: ="" | B33: ="" | C33: ="" | D33: ="" | E33: ="" | F33: ="" | G33: ="" | H33: ="" | J33: ="" | K33: ="" | L33: ="" | M33: ="" | N33: ="" | O33: =""
A34: ="" | B34: ="" | C34: ="" | D34: ="" | E34: ="" | F34: ="" | G34: ="" | H34: ="" | J34: ="" | K34: ="" | L34: ="" | M34: ="" | N34: ="" | O34: =""
A35: ="" | B35: ="" | C35: ="" | D35: ="" | E35: ="" | F35: ="" | G35: ="" | H35: ="" | J35: ="" | K35: ="" | L35: ="" | M35: ="" | N35: ="" | O35: =""
A36: ="" | B36: ="" | C36: ="" | D36: ="" | E36: ="" | F36: ="" | G36: ="" | H36: ="" | J36: ="" | K36: ="" | L36: ="" | M36: ="" | N36: ="" | O36: =""
... A101: ="" | B101: ="" | C101: ="" | D101: ="" | E101: ="" | F101: ="" | G101: ="" | H101: ="" | J101: ="" | K101: ="" | L101: ="" | M101: ="" | N101: ="" | O101: =""

Sheet Batch Schedule
A1: Batch Production Schedule Input and Planning Checks | Q1: Vessel or Line Capacity Reference
A2: Enter production batches in yellow cells. Inputs include planned batch IDs, due dates, vessel or line capacity, and changeover families. | Q2: Enter each vessel or line once. Capacity units must match the batch capacity unit exactly. No unit conversion is performed.
A3: Capacity and changeover checks determine future sequence fit, the future batch calendar, and the unscheduled batch list.
A4: Illustrative sample rows in rows 7 through 16 are examples only and should be replaced for planning use. | Q4: Illustrative capacity rows in rows 7 through 10 are examples only.
A6: Planned Batch ID | B6: Due Date | C6: Vessel or Line | D6: Changeover Family | E6: Required Capacity | F6: Capacity Unit | G6: Future Calendar Order | H6: Vessel or Line Sequence | I6: Future Sequence Fit | J6: Available Capacity | K6: Available Capacity Unit | L6: Capacity Check | M6: Previous Planned Batch ID | N6: Previous Changeover Family | O6: Changeover Check | P6: Scheduling Result | Q6: Vessel or Line | R6: Available Capacity | S6: Capacity Unit
A7: B-1001 | B7: 46297 | C7: Line 1 | D7: Amber | E7: 80 | F7: gallons | G7: =IFERROR(IF($I7<>"Fits future sequence","",SUMPRODUCT(--($I$7:$I$106="Fits future sequence"),--($B$7:$B$106<$B7))+SUMPRODUCT(--($I$7:$I7="Fits future sequence"),--($B$7:$B7=$B7))),"") | H7: =IFERROR(IF($I7<>"Fits future sequence","",SUMPRODUCT(--($I$7:$I$106="Fits future sequence"),--($C$7:$C$106=$C7),--($B$7:$B$106<$B7))+SUMPRODUCT(--($I$7:$I7="Fits future sequence"),--($C$7:$C7=$C7),--($B$7:$B7=$B7))),"") | I7: =IFERROR(IF($A7="","",IF(NOT(ISNUMBER($B7)),"Due date needed",IF($B7<TODAY(),"Due date is not future",IF($C7="","Vessel or line needed",IF($D7="","Changeover family needed",IF($L7="Capacity fits","Fits future sequence","Cannot fit future sequence")))))),"") | J7: =IFERROR(IF(OR($A7="",$C7=""),"",IFERROR(VLOOKUP($C7,$Q$7:$S$106,2,FALSE),"")),"") | K7: =IFERROR(IF(OR($A7="",$C7=""),"",IFERROR(VLOOKUP($C7,$Q$7:$S$106,3,FALSE),"")),"") | L7: =IFERROR(IF($A7="","",IF($C7="","Vessel or line needed",IF(NOT(ISNUMBER($E7)),"Required capacity needed",IF($F7="","Required capacity unit needed",IF(NOT(ISNUMBER($J7)),"Vessel or line capacity not found",IF($K7<>$F7,"Capacity units do not match",IF($E7<=$J7,"Capacity fits","Capacity exceeds vessel or line capacity"))))))),"") | M7: =IFERROR(IF(OR($A7="",$H7="",$H7=1),"",INDEX($A$7:$A$106,SUMPRODUCT(IFERROR(($C$7:$C$106=$C7)*($H$7:$H$106=$H7-1)*(ROW($A$7:$A$106)-ROW($A$7)+1),0)))),"") | N7: =IFERROR(IF(OR($A7="",$H7="",$H7=1),"",INDEX($D$7:$D$106,SUMPRODUCT(IFERROR(($C$7:$C$106=$C7)*($H$7:$H$106=$H7-1)*(ROW($D$7:$D$106)-ROW($D$7)+1),0)))),"") | O7: =IFERROR(IF($A7="","",IF($I7<>"Fits future sequence","",IF($H7=1,"First planned batch on vessel or line",IF(OR($D7="",$N7=""),"Changeover family needed",IF($D7=$N7,"Same family continuation","Changeover review needed"))))),"") | P7: =IFERROR(IF($A7="","",IF($I7="Fits future sequence","Scheduled","Unscheduled")),"") | Q7: Line 1 | R7: 100 | S7: gallons
A8: B-1002 | B8: 46297 | C8: Line 1 | D8: Amber | E8: 90 | F8: gallons | G8: =IFERROR(IF($I8<>"Fits future sequence","",SUMPRODUCT(--($I$7:$I$106="Fits future sequence"),--($B$7:$B$106<$B8))+SUMPRODUCT(--($I$7:$I8="Fits future sequence"),--($B$7:$B8=$B8))),"") | H8: =IFERROR(IF($I8<>"Fits future sequence","",SUMPRODUCT(--($I$7:$I$106="Fits future sequence"),--($C$7:$C$106=$C8),--($B$7:$B$106<$B8))+SUMPRODUCT(--($I$7:$I8="Fits future sequence"),--($C$7:$C8=$C8),--($B$7:$B8=$B8))),"") | I8: =IFERROR(IF($A8="","",IF(NOT(ISNUMBER($B8)),"Due date needed",IF($B8<TODAY(),"Due date is not future",IF($C8="","Vessel or line needed",IF($D8="","Changeover family needed",IF($L8="Capacity fits","Fits future sequence","Cannot fit future sequence")))))),"") | J8: =IFERROR(IF(OR($A8="",$C8=""),"",IFERROR(VLOOKUP($C8,$Q$7:$S$106,2,FALSE),"")),"") | K8: =IFERROR(IF(OR($A8="",$C8=""),"",IFERROR(VLOOKUP($C8,$Q$7:$S$106,3,FALSE),"")),"") | L8: =IFERROR(IF($A8="","",IF($C8="","Vessel or line needed",IF(NOT(ISNUMBER($E8)),"Required capacity needed",IF($F8="","Required capacity unit needed",IF(NOT(ISNUMBER($J8)),"Vessel or line capacity not found",IF($K8<>$F8,"Capacity units do not match",IF($E8<=$J8,"Capacity fits","Capacity exceeds vessel or line capacity"))))))),"") | M8: =IFERROR(IF(OR($A8="",$H8="",$H8=1),"",INDEX($A$7:$A$106,SUMPRODUCT(IFERROR(($C$7:$C$106=$C8)*($H$7:$H$106=$H8-1)*(ROW($A$7:$A$106)-ROW($A$7)+1),0)))),"") | N8: =IFERROR(IF(OR($A8="",$H8="",$H8=1),"",INDEX($D$7:$D$106,SUMPRODUCT(IFERROR(($C$7:$C$106=$C8)*($H$7:$H$106=$H8-1)*(ROW($D$7:$D$106)-ROW($D$7)+1),0)))),"") | O8: =IFERROR(IF($A8="","",IF($I8<>"Fits future sequence","",IF($H8=1,"First planned batch on vessel or line",IF(OR($D8="",$N8=""),"Changeover family needed",IF($D8=$N8,"Same family continuation","Changeover review needed"))))),"") | P8: =IFERROR(IF($A8="","",IF($I8="Fits future sequence","Scheduled","Unscheduled")),"") | Q8: Line 2 | R8: 80 | S8: gallons
A9: B-1003 | B9: 46298 | C9: Line 1 | D9: Blue | E9: 110 | F9: gallons | G9: =IFERROR(IF($I9<>"Fits future sequence","",SUMPRODUCT(--($I$7:$I$106="Fits future sequence"),--($B$7:$B$106<$B9))+SUMPRODUCT(--($I$7:$I9="Fits future sequence"),--($B$7:$B9=$B9))),"") | H9: =IFERROR(IF($I9<>"Fits future sequence","",SUMPRODUCT(--($I$7:$I$106="Fits future sequence"),--($C$7:$C$106=$C9),--($B$7:$B$106<$B9))+SUMPRODUCT(--($I$7:$I9="Fits future sequence"),--($C$7:$C9=$C9),--($B$7:$B9=$B9))),"") | I9: =IFERROR(IF($A9="","",IF(NOT(ISNUMBER($B9)),"Due date needed",IF($B9<TODAY(),"Due date is not future",IF($C9="","Vessel or line needed",IF($D9="","Changeover family needed",IF($L9="Capacity fits","Fits future sequence","Cannot fit future sequence")))))),"") | J9: =IFERROR(IF(OR($A9="",$C9=""),"",IFERROR(VLOOKUP($C9,$Q$7:$S$106,2,FALSE),"")),"") | K9: =IFERROR(IF(OR($A9="",$C9=""),"",IFERROR(VLOOKUP($C9,$Q$7:$S$106,3,FALSE),"")),"") | L9: =IFERROR(IF($A9="","",IF($C9="","Vessel or line needed",IF(NOT(ISNUMBER($E9)),"Required capacity needed",IF($F9="","Required capacity unit needed",IF(NOT(ISNUMBER($J9)),"Vessel or line capacity not found",IF($K9<>$F9,"Capacity units do not match",IF($E9<=$J9,"Capacity fits","Capacity exceeds vessel or line capacity"))))))),"") | M9: =IFERROR(IF(OR($A9="",$H9="",$H9=1),"",INDEX($A$7:$A$106,SUMPRODUCT(IFERROR(($C$7:$C$106=$C9)*($H$7:$H$106=$H9-1)*(ROW($A$7:$A$106)-ROW($A$7)+1),0)))),"") | N9: =IFERROR(IF(OR($A9="",$H9="",$H9=1),"",INDEX($D$7:$D$106,SUMPRODUCT(IFERROR(($C$7:$C$106=$C9)*($H$7:$H$106=$H9-1)*(ROW($D$7:$D$106)-ROW($D$7)+1),0)))),"") | O9: =IFERROR(IF($A9="","",IF($I9<>"Fits future sequence","",IF($H9=1,"First planned batch on vessel or line",IF(OR($D9="",$N9=""),"Changeover family needed",IF($D9=$N9,"Same family continuation","Changeover review needed"))))),"") | P9: =IFERROR(IF($A9="","",IF($I9="Fits future sequence","Scheduled","Unscheduled")),"") | Q9: Vessel 2 | R9: 250 | S9: pounds
A10: B-1004 | B10: 46299 | C10: Vessel 2 | D10: Blue | E10: 200 | F10: pounds | G10: =IFERROR(IF($I10<>"Fits future sequence","",SUMPRODUCT(--($I$7:$I$106="Fits future sequence"),--($B$7:$B$106<$B10))+SUMPRODUCT(--($I$7:$I10="Fits future sequence"),--($B$7:$B10=$B10))),"") | H10: =IFERROR(IF($I10<>"Fits future sequence","",SUMPRODUCT(--($I$7:$I$106="Fits future sequence"),--($C$7:$C$106=$C10),--($B$7:$B$106<$B10))+SUMPRODUCT(--($I$7:$I10="Fits future sequence"),--($C$7:$C10=$C10),--($B$7:$B10=$B10))),"") | I10: =IFERROR(IF($A10="","",IF(NOT(ISNUMBER($B10)),"Due date needed",IF($B10<TODAY(),"Due date is not future",IF($C10="","Vessel or line needed",IF($D10="","Changeover family needed",IF($L10="Capacity fits","Fits future sequence","Cannot fit future sequence")))))),"") | J10: =IFERROR(IF(OR($A10="",$C10=""),"",IFERROR(VLOOKUP($C10,$Q$7:$S$106,2,FALSE),"")),"") | K10: =IFERROR(IF(OR($A10="",$C10=""),"",IFERROR(VLOOKUP($C10,$Q$7:$S$106,3,FALSE),"")),"") | L10: =IFERROR(IF($A10="","",IF($C10="","Vessel or line needed",IF(NOT(ISNUMBER($E10)),"Required capacity needed",IF($F10="","Required capacity unit needed",IF(NOT(ISNUMBER($J10)),"Vessel or line capacity not found",IF($K10<>$F10,"Capacity units do not match",IF($E10<=$J10,"Capacity fits","Capacity exceeds vessel or line capacity"))))))),"") | M10: =IFERROR(IF(OR($A10="",$H10="",$H10=1),"",INDEX($A$7:$A$106,SUMPRODUCT(IFERROR(($C$7:$C$106=$C10)*($H$7:$H$106=$H10-1)*(ROW($A$7:$A$106)-ROW($A$7)+1),0)))),"") | N10: =IFERROR(IF(OR($A10="",$H10="",$H10=1),"",INDEX($D$7:$D$106,SUMPRODUCT(IFERROR(($C$7:$C$106=$C10)*($H$7:$H$106=$H10-1)*(ROW($D$7:$D$106)-ROW($D$7)+1),0)))),"") | O10: =IFERROR(IF($A10="","",IF($I10<>"Fits future sequence","",IF($H10=1,"First planned batch on vessel or line",IF(OR($D10="",$N10=""),"Changeover family needed",IF($D10=$N10,"Same family continuation","Changeover review needed"))))),"") | P10: =IFERROR(IF($A10="","",IF($I10="Fits future sequence","Scheduled","Unscheduled")),"") | Q10: Vessel 3 | R10: 120 | S10: gallons
A11: B-1005 | B11: 46300 | C11: Vessel 2 | D11: Green | E11: 100 | F11: pounds | G11: =IFERROR(IF($I11<>"Fits future sequence","",SUMPRODUCT(--($I$7:$I$106="Fits future sequence"),--($B$7:$B$106<$B11))+SUMPRODUCT(--($I$7:$I11="Fits future sequence"),--($B$7:$B11=$B11))),"") | H11: =IFERROR(IF($I11<>"Fits future sequence","",SUMPRODUCT(--($I$7:$I$106="Fits future sequence"),--($C$7:$C$106=$C11),--($B$7:$B$106<$B11))+SUMPRODUCT(--($I$7:$I11="Fits future sequence"),--($C$7:$C11=$C11),--($B$7:$B11=$B11))),"") | I11: =IFERROR(IF($A11="","",IF(NOT(ISNUMBER($B11)),"Due date needed",IF($B11<TODAY(),"Due date is not future",IF($C11="","Vessel or line needed",IF($D11="","Changeover family needed",IF($L11="Capacity fits","Fits future sequence","Cannot fit future sequence")))))),"") | J11: =IFERROR(IF(OR($A11="",$C11=""),"",IFERROR(VLOOKUP($C11,$Q$7:$S$106,2,FALSE),"")),"") | K11: =IFERROR(IF(OR($A11="",$C11=""),"",IFERROR(VLOOKUP($C11,$Q$7:$S$106,3,FALSE),"")),"") | L11: =IFERROR(IF($A11="","",IF($C11="","Vessel or line needed",IF(NOT(ISNUMBER($E11)),"Required capacity needed",IF($F11="","Required capacity unit needed",IF(NOT(ISNUMBER($J11)),"Vessel or line capacity not found",IF($K11<>$F11,"Capacity units do not match",IF($E11<=$J11,"Capacity fits","Capacity exceeds vessel or line capacity"))))))),"") | M11: =IFERROR(IF(OR($A11="",$H11="",$H11=1),"",INDEX($A$7:$A$106,SUMPRODUCT(IFERROR(($C$7:$C$106=$C11)*($H$7:$H$106=$H11-1)*(ROW($A$7:$A$106)-ROW($A$7)+1),0)))),"") | N11: =IFERROR(IF(OR($A11="",$H11="",$H11=1),"",INDEX($D$7:$D$106,SUMPRODUCT(IFERROR(($C$7:$C$106=$C11)*($H$7:$H$106=$H11-1)*(ROW($D$7:$D$106)-ROW($D$7)+1),0)))),"") | O11: =IFERROR(IF($A11="","",IF($I11<>"Fits future sequence","",IF($H11=1,"First planned batch on vessel or line",IF(OR($D11="",$N11=""),"Changeover family needed",IF($D11=$N11,"Same family continuation","Changeover review needed"))))),"") | P11: =IFERROR(IF($A11="","",IF($I11="Fits future sequence","Scheduled","Unscheduled")),"")
A12: B-1006 | B12: 46301 | C12: Line 2 | D12: Amber | E12: 60 | F12: gallons | G12: =IFERROR(IF($I12<>"Fits future sequence","",SUMPRODUCT(--($I$7:$I$106="Fits future sequence"),--($B$7:$B$106<$B12))+SUMPRODUCT(--($I$7:$I12="Fits future sequence"),--($B$7:$B12=$B12))),"") | H12: =IFERROR(IF($I12<>"Fits future sequence","",SUMPRODUCT(--($I$7:$I$106="Fits future sequence"),--($C$7:$C$106=$C12),--($B$7:$B$106<$B12))+SUMPRODUCT(--($I$7:$I12="Fits future sequence"),--($C$7:$C12=$C12),--($B$7:$B12=$B12))),"") | I12: =IFERROR(IF($A12="","",IF(NOT(ISNUMBER($B12)),"Due date needed",IF($B12<TODAY(),"Due date is not future",IF($C12="","Vessel or line needed",IF($D12="","Changeover family needed",IF($L12="Capacity fits","Fits future sequence","Cannot fit future sequence")))))),"") | J12: =IFERROR(IF(OR($A12="",$C12=""),"",IFERROR(VLOOKUP($C12,$Q$7:$S$106,2,FALSE),"")),"") | K12: =IFERROR(IF(OR($A12="",$C12=""),"",IFERROR(VLOOKUP($C12,$Q$7:$S$106,3,FALSE),"")),"") | L12: =IFERROR(IF($A12="","",IF($C12="","Vessel or line needed",IF(NOT(ISNUMBER($E12)),"Required capacity needed",IF($F12="","Required capacity unit needed",IF(NOT(ISNUMBER($J12)),"Vessel or line capacity not found",IF($K12<>$F12,"Capacity units do not match",IF($E12<=$J12,"Capacity fits","Capacity exceeds vessel or line capacity"))))))),"") | M12: =IFERROR(IF(OR($A12="",$H12="",$H12=1),"",INDEX($A$7:$A$106,SUMPRODUCT(IFERROR(($C$7:$C$106=$C12)*($H$7:$H$106=$H12-1)*(ROW($A$7:$A$106)-ROW($A$7)+1),0)))),"") | N12: =IFERROR(IF(OR($A12="",$H12="",$H12=1),"",INDEX($D$7:$D$106,SUMPRODUCT(IFERROR(($C$7:$C$106=$C12)*($H$7:$H$106=$H12-1)*(ROW($D$7:$D$106)-ROW($D$7)+1),0)))),"") | O12: =IFERROR(IF($A12="","",IF($I12<>"Fits future sequence","",IF($H12=1,"First planned batch on vessel or line",IF(OR($D12="",$N12=""),"Changeover family needed",IF($D12=$N12,"Same family continuation","Changeover review needed"))))),"") | P12: =IFERROR(IF($A12="","",IF($I12="Fits future sequence","Scheduled","Unscheduled")),"")
A13: B-1007 | B13: 46302 | C13: Line 2 | D13: Amber | E13: 70 | F13: gallons | G13: =IFERROR(IF($I13<>"Fits future sequence","",SUMPRODUCT(--($I$7:$I$106="Fits future sequence"),--($B$7:$B$106<$B13))+SUMPRODUCT(--($I$7:$I13="Fits future sequence"),--($B$7:$B13=$B13))),"") | H13: =IFERROR(IF($I13<>"Fits future sequence","",SUMPRODUCT(--($I$7:$I$106="Fits future sequence"),--($C$7:$C$106=$C13),--($B$7:$B$106<$B13))+SUMPRODUCT(--($I$7:$I13="Fits future sequence"),--($C$7:$C13=$C13),--($B$7:$B13=$B13))),"") | I13: =IFERROR(IF($A13="","",IF(NOT(ISNUMBER($B13)),"Due date needed",IF($B13<TODAY(),"Due date is not future",IF($C13="","Vessel or line needed",IF($D13="","Changeover family needed",IF($L13="Capacity fits","Fits future sequence","Cannot fit future sequence")))))),"") | J13: =IFERROR(IF(OR($A13="",$C13=""),"",IFERROR(VLOOKUP($C13,$Q$7:$S$106,2,FALSE),"")),"") | K13: =IFERROR(IF(OR($A13="",$C13=""),"",IFERROR(VLOOKUP($C13,$Q$7:$S$106,3,FALSE),"")),"") | L13: =IFERROR(IF($A13="","",IF($C13="","Vessel or line needed",IF(NOT(ISNUMBER($E13)),"Required capacity needed",IF($F13="","Required capacity unit needed",IF(NOT(ISNUMBER($J13)),"Vessel or line capacity not found",IF($K13<>$F13,"Capacity units do not match",IF($E13<=$J13,"Capacity fits","Capacity exceeds vessel or line capacity"))))))),"") | M13: =IFERROR(IF(OR($A13="",$H13="",$H13=1),"",INDEX($A$7:$A$106,SUMPRODUCT(IFERROR(($C$7:$C$106=$C13)*($H$7:$H$106=$H13-1)*(ROW($A$7:$A$106)-ROW($A$7)+1),0)))),"") | N13: =IFERROR(IF(OR($A13="",$H13="",$H13=1),"",INDEX($D$7:$D$106,SUMPRODUCT(IFERROR(($C$7:$C$106=$C13)*($H$7:$H$106=$H13-1)*(ROW($D$7:$D$106)-ROW($D$7)+1),0)))),"") | O13: =IFERROR(IF($A13="","",IF($I13<>"Fits future sequence","",IF($H13=1,"First planned batch on vessel or line",IF(OR($D13="",$N13=""),"Changeover family needed",IF($D13=$N13,"Same family continuation","Changeover review needed"))))),"") | P13: =IFERROR(IF($A13="","",IF($I13="Fits future sequence","Scheduled","Unscheduled")),"")
A14: B-1008 | C14: Line 2 | D14: Blue | E14: 70 | F14: gallons | G14: =IFERROR(IF($I14<>"Fits future sequence","",SUMPRODUCT(--($I$7:$I$106="Fits future sequence"),--($B$7:$B$106<$B14))+SUMPRODUCT(--($I$7:$I14="Fits future sequence"),--($B$7:$B14=$B14))),"") | H14: =IFERROR(IF($I14<>"Fits future sequence","",SUMPRODUCT(--($I$7:$I$106="Fits future sequence"),--($C$7:$C$106=$C14),--($B$7:$B$106<$B14))+SUMPRODUCT(--($I$7:$I14="Fits future sequence"),--($C$7:$C14=$C14),--($B$7:$B14=$B14))),"") | I14: =IFERROR(IF($A14="","",IF(NOT(ISNUMBER($B14)),"Due date needed",IF($B14<TODAY(),"Due date is not future",IF($C14="","Vessel or line needed",IF($D14="","Changeover family needed",IF($L14="Capacity fits","Fits future sequence","Cannot fit future sequence")))))),"") | J14: =IFERROR(IF(OR($A14="",$C14=""),"",IFERROR(VLOOKUP($C14,$Q$7:$S$106,2,FALSE),"")),"") | K14: =IFERROR(IF(OR($A14="",$C14=""),"",IFERROR(VLOOKUP($C14,$Q$7:$S$106,3,FALSE),"")),"") | L14: =IFERROR(IF($A14="","",IF($C14="","Vessel or line needed",IF(NOT(ISNUMBER($E14)),"Required capacity needed",IF($F14="","Required capacity unit needed",IF(NOT(ISNUMBER($J14)),"Vessel or line capacity not found",IF($K14<>$F14,"Capacity units do not match",IF($E14<=$J14,"Capacity fits","Capacity exceeds vessel or line capacity"))))))),"") | M14: =IFERROR(IF(OR($A14="",$H14="",$H14=1),"",INDEX($A$7:$A$106,SUMPRODUCT(IFERROR(($C$7:$C$106=$C14)*($H$7:$H$106=$H14-1)*(ROW($A$7:$A$106)-ROW($A$7)+1),0)))),"") | N14: =IFERROR(IF(OR($A14="",$H14="",$H14=1),"",INDEX($D$7:$D$106,SUMPRODUCT(IFERROR(($C$7:$C$106=$C14)*($H$7:$H$106=$H14-1)*(ROW($D$7:$D$106)-ROW($D$7)+1),0)))),"") | O14: =IFERROR(IF($A14="","",IF($I14<>"Fits future sequence","",IF($H14=1,"First planned batch on vessel or line",IF(OR($D14="",$N14=""),"Changeover family needed",IF($D14=$N14,"Same family continuation","Changeover review needed"))))),"") | P14: =IFERROR(IF($A14="","",IF($I14="Fits future sequence","Scheduled","Unscheduled")),"")
A15: B-1009 | B15: 46303 | C15: Vessel 3 | D15: Green | E15: 120 | F15: pounds | G15: =IFERROR(IF($I15<>"Fits future sequence","",SUMPRODUCT(--($I$7:$I$106="Fits future sequence"),--($B$7:$B$106<$B15))+SUMPRODUCT(--($I$7:$I15="Fits future sequence"),--($B$7:$B15=$B15))),"") | H15: =IFERROR(IF($I15<>"Fits future sequence","",SUMPRODUCT(--($I$7:$I$106="Fits future sequence"),--($C$7:$C$106=$C15),--($B$7:$B$106<$B15))+SUMPRODUCT(--($I$7:$I15="Fits future sequence"),--($C$7:$C15=$C15),--($B$7:$B15=$B15))),"") | I15: =IFERROR(IF($A15="","",IF(NOT(ISNUMBER($B15)),"Due date needed",IF($B15<TODAY(),"Due date is not future",IF($C15="","Vessel or line needed",IF($D15="","Changeover family needed",IF($L15="Capacity fits","Fits future sequence","Cannot fit future sequence")))))),"") | J15: =IFERROR(IF(OR($A15="",$C15=""),"",IFERROR(VLOOKUP($C15,$Q$7:$S$106,2,FALSE),"")),"") | K15: =IFERROR(IF(OR($A15="",$C15=""),"",IFERROR(VLOOKUP($C15,$Q$7:$S$106,3,FALSE),"")),"") | L15: =IFERROR(IF($A15="","",IF($C15="","Vessel or line needed",IF(NOT(ISNUMBER($E15)),"Required capacity needed",IF($F15="","Required capacity unit needed",IF(NOT(ISNUMBER($J15)),"Vessel or line capacity not found",IF($K15<>$F15,"Capacity units do not match",IF($E15<=$J15,"Capacity fits","Capacity exceeds vessel or line capacity"))))))),"") | M15: =IFERROR(IF(OR($A15="",$H15="",$H15=1),"",INDEX($A$7:$A$106,SUMPRODUCT(IFERROR(($C$7:$C$106=$C15)*($H$7:$H$106=$H15-1)*(ROW($A$7:$A$106)-ROW($A$7)+1),0)))),"") | N15: =IFERROR(IF(OR($A15="",$H15="",$H15=1),"",INDEX($D$7:$D$106,SUMPRODUCT(IFERROR(($C$7:$C$106=$C15)*($H$7:$H$106=$H15-1)*(ROW($D$7:$D$106)-ROW($D$7)+1),0)))),"") | O15: =IFERROR(IF($A15="","",IF($I15<>"Fits future sequence","",IF($H15=1,"First planned batch on vessel or line",IF(OR($D15="",$N15=""),"Changeover family needed",IF($D15=$N15,"Same family continuation","Changeover review needed"))))),"") | P15: =IFERROR(IF($A15="","",IF($I15="Fits future sequence","Scheduled","Unscheduled")),"")
A16: B-1010 | B16: 46304 | C16: Vessel 3 | D16: Green | E16: 100 | F16: gallons | G16: =IFERROR(IF($I16<>"Fits future sequence","",SUMPRODUCT(--($I$7:$I$106="Fits future sequence"),--($B$7:$B$106<$B16))+SUMPRODUCT(--($I$7:$I16="Fits future sequence"),--($B$7:$B16=$B16))),"") | H16: =IFERROR(IF($I16<>"Fits future sequence","",SUMPRODUCT(--($I$7:$I$106="Fits future sequence"),--($C$7:$C$106=$C16),--($B$7:$B$106<$B16))+SUMPRODUCT(--($I$7:$I16="Fits future sequence"),--($C$7:$C16=$C16),--($B$7:$B16=$B16))),"") | I16: =IFERROR(IF($A16="","",IF(NOT(ISNUMBER($B16)),"Due date needed",IF($B16<TODAY(),"Due date is not future",IF($C16="","Vessel or line needed",IF($D16="","Changeover family needed",IF($L16="Capacity fits","Fits future sequence","Cannot fit future sequence")))))),"") | J16: =IFERROR(IF(OR($A16="",$C16=""),"",IFERROR(VLOOKUP($C16,$Q$7:$S$106,2,FALSE),"")),"") | K16: =IFERROR(IF(OR($A16="",$C16=""),"",IFERROR(VLOOKUP($C16,$Q$7:$S$106,3,FALSE),"")),"") | L16: =IFERROR(IF($A16="","",IF($C16="","Vessel or line needed",IF(NOT(ISNUMBER($E16)),"Required capacity needed",IF($F16="","Required capacity unit needed",IF(NOT(ISNUMBER($J16)),"Vessel or line capacity not found",IF($K16<>$F16,"Capacity units do not match",IF($E16<=$J16,"Capacity fits","Capacity exceeds vessel or line capacity"))))))),"") | M16: =IFERROR(IF(OR($A16="",$H16="",$H16=1),"",INDEX($A$7:$A$106,SUMPRODUCT(IFERROR(($C$7:$C$106=$C16)*($H$7:$H$106=$H16-1)*(ROW($A$7:$A$106)-ROW($A$7)+1),0)))),"") | N16: =IFERROR(IF(OR($A16="",$H16="",$H16=1),"",INDEX($D$7:$D$106,SUMPRODUCT(IFERROR(($C$7:$C$106=$C16)*($H$7:$H$106=$H16-1)*(ROW($D$7:$D$106)-ROW($D$7)+1),0)))),"") | O16: =IFERROR(IF($A16="","",IF($I16<>"Fits future sequence","",IF($H16=1,"First planned batch on vessel or line",IF(OR($D16="",$N16=""),"Changeover family needed",IF($D16=$N16,"Same family continuation","Changeover review needed"))))),"") | P16: =IFERROR(IF($A16="","",IF($I16="Fits future sequence","Scheduled","Unscheduled")),"")
G17: =IFERROR(IF($I17<>"Fits future sequence","",SUMPRODUCT(--($I$7:$I$106="Fits future sequence"),--($B$7:$B$106<$B17))+SUMPRODUCT(--($I$7:$I17="Fits future sequence"),--($B$7:$B17=$B17))),"") | H17: =IFERROR(IF($I17<>"Fits future sequence","",SUMPRODUCT(--($I$7:$I$106="Fits future sequence"),--($C$7:$C$106=$C17),--($B$7:$B$106<$B17))+SUMPRODUCT(--($I$7:$I17="Fits future sequence"),--($C$7:$C17=$C17),--($B$7:$B17=$B17))),"") | I17: =IFERROR(IF($A17="","",IF(NOT(ISNUMBER($B17)),"Due date needed",IF($B17<TODAY(),"Due date is not future",IF($C17="","Vessel or line needed",IF($D17="","Changeover family needed",IF($L17="Capacity fits","Fits future sequence","Cannot fit future sequence")))))),"") | J17: =IFERROR(IF(OR($A17="",$C17=""),"",IFERROR(VLOOKUP($C17,$Q$7:$S$106,2,FALSE),"")),"") | K17: =IFERROR(IF(OR($A17="",$C17=""),"",IFERROR(VLOOKUP($C17,$Q$7:$S$106,3,FALSE),"")),"") | L17: =IFERROR(IF($A17="","",IF($C17="","Vessel or line needed",IF(NOT(ISNUMBER($E17)),"Required capacity needed",IF($F17="","Required capacity unit needed",IF(NOT(ISNUMBER($J17)),"Vessel or line capacity not found",IF($K17<>$F17,"Capacity units do not match",IF($E17<=$J17,"Capacity fits","Capacity exceeds vessel or line capacity"))))))),"") | M17: =IFERROR(IF(OR($A17="",$H17="",$H17=1),"",INDEX($A$7:$A$106,SUMPRODUCT(IFERROR(($C$7:$C$106=$C17)*($H$7:$H$106=$H17-1)*(ROW($A$7:$A$106)-ROW($A$7)+1),0)))),"") | N17: =IFERROR(IF(OR($A17="",$H17="",$H17=1),"",INDEX($D$7:$D$106,SUMPRODUCT(IFERROR(($C$7:$C$106=$C17)*($H$7:$H$106=$H17-1)*(ROW($D$7:$D$106)-ROW($D$7)+1),0)))),"") | O17: =IFERROR(IF($A17="","",IF($I17<>"Fits future sequence","",IF($H17=1,"First planned batch on vessel or line",IF(OR($D17="",$N17=""),"Changeover family needed",IF($D17=$N17,"Same family continuation","Changeover review needed"))))),"") | P17: =IFERROR(IF($A17="","",IF($I17="Fits future sequence","Scheduled","Unscheduled")),"")
G18: =IFERROR(IF($I18<>"Fits future sequence","",SUMPRODUCT(--($I$7:$I$106="Fits future sequence"),--($B$7:$B$106<$B18))+SUMPRODUCT(--($I$7:$I18="Fits future sequence"),--($B$7:$B18=$B18))),"") | H18: =IFERROR(IF($I18<>"Fits future sequence","",SUMPRODUCT(--($I$7:$I$106="Fits future sequence"),--($C$7:$C$106=$C18),--($B$7:$B$106<$B18))+SUMPRODUCT(--($I$7:$I18="Fits future sequence"),--($C$7:$C18=$C18),--($B$7:$B18=$B18))),"") | I18: =IFERROR(IF($A18="","",IF(NOT(ISNUMBER($B18)),"Due date needed",IF($B18<TODAY(),"Due date is not future",IF($C18="","Vessel or line needed",IF($D18="","Changeover family needed",IF($L18="Capacity fits","Fits future sequence","Cannot fit future sequence")))))),"") | J18: =IFERROR(IF(OR($A18="",$C18=""),"",IFERROR(VLOOKUP($C18,$Q$7:$S$106,2,FALSE),"")),"") | K18: =IFERROR(IF(OR($A18="",$C18=""),"",IFERROR(VLOOKUP($C18,$Q$7:$S$106,3,FALSE),"")),"") | L18: =IFERROR(IF($A18="","",IF($C18="","Vessel or line needed",IF(NOT(ISNUMBER($E18)),"Required capacity needed",IF($F18="","Required capacity unit needed",IF(NOT(ISNUMBER($J18)),"Vessel or line capacity not found",IF($K18<>$F18,"Capacity units do not match",IF($E18<=$J18,"Capacity fits","Capacity exceeds vessel or line capacity"))))))),"") | M18: =IFERROR(IF(OR($A18="",$H18="",$H18=1),"",INDEX($A$7:$A$106,SUMPRODUCT(IFERROR(($C$7:$C$106=$C18)*($H$7:$H$106=$H18-1)*(ROW($A$7:$A$106)-ROW($A$7)+1),0)))),"") | N18: =IFERROR(IF(OR($A18="",$H18="",$H18=1),"",INDEX($D$7:$D$106,SUMPRODUCT(IFERROR(($C$7:$C$106=$C18)*($H$7:$H$106=$H18-1)*(ROW($D$7:$D$106)-ROW($D$7)+1),0)))),"") | O18: =IFERROR(IF($A18="","",IF($I18<>"Fits future sequence","",IF($H18=1,"First planned batch on vessel or line",IF(OR($D18="",$N18=""),"Changeover family needed",IF($D18=$N18,"Same family continuation","Changeover review needed"))))),"") | P18: =IFERROR(IF($A18="","",IF($I18="Fits future sequence","Scheduled","Unscheduled")),"")
G19: =IFERROR(IF($I19<>"Fits future sequence","",SUMPRODUCT(--($I$7:$I$106="Fits future sequence"),--($B$7:$B$106<$B19))+SUMPRODUCT(--($I$7:$I19="Fits future sequence"),--($B$7:$B19=$B19))),"") | H19: =IFERROR(IF($I19<>"Fits future sequence","",SUMPRODUCT(--($I$7:$I$106="Fits future sequence"),--($C$7:$C$106=$C19),--($B$7:$B$106<$B19))+SUMPRODUCT(--($I$7:$I19="Fits future sequence"),--($C$7:$C19=$C19),--($B$7:$B19=$B19))),"") | I19: =IFERROR(IF($A19="","",IF(NOT(ISNUMBER($B19)),"Due date needed",IF($B19<TODAY(),"Due date is not future",IF($C19="","Vessel or line needed",IF($D19="","Changeover family needed",IF($L19="Capacity fits","Fits future sequence","Cannot fit future sequence")))))),"") | J19: =IFERROR(IF(OR($A19="",$C19=""),"",IFERROR(VLOOKUP($C19,$Q$7:$S$106,2,FALSE),"")),"") | K19: =IFERROR(IF(OR($A19="",$C19=""),"",IFERROR(VLOOKUP($C19,$Q$7:$S$106,3,FALSE),"")),"") | L19: =IFERROR(IF($A19="","",IF($C19="","Vessel or line needed",IF(NOT(ISNUMBER($E19)),"Required capacity needed",IF($F19="","Required capacity unit needed",IF(NOT(ISNUMBER($J19)),"Vessel or line capacity not found",IF($K19<>$F19,"Capacity units do not match",IF($E19<=$J19,"Capacity fits","Capacity exceeds vessel or line capacity"))))))),"") | M19: =IFERROR(IF(OR($A19="",$H19="",$H19=1),"",INDEX($A$7:$A$106,SUMPRODUCT(IFERROR(($C$7:$C$106=$C19)*($H$7:$H$106=$H19-1)*(ROW($A$7:$A$106)-ROW($A$7)+1),0)))),"") | N19: =IFERROR(IF(OR($A19="",$H19="",$H19=1),"",INDEX($D$7:$D$106,SUMPRODUCT(IFERROR(($C$7:$C$106=$C19)*($H$7:$H$106=$H19-1)*(ROW($D$7:$D$106)-ROW($D$7)+1),0)))),"") | O19: =IFERROR(IF($A19="","",IF($I19<>"Fits future sequence","",IF($H19=1,"First planned batch on vessel or line",IF(OR($D19="",$N19=""),"Changeover family needed",IF($D19=$N19,"Same family continuation","Changeover review needed"))))),"") | P19: =IFERROR(IF($A19="","",IF($I19="Fits future sequence","Scheduled","Unscheduled")),"")
G20: =IFERROR(IF($I20<>"Fits future sequence","",SUMPRODUCT(--($I$7:$I$106="Fits future sequence"),--($B$7:$B$106<$B20))+SUMPRODUCT(--($I$7:$I20="Fits future sequence"),--($B$7:$B20=$B20))),"") | H20: =IFERROR(IF($I20<>"Fits future sequence","",SUMPRODUCT(--($I$7:$I$106="Fits future sequence"),--($C$7:$C$106=$C20),--($B$7:$B$106<$B20))+SUMPRODUCT(--($I$7:$I20="Fits future sequence"),--($C$7:$C20=$C20),--($B$7:$B20=$B20))),"") | I20: =IFERROR(IF($A20="","",IF(NOT(ISNUMBER($B20)),"Due date needed",IF($B20<TODAY(),"Due date is not future",IF($C20="","Vessel or line needed",IF($D20="","Changeover family needed",IF($L20="Capacity fits","Fits future sequence","Cannot fit future sequence")))))),"") | J20: =IFERROR(IF(OR($A20="",$C20=""),"",IFERROR(VLOOKUP($C20,$Q$7:$S$106,2,FALSE),"")),"") | K20: =IFERROR(IF(OR($A20="",$C20=""),"",IFERROR(VLOOKUP($C20,$Q$7:$S$106,3,FALSE),"")),"") | L20: =IFERROR(IF($A20="","",IF($C20="","Vessel or line needed",IF(NOT(ISNUMBER($E20)),"Required capacity needed",IF($F20="","Required capacity unit needed",IF(NOT(ISNUMBER($J20)),"Vessel or line capacity not found",IF($K20<>$F20,"Capacity units do not match",IF($E20<=$J20,"Capacity fits","Capacity exceeds vessel or line capacity"))))))),"") | M20: =IFERROR(IF(OR($A20="",$H20="",$H20=1),"",INDEX($A$7:$A$106,SUMPRODUCT(IFERROR(($C$7:$C$106=$C20)*($H$7:$H$106=$H20-1)*(ROW($A$7:$A$106)-ROW($A$7)+1),0)))),"") | N20: =IFERROR(IF(OR($A20="",$H20="",$H20=1),"",INDEX($D$7:$D$106,SUMPRODUCT(IFERROR(($C$7:$C$106=$C20)*($H$7:$H$106=$H20-1)*(ROW($D$7:$D$106)-ROW($D$7)+1),0)))),"") | O20: =IFERROR(IF($A20="","",IF($I20<>"Fits future sequence","",IF($H20=1,"First planned batch on vessel or line",IF(OR($D20="",$N20=""),"Changeover family needed",IF($D20=$N20,"Same family continuation","Changeover review needed"))))),"") | P20: =IFERROR(IF($A20="","",IF($I20="Fits future sequence","Scheduled","Unscheduled")),"")
G21: =IFERROR(IF($I21<>"Fits future sequence","",SUMPRODUCT(--($I$7:$I$106="Fits future sequence"),--($B$7:$B$106<$B21))+SUMPRODUCT(--($I$7:$I21="Fits future sequence"),--($B$7:$B21=$B21))),"") | H21: =IFERROR(IF($I21<>"Fits future sequence","",SUMPRODUCT(--($I$7:$I$106="Fits future sequence"),--($C$7:$C$106=$C21),--($B$7:$B$106<$B21))+SUMPRODUCT(--($I$7:$I21="Fits future sequence"),--($C$7:$C21=$C21),--($B$7:$B21=$B21))),"") | I21: =IFERROR(IF($A21="","",IF(NOT(ISNUMBER($B21)),"Due date needed",IF($B21<TODAY(),"Due date is not future",IF($C21="","Vessel or line needed",IF($D21="","Changeover family needed",IF($L21="Capacity fits","Fits future sequence","Cannot fit future sequence")))))),"") | J21: =IFERROR(IF(OR($A21="",$C21=""),"",IFERROR(VLOOKUP($C21,$Q$7:$S$106,2,FALSE),"")),"") | K21: =IFERROR(IF(OR($A21="",$C21=""),"",IFERROR(VLOOKUP($C21,$Q$7:$S$106,3,FALSE),"")),"") | L21: =IFERROR(IF($A21="","",IF($C21="","Vessel or line needed",IF(NOT(ISNUMBER($E21)),"Required capacity needed",IF($F21="","Required capacity unit needed",IF(NOT(ISNUMBER($J21)),"Vessel or line capacity not found",IF($K21<>$F21,"Capacity units do not match",IF($E21<=$J21,"Capacity fits","Capacity exceeds vessel or line capacity"))))))),"") | M21: =IFERROR(IF(OR($A21="",$H21="",$H21=1),"",INDEX($A$7:$A$106,SUMPRODUCT(IFERROR(($C$7:$C$106=$C21)*($H$7:$H$106=$H21-1)*(ROW($A$7:$A$106)-ROW($A$7)+1),0)))),"") | N21: =IFERROR(IF(OR($A21="",$H21="",$H21=1),"",INDEX($D$7:$D$106,SUMPRODUCT(IFERROR(($C$7:$C$106=$C21)*($H$7:$H$106=$H21-1)*(ROW($D$7:$D$106)-ROW($D$7)+1),0)))),"") | O21: =IFERROR(IF($A21="","",IF($I21<>"Fits future sequence","",IF($H21=1,"First planned batch on vessel or line",IF(OR($D21="",$N21=""),"Changeover family needed",IF($D21=$N21,"Same family continuation","Changeover review needed"))))),"") | P21: =IFERROR(IF($A21="","",IF($I21="Fits future sequence","Scheduled","Unscheduled")),"")
G22: =IFERROR(IF($I22<>"Fits future sequence","",SUMPRODUCT(--($I$7:$I$106="Fits future sequence"),--($B$7:$B$106<$B22))+SUMPRODUCT(--($I$7:$I22="Fits future sequence"),--($B$7:$B22=$B22))),"") | H22: =IFERROR(IF($I22<>"Fits future sequence","",SUMPRODUCT(--($I$7:$I$106="Fits future sequence"),--($C$7:$C$106=$C22),--($B$7:$B$106<$B22))+SUMPRODUCT(--($I$7:$I22="Fits future sequence"),--($C$7:$C22=$C22),--($B$7:$B22=$B22))),"") | I22: =IFERROR(IF($A22="","",IF(NOT(ISNUMBER($B22)),"Due date needed",IF($B22<TODAY(),"Due date is not future",IF($C22="","Vessel or line needed",IF($D22="","Changeover family needed",IF($L22="Capacity fits","Fits future sequence","Cannot fit future sequence")))))),"") | J22: =IFERROR(IF(OR($A22="",$C22=""),"",IFERROR(VLOOKUP($C22,$Q$7:$S$106,2,FALSE),"")),"") | K22: =IFERROR(IF(OR($A22="",$C22=""),"",IFERROR(VLOOKUP($C22,$Q$7:$S$106,3,FALSE),"")),"") | L22: =IFERROR(IF($A22="","",IF($C22="","Vessel or line needed",IF(NOT(ISNUMBER($E22)),"Required capacity needed",IF($F22="","Required capacity unit needed",IF(NOT(ISNUMBER($J22)),"Vessel or line capacity not found",IF($K22<>$F22,"Capacity units do not match",IF($E22<=$J22,"Capacity fits","Capacity exceeds vessel or line capacity"))))))),"") | M22: =IFERROR(IF(OR($A22="",$H22="",$H22=1),"",INDEX($A$7:$A$106,SUMPRODUCT(IFERROR(($C$7:$C$106=$C22)*($H$7:$H$106=$H22-1)*(ROW($A$7:$A$106)-ROW($A$7)+1),0)))),"") | N22: =IFERROR(IF(OR($A22="",$H22="",$H22=1),"",INDEX($D$7:$D$106,SUMPRODUCT(IFERROR(($C$7:$C$106=$C22)*($H$7:$H$106=$H22-1)*(ROW($D$7:$D$106)-ROW($D$7)+1),0)))),"") | O22: =IFERROR(IF($A22="","",IF($I22<>"Fits future sequence","",IF($H22=1,"First planned batch on vessel or line",IF(OR($D22="",$N22=""),"Changeover family needed",IF($D22=$N22,"Same family continuation","Changeover review needed"))))),"") | P22: =IFERROR(IF($A22="","",IF($I22="Fits future sequence","Scheduled","Unscheduled")),"")
G23: =IFERROR(IF($I23<>"Fits future sequence","",SUMPRODUCT(--($I$7:$I$106="Fits future sequence"),--($B$7:$B$106<$B23))+SUMPRODUCT(--($I$7:$I23="Fits future sequence"),--($B$7:$B23=$B23))),"") | H23: =IFERROR(IF($I23<>"Fits future sequence","",SUMPRODUCT(--($I$7:$I$106="Fits future sequence"),--($C$7:$C$106=$C23),--($B$7:$B$106<$B23))+SUMPRODUCT(--($I$7:$I23="Fits future sequence"),--($C$7:$C23=$C23),--($B$7:$B23=$B23))),"") | I23: =IFERROR(IF($A23="","",IF(NOT(ISNUMBER($B23)),"Due date needed",IF($B23<TODAY(),"Due date is not future",IF($C23="","Vessel or line needed",IF($D23="","Changeover family needed",IF($L23="Capacity fits","Fits future sequence","Cannot fit future sequence")))))),"") | J23: =IFERROR(IF(OR($A23="",$C23=""),"",IFERROR(VLOOKUP($C23,$Q$7:$S$106,2,FALSE),"")),"") | K23: =IFERROR(IF(OR($A23="",$C23=""),"",IFERROR(VLOOKUP($C23,$Q$7:$S$106,3,FALSE),"")),"") | L23: =IFERROR(IF($A23="","",IF($C23="","Vessel or line needed",IF(NOT(ISNUMBER($E23)),"Required capacity needed",IF($F23="","Required capacity unit needed",IF(NOT(ISNUMBER($J23)),"Vessel or line capacity not found",IF($K23<>$F23,"Capacity units do not match",IF($E23<=$J23,"Capacity fits","Capacity exceeds vessel or line capacity"))))))),"") | M23: =IFERROR(IF(OR($A23="",$H23="",$H23=1),"",INDEX($A$7:$A$106,SUMPRODUCT(IFERROR(($C$7:$C$106=$C23)*($H$7:$H$106=$H23-1)*(ROW($A$7:$A$106)-ROW($A$7)+1),0)))),"") | N23: =IFERROR(IF(OR($A23="",$H23="",$H23=1),"",INDEX($D$7:$D$106,SUMPRODUCT(IFERROR(($C$7:$C$106=$C23)*($H$7:$H$106=$H23-1)*(ROW($D$7:$D$106)-ROW($D$7)+1),0)))),"") | O23: =IFERROR(IF($A23="","",IF($I23<>"Fits future sequence","",IF($H23=1,"First planned batch on vessel or line",IF(OR($D23="",$N23=""),"Changeover family needed",IF($D23=$N23,"Same family continuation","Changeover review needed"))))),"") | P23: =IFERROR(IF($A23="","",IF($I23="Fits future sequence","Scheduled","Unscheduled")),"")
G24: =IFERROR(IF($I24<>"Fits future sequence","",SUMPRODUCT(--($I$7:$I$106="Fits future sequence"),--($B$7:$B$106<$B24))+SUMPRODUCT(--($I$7:$I24="Fits future sequence"),--($B$7:$B24=$B24))),"") | H24: =IFERROR(IF($I24<>"Fits future sequence","",SUMPRODUCT(--($I$7:$I$106="Fits future sequence"),--($C$7:$C$106=$C24),--($B$7:$B$106<$B24))+SUMPRODUCT(--($I$7:$I24="Fits future sequence"),--($C$7:$C24=$C24),--($B$7:$B24=$B24))),"") | I24: =IFERROR(IF($A24="","",IF(NOT(ISNUMBER($B24)),"Due date needed",IF($B24<TODAY(),"Due date is not future",IF($C24="","Vessel or line needed",IF($D24="","Changeover family needed",IF($L24="Capacity fits","Fits future sequence","Cannot fit future sequence")))))),"") | J24: =IFERROR(IF(OR($A24="",$C24=""),"",IFERROR(VLOOKUP($C24,$Q$7:$S$106,2,FALSE),"")),"") | K24: =IFERROR(IF(OR($A24="",$C24=""),"",IFERROR(VLOOKUP($C24,$Q$7:$S$106,3,FALSE),"")),"") | L24: =IFERROR(IF($A24="","",IF($C24="","Vessel or line needed",IF(NOT(ISNUMBER($E24)),"Required capacity needed",IF($F24="","Required capacity unit needed",IF(NOT(ISNUMBER($J24)),"Vessel or line capacity not found",IF($K24<>$F24,"Capacity units do not match",IF($E24<=$J24,"Capacity fits","Capacity exceeds vessel or line capacity"))))))),"") | M24: =IFERROR(IF(OR($A24="",$H24="",$H24=1),"",INDEX($A$7:$A$106,SUMPRODUCT(IFERROR(($C$7:$C$106=$C24)*($H$7:$H$106=$H24-1)*(ROW($A$7:$A$106)-ROW($A$7)+1),0)))),"") | N24: =IFERROR(IF(OR($A24="",$H24="",$H24=1),"",INDEX($D$7:$D$106,SUMPRODUCT(IFERROR(($C$7:$C$106=$C24)*($H$7:$H$106=$H24-1)*(ROW($D$7:$D$106)-ROW($D$7)+1),0)))),"") | O24: =IFERROR(IF($A24="","",IF($I24<>"Fits future sequence","",IF($H24=1,"First planned batch on vessel or line",IF(OR($D24="",$N24=""),"Changeover family needed",IF($D24=$N24,"Same family continuation","Changeover review needed"))))),"") | P24: =IFERROR(IF($A24="","",IF($I24="Fits future sequence","Scheduled","Unscheduled")),"")
G25: =IFERROR(IF($I25<>"Fits future sequence","",SUMPRODUCT(--($I$7:$I$106="Fits future sequence"),--($B$7:$B$106<$B25))+SUMPRODUCT(--($I$7:$I25="Fits future sequence"),--($B$7:$B25=$B25))),"") | H25: =IFERROR(IF($I25<>"Fits future sequence","",SUMPRODUCT(--($I$7:$I$106="Fits future sequence"),--($C$7:$C$106=$C25),--($B$7:$B$106<$B25))+SUMPRODUCT(--($I$7:$I25="Fits future sequence"),--($C$7:$C25=$C25),--($B$7:$B25=$B25))),"") | I25: =IFERROR(IF($A25="","",IF(NOT(ISNUMBER($B25)),"Due date needed",IF($B25<TODAY(),"Due date is not future",IF($C25="","Vessel or line needed",IF($D25="","Changeover family needed",IF($L25="Capacity fits","Fits future sequence","Cannot fit future sequence")))))),"") | J25: =IFERROR(IF(OR($A25="",$C25=""),"",IFERROR(VLOOKUP($C25,$Q$7:$S$106,2,FALSE),"")),"") | K25: =IFERROR(IF(OR($A25="",$C25=""),"",IFERROR(VLOOKUP($C25,$Q$7:$S$106,3,FALSE),"")),"") | L25: =IFERROR(IF($A25="","",IF($C25="","Vessel or line needed",IF(NOT(ISNUMBER($E25)),"Required capacity needed",IF($F25="","Required capacity unit needed",IF(NOT(ISNUMBER($J25)),"Vessel or line capacity not found",IF($K25<>$F25,"Capacity units do not match",IF($E25<=$J25,"Capacity fits","Capacity exceeds vessel or line capacity"))))))),"") | M25: =IFERROR(IF(OR($A25="",$H25="",$H25=1),"",INDEX($A$7:$A$106,SUMPRODUCT(IFERROR(($C$7:$C$106=$C25)*($H$7:$H$106=$H25-1)*(ROW($A$7:$A$106)-ROW($A$7)+1),0)))),"") | N25: =IFERROR(IF(OR($A25="",$H25="",$H25=1),"",INDEX($D$7:$D$106,SUMPRODUCT(IFERROR(($C$7:$C$106=$C25)*($H$7:$H$106=$H25-1)*(ROW($D$7:$D$106)-ROW($D$7)+1),0)))),"") | O25: =IFERROR(IF($A25="","",IF($I25<>"Fits future sequence","",IF($H25=1,"First planned batch on vessel or line",IF(OR($D25="",$N25=""),"Changeover family needed",IF($D25=$N25,"Same family continuation","Changeover review needed"))))),"") | P25: =IFERROR(IF($A25="","",IF($I25="Fits future sequence","Scheduled","Unscheduled")),"")
G26: =IFERROR(IF($I26<>"Fits future sequence","",SUMPRODUCT(--($I$7:$I$106="Fits future sequence"),--($B$7:$B$106<$B26))+SUMPRODUCT(--($I$7:$I26="Fits future sequence"),--($B$7:$B26=$B26))),"") | H26: =IFERROR(IF($I26<>"Fits future sequence","",SUMPRODUCT(--($I$7:$I$106="Fits future sequence"),--($C$7:$C$106=$C26),--($B$7:$B$106<$B26))+SUMPRODUCT(--($I$7:$I26="Fits future sequence"),--($C$7:$C26=$C26),--($B$7:$B26=$B26))),"") | I26: =IFERROR(IF($A26="","",IF(NOT(ISNUMBER($B26)),"Due date needed",IF($B26<TODAY(),"Due date is not future",IF($C26="","Vessel or line needed",IF($D26="","Changeover family needed",IF($L26="Capacity fits","Fits future sequence","Cannot fit future sequence")))))),"") | J26: =IFERROR(IF(OR($A26="",$C26=""),"",IFERROR(VLOOKUP($C26,$Q$7:$S$106,2,FALSE),"")),"") | K26: =IFERROR(IF(OR($A26="",$C26=""),"",IFERROR(VLOOKUP($C26,$Q$7:$S$106,3,FALSE),"")),"") | L26: =IFERROR(IF($A26="","",IF($C26="","Vessel or line needed",IF(NOT(ISNUMBER($E26)),"Required capacity needed",IF($F26="","Required capacity unit needed",IF(NOT(ISNUMBER($J26)),"Vessel or line capacity not found",IF($K26<>$F26,"Capacity units do not match",IF($E26<=$J26,"Capacity fits","Capacity exceeds vessel or line capacity"))))))),"") | M26: =IFERROR(IF(OR($A26="",$H26="",$H26=1),"",INDEX($A$7:$A$106,SUMPRODUCT(IFERROR(($C$7:$C$106=$C26)*($H$7:$H$106=$H26-1)*(ROW($A$7:$A$106)-ROW($A$7)+1),0)))),"") | N26: =IFERROR(IF(OR($A26="",$H26="",$H26=1),"",INDEX($D$7:$D$106,SUMPRODUCT(IFERROR(($C$7:$C$106=$C26)*($H$7:$H$106=$H26-1)*(ROW($D$7:$D$106)-ROW($D$7)+1),0)))),"") | O26: =IFERROR(IF($A26="","",IF($I26<>"Fits future sequence","",IF($H26=1,"First planned batch on vessel or line",IF(OR($D26="",$N26=""),"Changeover family needed",IF($D26=$N26,"Same family continuation","Changeover review needed"))))),"") | P26: =IFERROR(IF($A26="","",IF($I26="Fits future sequence","Scheduled","Unscheduled")),"")
G27: =IFERROR(IF($I27<>"Fits future sequence","",SUMPRODUCT(--($I$7:$I$106="Fits future sequence"),--($B$7:$B$106<$B27))+SUMPRODUCT(--($I$7:$I27="Fits future sequence"),--($B$7:$B27=$B27))),"") | H27: =IFERROR(IF($I27<>"Fits future sequence","",SUMPRODUCT(--($I$7:$I$106="Fits future sequence"),--($C$7:$C$106=$C27),--($B$7:$B$106<$B27))+SUMPRODUCT(--($I$7:$I27="Fits future sequence"),--($C$7:$C27=$C27),--($B$7:$B27=$B27))),"") | I27: =IFERROR(IF($A27="","",IF(NOT(ISNUMBER($B27)),"Due date needed",IF($B27<TODAY(),"Due date is not future",IF($C27="","Vessel or line needed",IF($D27="","Changeover family needed",IF($L27="Capacity fits","Fits future sequence","Cannot fit future sequence")))))),"") | J27: =IFERROR(IF(OR($A27="",$C27=""),"",IFERROR(VLOOKUP($C27,$Q$7:$S$106,2,FALSE),"")),"") | K27: =IFERROR(IF(OR($A27="",$C27=""),"",IFERROR(VLOOKUP($C27,$Q$7:$S$106,3,FALSE),"")),"") | L27: =IFERROR(IF($A27="","",IF($C27="","Vessel or line needed",IF(NOT(ISNUMBER($E27)),"Required capacity needed",IF($F27="","Required capacity unit needed",IF(NOT(ISNUMBER($J27)),"Vessel or line capacity not found",IF($K27<>$F27,"Capacity units do not match",IF($E27<=$J27,"Capacity fits","Capacity exceeds vessel or line capacity"))))))),"") | M27: =IFERROR(IF(OR($A27="",$H27="",$H27=1),"",INDEX($A$7:$A$106,SUMPRODUCT(IFERROR(($C$7:$C$106=$C27)*($H$7:$H$106=$H27-1)*(ROW($A$7:$A$106)-ROW($A$7)+1),0)))),"") | N27: =IFERROR(IF(OR($A27="",$H27="",$H27=1),"",INDEX($D$7:$D$106,SUMPRODUCT(IFERROR(($C$7:$C$106=$C27)*($H$7:$H$106=$H27-1)*(ROW($D$7:$D$106)-ROW($D$7)+1),0)))),"") | O27: =IFERROR(IF($A27="","",IF($I27<>"Fits future sequence","",IF($H27=1,"First planned batch on vessel or line",IF(OR($D27="",$N27=""),"Changeover family needed",IF($D27=$N27,"Same family continuation","Changeover review needed"))))),"") | P27: =IFERROR(IF($A27="","",IF($I27="Fits future sequence","Scheduled","Unscheduled")),"")
G28: =IFERROR(IF($I28<>"Fits future sequence","",SUMPRODUCT(--($I$7:$I$106="Fits future sequence"),--($B$7:$B$106<$B28))+SUMPRODUCT(--($I$7:$I28="Fits future sequence"),--($B$7:$B28=$B28))),"") | H28: =IFERROR(IF($I28<>"Fits future sequence","",SUMPRODUCT(--($I$7:$I$106="Fits future sequence"),--($C$7:$C$106=$C28),--($B$7:$B$106<$B28))+SUMPRODUCT(--($I$7:$I28="Fits future sequence"),--($C$7:$C28=$C28),--($B$7:$B28=$B28))),"") | I28: =IFERROR(IF($A28="","",IF(NOT(ISNUMBER($B28)),"Due date needed",IF($B28<TODAY(),"Due date is not future",IF($C28="","Vessel or line needed",IF($D28="","Changeover family needed",IF($L28="Capacity fits","Fits future sequence","Cannot fit future sequence")))))),"") | J28: =IFERROR(IF(OR($A28="",$C28=""),"",IFERROR(VLOOKUP($C28,$Q$7:$S$106,2,FALSE),"")),"") | K28: =IFERROR(IF(OR($A28="",$C28=""),"",IFERROR(VLOOKUP($C28,$Q$7:$S$106,3,FALSE),"")),"") | L28: =IFERROR(IF($A28="","",IF($C28="","Vessel or line needed",IF(NOT(ISNUMBER($E28)),"Required capacity needed",IF($F28="","Required capacity unit needed",IF(NOT(ISNUMBER($J28)),"Vessel or line capacity not found",IF($K28<>$F28,"Capacity units do not match",IF($E28<=$J28,"Capacity fits","Capacity exceeds vessel or line capacity"))))))),"") | M28: =IFERROR(IF(OR($A28="",$H28="",$H28=1),"",INDEX($A$7:$A$106,SUMPRODUCT(IFERROR(($C$7:$C$106=$C28)*($H$7:$H$106=$H28-1)*(ROW($A$7:$A$106)-ROW($A$7)+1),0)))),"") | N28: =IFERROR(IF(OR($A28="",$H28="",$H28=1),"",INDEX($D$7:$D$106,SUMPRODUCT(IFERROR(($C$7:$C$106=$C28)*($H$7:$H$106=$H28-1)*(ROW($D$7:$D$106)-ROW($D$7)+1),0)))),"") | O28: =IFERROR(IF($A28="","",IF($I28<>"Fits future sequence","",IF($H28=1,"First planned batch on vessel or line",IF(OR($D28="",$N28=""),"Changeover family needed",IF($D28=$N28,"Same family continuation","Changeover review needed"))))),"") | P28: =IFERROR(IF($A28="","",IF($I28="Fits future sequence","Scheduled","Unscheduled")),"")
... G106: =IFERROR(IF($I106<>"Fits future sequence","",SUMPRODUCT(--($I$7:$I$106="Fits future sequence"),--($B$7:$B$106<$B106))+SUMPRODUCT(--($I$7:$I106="Fits future sequence"),--($B$7:$B106=$B106))),"") | H106: =IFERROR(IF($I106<>"Fits future sequence","",SUMPRODUCT(--($I$7:$I$106="Fits future sequence"),--($C$7:$C$106=$C106),--($B$7:$B$106<$B106))+SUMPRODUCT(--($I$7:$I106="Fits future sequence"),--($C$7:$C106=$C106),--($B$7:$B106=$B106))),"") | I106: =IFERROR(IF($A106="","",IF(NOT(ISNUMBER($B106)),"Due date needed",IF($B106<TODAY(),"Due date is not future",IF($C106="","Vessel or line needed",IF($D106="","Changeover family needed",IF($L106="Capacity fits","Fits future sequence","Cannot fit future sequence")))))),"") | J106: =IFERROR(IF(OR($A106="",$C106=""),"",IFERROR(VLOOKUP($C106,$Q$7:$S$106,2,FALSE),"")),"") | K106: =IFERROR(IF(OR($A106="",$C106=""),"",IFERROR(VLOOKUP($C106,$Q$7:$S$106,3,FALSE),"")),"") | L106: =IFERROR(IF($A106="","",IF($C106="","Vessel or line needed",IF(NOT(ISNUMBER($E106)),"Required capacity needed",IF($F106="","Required capacity unit needed",IF(NOT(ISNUMBER($J106)),"Vessel or line capacity not found",IF($K106<>$F106,"Capacity units do not match",IF($E106<=$J106,"Capacity fits","Capacity exceeds vessel or line capacity"))))))),"") | M106: =IFERROR(IF(OR($A106="",$H106="",$H106=1),"",INDEX($A$7:$A$106,SUMPRODUCT(IFERROR(($C$7:$C$106=$C106)*($H$7:$H$106=$H106-1)*(ROW($A$7:$A$106)-ROW($A$7)+1),0)))),"") | N106: =IFERROR(IF(OR($A106="",$H106="",$H106=1),"",INDEX($D$7:$D$106,SUMPRODUCT(IFERROR(($C$7:$C$106=$C106)*($H$7:$H$106=$H106-1)*(ROW($D$7:$D$106)-ROW($D$7)+1),0)))),"") | O106: =IFERROR(IF($A106="","",IF($I106<>"Fits future sequence","",IF($H106=1,"First planned batch on vessel or line",IF(OR($D106="",$N106=""),"Changeover family needed",IF($D106=$N106,"Same family continuation","Changeover review needed"))))),"") | P106: =IFERROR(IF($A106="","",IF($I106="Fits future sequence","Scheduled","Unscheduled")),"")

Sheet Future Calendar & Exceptions
A1: Future Batch Calendar and Unscheduled Batch List
A2: The future batch calendar displays scheduled production batches in due-date order. Same-day batches follow their source-row order.
A3: Illustrative output may appear until the example input rows are replaced.
A6: Calendar Order | B6: Planned Batch ID | C6: Due Date | D6: Vessel or Line | E6: Changeover Family | F6: Required Capacity | G6: Capacity Unit | H6: Capacity Check | I6: Changeover Check | J6: Scheduling Result
A7: =IFERROR(IF(ROWS($A$7:A7)<=SUMPRODUCT(--('Batch Schedule'!$I$7:$I$106="Fits future sequence")),ROWS($A$7:A7),""),"") | B7: =IFERROR(IF($A7="","",INDEX('Batch Schedule'!$A$7:$A$106,MATCH($A7,'Batch Schedule'!$G$7:$G$106,0))),"") | C7: =IFERROR(IF($A7="","",INDEX('Batch Schedule'!$B$7:$B$106,MATCH($A7,'Batch Schedule'!$G$7:$G$106,0))),"") | D7: =IFERROR(IF($A7="","",INDEX('Batch Schedule'!$C$7:$C$106,MATCH($A7,'Batch Schedule'!$G$7:$G$106,0))),"") | E7: =IFERROR(IF($A7="","",INDEX('Batch Schedule'!$D$7:$D$106,MATCH($A7,'Batch Schedule'!$G$7:$G$106,0))),"") | F7: =IFERROR(IF($A7="","",INDEX('Batch Schedule'!$E$7:$E$106,MATCH($A7,'Batch Schedule'!$G$7:$G$106,0))),"") | G7: =IFERROR(IF($A7="","",INDEX('Batch Schedule'!$F$7:$F$106,MATCH($A7,'Batch Schedule'!$G$7:$G$106,0))),"") | H7: =IFERROR(IF($A7="","",INDEX('Batch Schedule'!$L$7:$L$106,MATCH($A7,'Batch Schedule'!$G$7:$G$106,0))),"") | I7: =IFERROR(IF($A7="","",INDEX('Batch Schedule'!$O$7:$O$106,MATCH($A7,'Batch Schedule'!$G$7:$G$106,0))),"") | J7: =IFERROR(IF($A7="","",INDEX('Batch Schedule'!$P$7:$P$106,MATCH($A7,'Batch Schedule'!$G$7:$G$106,0))),"")
A8: =IFERROR(IF(ROWS($A$7:A8)<=SUMPRODUCT(--('Batch Schedule'!$I$7:$I$106="Fits future sequence")),ROWS($A$7:A8),""),"") | B8: =IFERROR(IF($A8="","",INDEX('Batch Schedule'!$A$7:$A$106,MATCH($A8,'Batch Schedule'!$G$7:$G$106,0))),"") | C8: =IFERROR(IF($A8="","",INDEX('Batch Schedule'!$B$7:$B$106,MATCH($A8,'Batch Schedule'!$G$7:$G$106,0))),"") | D8: =IFERROR(IF($A8="","",INDEX('Batch Schedule'!$C$7:$C$106,MATCH($A8,'Batch Schedule'!$G$7:$G$106,0))),"") | E8: =IFERROR(IF($A8="","",INDEX('Batch Schedule'!$D$7:$D$106,MATCH($A8,'Batch Schedule'!$G$7:$G$106,0))),"") | F8: =IFERROR(IF($A8="","",INDEX('Batch Schedule'!$E$7:$E$106,MATCH($A8,'Batch Schedule'!$G$7:$G$106,0))),"") | G8: =IFERROR(IF($A8="","",INDEX('Batch Schedule'!$F$7:$F$106,MATCH($A8,'Batch Schedule'!$G$7:$G$106,0))),"") | H8: =IFERROR(IF($A8="","",INDEX('Batch Schedule'!$L$7:$L$106,MATCH($A8,'Batch Schedule'!$G$7:$G$106,0))),"") | I8: =IFERROR(IF($A8="","",INDEX('Batch Schedule'!$O$7:$O$106,MATCH($A8,'Batch Schedule'!$G$7:$G$106,0))),"") | J8: =IFERROR(IF($A8="","",INDEX('Batch Schedule'!$P$7:$P$106,MATCH($A8,'Batch Schedule'!$G$7:$G$106,0))),"")
A9: =IFERROR(IF(ROWS($A$7:A9)<=SUMPRODUCT(--('Batch Schedule'!$I$7:$I$106="Fits future sequence")),ROWS($A$7:A9),""),"") | B9: =IFERROR(IF($A9="","",INDEX('Batch Schedule'!$A$7:$A$106,MATCH($A9,'Batch Schedule'!$G$7:$G$106,0))),"") | C9: =IFERROR(IF($A9="","",INDEX('Batch Schedule'!$B$7:$B$106,MATCH($A9,'Batch Schedule'!$G$7:$G$106,0))),"") | D9: =IFERROR(IF($A9="","",INDEX('Batch Schedule'!$C$7:$C$106,MATCH($A9,'Batch Schedule'!$G$7:$G$106,0))),"") | E9: =IFERROR(IF($A9="","",INDEX('Batch Schedule'!$D$7:$D$106,MATCH($A9,'Batch Schedule'!$G$7:$G$106,0))),"") | F9: =IFERROR(IF($A9="","",INDEX('Batch Schedule'!$E$7:$E$106,MATCH($A9,'Batch Schedule'!$G$7:$G$106,0))),"") | G9: =IFERROR(IF($A9="","",INDEX('Batch Schedule'!$F$7:$F$106,MATCH($A9,'Batch Schedule'!$G$7:$G$106,0))),"") | H9: =IFERROR(IF($A9="","",INDEX('Batch Schedule'!$L$7:$L$106,MATCH($A9,'Batch Schedule'!$G$7:$G$106,0))),"") | I9: =IFERROR(IF($A9="","",INDEX('Batch Schedule'!$O$7:$O$106,MATCH($A9,'Batch Schedule'!$G$7:$G$106,0))),"") | J9: =IFERROR(IF($A9="","",INDEX('Batch Schedule'!$P$7:$P$106,MATCH($A9,'Batch Schedule'!$G$7:$G$106,0))),"")
