Workbook

Sheet Dashboard
A1: Production Line Balance
A2: Assembly station planning, execution register, and open exception list
A3: Enter or replace yellow cells on the Station Plan sheet. Dashboard and Execution Register results update from those entries.
A5: Current Output Snapshot
A6: Registered station records | B6: =COUNTIF('Station Plan'!$R$6:$R$105,"Included") | C6: Open exceptions | D6: =COUNTIF('Station Plan'!$P$6:$P$105,"Open Exception") | E6: Status progression needs review | F6: =COUNTIF('Station Plan'!$N$6:$N$105,"Needs review") | G6: Current status: Complete | H6: =COUNTIF('Station Plan'!$M$6:$M$105,"Complete")
A10: Open Exception List
A11: An open exception appears when status progression needs review or when entered planned and actual quantities or times do not match. The list shows the first 10 open exceptions in Station Plan order.
A13: Exception No. | B13: Assembly Station Identifier | C13: Reporting Period | D13: Owner or Responsible Role | E13: Work Order or Run ID | F13: Current Status | G13: Exception Detail
A14: =IF(ROWS($A$14:A14)<=COUNTIF('Station Plan'!$P$6:$P$105,"Open Exception"),ROWS($A$14:A14),"") | B14: =IF($A14="","",IFERROR(INDEX('Station Plan'!$C$6:$C$105,MATCH($A14,'Station Plan'!$T$6:$T$105,0)),"")) | C14: =IF($A14="","",IFERROR(INDEX('Station Plan'!$B$6:$B$105,MATCH($A14,'Station Plan'!$T$6:$T$105,0)),"")) | D14: =IF($A14="","",IFERROR(INDEX('Station Plan'!$D$6:$D$105,MATCH($A14,'Station Plan'!$T$6:$T$105,0)),"")) | E14: =IF($A14="","",IFERROR(INDEX('Station Plan'!$E$6:$E$105,MATCH($A14,'Station Plan'!$T$6:$T$105,0)),"")) | F14: =IF($A14="","",IFERROR(INDEX('Station Plan'!$M$6:$M$105,MATCH($A14,'Station Plan'!$T$6:$T$105,0)),"")) | G14: =IF($A14="","",IFERROR(INDEX('Station Plan'!$Q$6:$Q$105,MATCH($A14,'Station Plan'!$T$6:$T$105,0)),""))
A15: =IF(ROWS($A$14:A15)<=COUNTIF('Station Plan'!$P$6:$P$105,"Open Exception"),ROWS($A$14:A15),"") | B15: =IF($A15="","",IFERROR(INDEX('Station Plan'!$C$6:$C$105,MATCH($A15,'Station Plan'!$T$6:$T$105,0)),"")) | C15: =IF($A15="","",IFERROR(INDEX('Station Plan'!$B$6:$B$105,MATCH($A15,'Station Plan'!$T$6:$T$105,0)),"")) | D15: =IF($A15="","",IFERROR(INDEX('Station Plan'!$D$6:$D$105,MATCH($A15,'Station Plan'!$T$6:$T$105,0)),"")) | E15: =IF($A15="","",IFERROR(INDEX('Station Plan'!$E$6:$E$105,MATCH($A15,'Station Plan'!$T$6:$T$105,0)),"")) | F15: =IF($A15="","",IFERROR(INDEX('Station Plan'!$M$6:$M$105,MATCH($A15,'Station Plan'!$T$6:$T$105,0)),"")) | G15: =IF($A15="","",IFERROR(INDEX('Station Plan'!$Q$6:$Q$105,MATCH($A15,'Station Plan'!$T$6:$T$105,0)),""))
A16: =IF(ROWS($A$14:A16)<=COUNTIF('Station Plan'!$P$6:$P$105,"Open Exception"),ROWS($A$14:A16),"") | B16: =IF($A16="","",IFERROR(INDEX('Station Plan'!$C$6:$C$105,MATCH($A16,'Station Plan'!$T$6:$T$105,0)),"")) | C16: =IF($A16="","",IFERROR(INDEX('Station Plan'!$B$6:$B$105,MATCH($A16,'Station Plan'!$T$6:$T$105,0)),"")) | D16: =IF($A16="","",IFERROR(INDEX('Station Plan'!$D$6:$D$105,MATCH($A16,'Station Plan'!$T$6:$T$105,0)),"")) | E16: =IF($A16="","",IFERROR(INDEX('Station Plan'!$E$6:$E$105,MATCH($A16,'Station Plan'!$T$6:$T$105,0)),"")) | F16: =IF($A16="","",IFERROR(INDEX('Station Plan'!$M$6:$M$105,MATCH($A16,'Station Plan'!$T$6:$T$105,0)),"")) | G16: =IF($A16="","",IFERROR(INDEX('Station Plan'!$Q$6:$Q$105,MATCH($A16,'Station Plan'!$T$6:$T$105,0)),""))
A17: =IF(ROWS($A$14:A17)<=COUNTIF('Station Plan'!$P$6:$P$105,"Open Exception"),ROWS($A$14:A17),"") | B17: =IF($A17="","",IFERROR(INDEX('Station Plan'!$C$6:$C$105,MATCH($A17,'Station Plan'!$T$6:$T$105,0)),"")) | C17: =IF($A17="","",IFERROR(INDEX('Station Plan'!$B$6:$B$105,MATCH($A17,'Station Plan'!$T$6:$T$105,0)),"")) | D17: =IF($A17="","",IFERROR(INDEX('Station Plan'!$D$6:$D$105,MATCH($A17,'Station Plan'!$T$6:$T$105,0)),"")) | E17: =IF($A17="","",IFERROR(INDEX('Station Plan'!$E$6:$E$105,MATCH($A17,'Station Plan'!$T$6:$T$105,0)),"")) | F17: =IF($A17="","",IFERROR(INDEX('Station Plan'!$M$6:$M$105,MATCH($A17,'Station Plan'!$T$6:$T$105,0)),"")) | G17: =IF($A17="","",IFERROR(INDEX('Station Plan'!$Q$6:$Q$105,MATCH($A17,'Station Plan'!$T$6:$T$105,0)),""))
A18: =IF(ROWS($A$14:A18)<=COUNTIF('Station Plan'!$P$6:$P$105,"Open Exception"),ROWS($A$14:A18),"") | B18: =IF($A18="","",IFERROR(INDEX('Station Plan'!$C$6:$C$105,MATCH($A18,'Station Plan'!$T$6:$T$105,0)),"")) | C18: =IF($A18="","",IFERROR(INDEX('Station Plan'!$B$6:$B$105,MATCH($A18,'Station Plan'!$T$6:$T$105,0)),"")) | D18: =IF($A18="","",IFERROR(INDEX('Station Plan'!$D$6:$D$105,MATCH($A18,'Station Plan'!$T$6:$T$105,0)),"")) | E18: =IF($A18="","",IFERROR(INDEX('Station Plan'!$E$6:$E$105,MATCH($A18,'Station Plan'!$T$6:$T$105,0)),"")) | F18: =IF($A18="","",IFERROR(INDEX('Station Plan'!$M$6:$M$105,MATCH($A18,'Station Plan'!$T$6:$T$105,0)),"")) | G18: =IF($A18="","",IFERROR(INDEX('Station Plan'!$Q$6:$Q$105,MATCH($A18,'Station Plan'!$T$6:$T$105,0)),""))
A19: =IF(ROWS($A$14:A19)<=COUNTIF('Station Plan'!$P$6:$P$105,"Open Exception"),ROWS($A$14:A19),"") | B19: =IF($A19="","",IFERROR(INDEX('Station Plan'!$C$6:$C$105,MATCH($A19,'Station Plan'!$T$6:$T$105,0)),"")) | C19: =IF($A19="","",IFERROR(INDEX('Station Plan'!$B$6:$B$105,MATCH($A19,'Station Plan'!$T$6:$T$105,0)),"")) | D19: =IF($A19="","",IFERROR(INDEX('Station Plan'!$D$6:$D$105,MATCH($A19,'Station Plan'!$T$6:$T$105,0)),"")) | E19: =IF($A19="","",IFERROR(INDEX('Station Plan'!$E$6:$E$105,MATCH($A19,'Station Plan'!$T$6:$T$105,0)),"")) | F19: =IF($A19="","",IFERROR(INDEX('Station Plan'!$M$6:$M$105,MATCH($A19,'Station Plan'!$T$6:$T$105,0)),"")) | G19: =IF($A19="","",IFERROR(INDEX('Station Plan'!$Q$6:$Q$105,MATCH($A19,'Station Plan'!$T$6:$T$105,0)),""))
A20: =IF(ROWS($A$14:A20)<=COUNTIF('Station Plan'!$P$6:$P$105,"Open Exception"),ROWS($A$14:A20),"") | B20: =IF($A20="","",IFERROR(INDEX('Station Plan'!$C$6:$C$105,MATCH($A20,'Station Plan'!$T$6:$T$105,0)),"")) | C20: =IF($A20="","",IFERROR(INDEX('Station Plan'!$B$6:$B$105,MATCH($A20,'Station Plan'!$T$6:$T$105,0)),"")) | D20: =IF($A20="","",IFERROR(INDEX('Station Plan'!$D$6:$D$105,MATCH($A20,'Station Plan'!$T$6:$T$105,0)),"")) | E20: =IF($A20="","",IFERROR(INDEX('Station Plan'!$E$6:$E$105,MATCH($A20,'Station Plan'!$T$6:$T$105,0)),"")) | F20: =IF($A20="","",IFERROR(INDEX('Station Plan'!$M$6:$M$105,MATCH($A20,'Station Plan'!$T$6:$T$105,0)),"")) | G20: =IF($A20="","",IFERROR(INDEX('Station Plan'!$Q$6:$Q$105,MATCH($A20,'Station Plan'!$T$6:$T$105,0)),""))
A21: =IF(ROWS($A$14:A21)<=COUNTIF('Station Plan'!$P$6:$P$105,"Open Exception"),ROWS($A$14:A21),"") | B21: =IF($A21="","",IFERROR(INDEX('Station Plan'!$C$6:$C$105,MATCH($A21,'Station Plan'!$T$6:$T$105,0)),"")) | C21: =IF($A21="","",IFERROR(INDEX('Station Plan'!$B$6:$B$105,MATCH($A21,'Station Plan'!$T$6:$T$105,0)),"")) | D21: =IF($A21="","",IFERROR(INDEX('Station Plan'!$D$6:$D$105,MATCH($A21,'Station Plan'!$T$6:$T$105,0)),"")) | E21: =IF($A21="","",IFERROR(INDEX('Station Plan'!$E$6:$E$105,MATCH($A21,'Station Plan'!$T$6:$T$105,0)),"")) | F21: =IF($A21="","",IFERROR(INDEX('Station Plan'!$M$6:$M$105,MATCH($A21,'Station Plan'!$T$6:$T$105,0)),"")) | G21: =IF($A21="","",IFERROR(INDEX('Station Plan'!$Q$6:$Q$105,MATCH($A21,'Station Plan'!$T$6:$T$105,0)),""))
A22: =IF(ROWS($A$14:A22)<=COUNTIF('Station Plan'!$P$6:$P$105,"Open Exception"),ROWS($A$14:A22),"") | B22: =IF($A22="","",IFERROR(INDEX('Station Plan'!$C$6:$C$105,MATCH($A22,'Station Plan'!$T$6:$T$105,0)),"")) | C22: =IF($A22="","",IFERROR(INDEX('Station Plan'!$B$6:$B$105,MATCH($A22,'Station Plan'!$T$6:$T$105,0)),"")) | D22: =IF($A22="","",IFERROR(INDEX('Station Plan'!$D$6:$D$105,MATCH($A22,'Station Plan'!$T$6:$T$105,0)),"")) | E22: =IF($A22="","",IFERROR(INDEX('Station Plan'!$E$6:$E$105,MATCH($A22,'Station Plan'!$T$6:$T$105,0)),"")) | F22: =IF($A22="","",IFERROR(INDEX('Station Plan'!$M$6:$M$105,MATCH($A22,'Station Plan'!$T$6:$T$105,0)),"")) | G22: =IF($A22="","",IFERROR(INDEX('Station Plan'!$Q$6:$Q$105,MATCH($A22,'Station Plan'!$T$6:$T$105,0)),""))
A23: =IF(ROWS($A$14:A23)<=COUNTIF('Station Plan'!$P$6:$P$105,"Open Exception"),ROWS($A$14:A23),"") | B23: =IF($A23="","",IFERROR(INDEX('Station Plan'!$C$6:$C$105,MATCH($A23,'Station Plan'!$T$6:$T$105,0)),"")) | C23: =IF($A23="","",IFERROR(INDEX('Station Plan'!$B$6:$B$105,MATCH($A23,'Station Plan'!$T$6:$T$105,0)),"")) | D23: =IF($A23="","",IFERROR(INDEX('Station Plan'!$D$6:$D$105,MATCH($A23,'Station Plan'!$T$6:$T$105,0)),"")) | E23: =IF($A23="","",IFERROR(INDEX('Station Plan'!$E$6:$E$105,MATCH($A23,'Station Plan'!$T$6:$T$105,0)),"")) | F23: =IF($A23="","",IFERROR(INDEX('Station Plan'!$M$6:$M$105,MATCH($A23,'Station Plan'!$T$6:$T$105,0)),"")) | G23: =IF($A23="","",IFERROR(INDEX('Station Plan'!$Q$6:$Q$105,MATCH($A23,'Station Plan'!$T$6:$T$105,0)),""))
A24: ="" | B24: ="" | C24: ="" | D24: ="" | E24: ="" | F24: ="" | G24: =""
A25: ="" | B25: ="" | C25: ="" | D25: ="" | E25: ="" | F25: ="" | G25: =""
A26: ="" | B26: ="" | C26: ="" | D26: ="" | E26: ="" | F26: ="" | G26: =""
A27: ="" | B27: ="" | C27: ="" | D27: ="" | E27: ="" | F27: ="" | G27: =""
A28: ="" | B28: ="" | C28: ="" | D28: ="" | E28: ="" | F28: ="" | G28: =""
A29: ="" | B29: ="" | C29: ="" | D29: ="" | E29: ="" | F29: ="" | G29: =""
A30: ="" | B30: ="" | C30: ="" | D30: ="" | E30: ="" | F30: ="" | G30: =""
A31: ="" | B31: ="" | C31: ="" | D31: ="" | E31: ="" | F31: ="" | G31: =""
A32: ="" | B32: ="" | C32: ="" | D32: ="" | E32: ="" | F32: ="" | G32: =""
A33: ="" | B33: ="" | C33: ="" | D33: ="" | E33: ="" | F33: ="" | G33: =""
A34: ="" | B34: ="" | C34: ="" | D34: ="" | E34: ="" | F34: ="" | G34: =""
A35: ="" | B35: ="" | C35: ="" | D35: ="" | E35: ="" | F35: ="" | G35: =""
... A101: ="" | B101: ="" | C101: ="" | D101: ="" | E101: ="" | F101: ="" | G101: =""

Sheet Station Plan
A1: Station Plan
A2: Enter or replace yellow cells only: reporting period, assembly station identifier, owner or responsible role, work order or run ID, and planned and actual quantities or times.
A3: Planned-versus-actual checks compare entered quantities and times only when both values in a pair are numeric. Sample rows are provided in rows 6 through 13.
A5: Record No. | B5: Reporting Period | C5: Assembly Station Identifier | D5: Owner or Responsible Role | E5: Work Order or Run ID | F5: Planned Quantity (units) | G5: Actual Quantity (units) | H5: Quantity Variance (units) | I5: Planned Time (minutes) | J5: Actual Time (minutes) | K5: Time Variance (minutes) | L5: Previous Status | M5: Current Status | N5: Status Progression Check | O5: Planned-versus-Actual Check | P5: Open Exception | Q5: Exception Detail | R5: Execution Register Inclusion | S5: Register Sequence | T5: Exception Sequence
A6: =IF(C6="","",ROW()-5) | B6: 46023 | C6: Sample station 01 | D6: Sample role 01 | E6: Sample run 01 | F6: 100 | H6: =IF(OR(NOT(ISNUMBER(F6)),NOT(ISNUMBER(G6))),"",IFERROR(G6-F6,"")) | I6: 60 | K6: =IF(OR(NOT(ISNUMBER(I6)),NOT(ISNUMBER(J6))),"",IFERROR(J6-I6,"")) | M6: Planned | N6: =IF(OR(C6="",M6=""),"",IF(OR(AND(L6="",M6="Planned"),AND(L6="Planned",OR(M6="Planned",M6="In Progress")),AND(L6="In Progress",OR(M6="In Progress",M6="Complete")),AND(L6="Complete",M6="Complete")),"Valid","Needs review")) | O6: =IF(C6="","",IF(AND(ISNUMBER(F6),ISNUMBER(G6),ISNUMBER(I6),ISNUMBER(J6)),IF(AND(H6=0,K6=0),"Matches entered plan and actual values","Variance found"),IF(AND(ISNUMBER(F6),ISNUMBER(G6)),IF(H6=0,"Quantity matches entered values","Quantity variance found"),IF(AND(ISNUMBER(I6),ISNUMBER(J6)),IF(K6=0,"Time matches entered values","Time variance found"),"")))) | P6: =IF(C6="","",IF(OR(N6="Needs review",AND(ISNUMBER(H6),H6<>0),AND(ISNUMBER(K6),K6<>0)),"Open Exception","")) | Q6: =IF(P6<>"Open Exception","",IF(N6="Needs review","Status progression needs review","")&IF(AND(N6="Needs review",OR(AND(ISNUMBER(H6),H6<>0),AND(ISNUMBER(K6),K6<>0))),"; ","")&IF(AND(ISNUMBER(H6),H6<>0),"Quantity variance","")&IF(AND(ISNUMBER(H6),H6<>0,AND(ISNUMBER(K6),K6<>0)),"; ","")&IF(AND(ISNUMBER(K6),K6<>0),"Time variance","")) | R6: =IF(AND(B6<>"",C6<>"",D6<>"",E6<>"",M6<>""),"Included","") | S6: =IF(R6="Included",COUNTIF($R$6:R6,"Included"),"") | T6: =IF(P6="Open Exception",COUNTIF($P$6:P6,"Open Exception"),"")
A7: =IF(C7="","",ROW()-5) | B7: 46023 | C7: Sample station 02 | D7: Sample role 02 | E7: Sample run 02 | F7: 100 | G7: 90 | H7: =IF(OR(NOT(ISNUMBER(F7)),NOT(ISNUMBER(G7))),"",IFERROR(G7-F7,"")) | I7: 60 | J7: 55 | K7: =IF(OR(NOT(ISNUMBER(I7)),NOT(ISNUMBER(J7))),"",IFERROR(J7-I7,"")) | L7: Planned | M7: In Progress | N7: =IF(OR(C7="",M7=""),"",IF(OR(AND(L7="",M7="Planned"),AND(L7="Planned",OR(M7="Planned",M7="In Progress")),AND(L7="In Progress",OR(M7="In Progress",M7="Complete")),AND(L7="Complete",M7="Complete")),"Valid","Needs review")) | O7: =IF(C7="","",IF(AND(ISNUMBER(F7),ISNUMBER(G7),ISNUMBER(I7),ISNUMBER(J7)),IF(AND(H7=0,K7=0),"Matches entered plan and actual values","Variance found"),IF(AND(ISNUMBER(F7),ISNUMBER(G7)),IF(H7=0,"Quantity matches entered values","Quantity variance found"),IF(AND(ISNUMBER(I7),ISNUMBER(J7)),IF(K7=0,"Time matches entered values","Time variance found"),"")))) | P7: =IF(C7="","",IF(OR(N7="Needs review",AND(ISNUMBER(H7),H7<>0),AND(ISNUMBER(K7),K7<>0)),"Open Exception","")) | Q7: =IF(P7<>"Open Exception","",IF(N7="Needs review","Status progression needs review","")&IF(AND(N7="Needs review",OR(AND(ISNUMBER(H7),H7<>0),AND(ISNUMBER(K7),K7<>0))),"; ","")&IF(AND(ISNUMBER(H7),H7<>0),"Quantity variance","")&IF(AND(ISNUMBER(H7),H7<>0,AND(ISNUMBER(K7),K7<>0)),"; ","")&IF(AND(ISNUMBER(K7),K7<>0),"Time variance","")) | R7: =IF(AND(B7<>"",C7<>"",D7<>"",E7<>"",M7<>""),"Included","") | S7: =IF(R7="Included",COUNTIF($R$6:R7,"Included"),"") | T7: =IF(P7="Open Exception",COUNTIF($P$6:P7,"Open Exception"),"")
A8: =IF(C8="","",ROW()-5) | B8: 46023 | C8: Sample station 03 | D8: Sample role 03 | E8: Sample run 03 | F8: 100 | G8: 100 | H8: =IF(OR(NOT(ISNUMBER(F8)),NOT(ISNUMBER(G8))),"",IFERROR(G8-F8,"")) | I8: 60 | J8: 60 | K8: =IF(OR(NOT(ISNUMBER(I8)),NOT(ISNUMBER(J8))),"",IFERROR(J8-I8,"")) | L8: In Progress | M8: Complete | N8: =IF(OR(C8="",M8=""),"",IF(OR(AND(L8="",M8="Planned"),AND(L8="Planned",OR(M8="Planned",M8="In Progress")),AND(L8="In Progress",OR(M8="In Progress",M8="Complete")),AND(L8="Complete",M8="Complete")),"Valid","Needs review")) | O8: =IF(C8="","",IF(AND(ISNUMBER(F8),ISNUMBER(G8),ISNUMBER(I8),ISNUMBER(J8)),IF(AND(H8=0,K8=0),"Matches entered plan and actual values","Variance found"),IF(AND(ISNUMBER(F8),ISNUMBER(G8)),IF(H8=0,"Quantity matches entered values","Quantity variance found"),IF(AND(ISNUMBER(I8),ISNUMBER(J8)),IF(K8=0,"Time matches entered values","Time variance found"),"")))) | P8: =IF(C8="","",IF(OR(N8="Needs review",AND(ISNUMBER(H8),H8<>0),AND(ISNUMBER(K8),K8<>0)),"Open Exception","")) | Q8: =IF(P8<>"Open Exception","",IF(N8="Needs review","Status progression needs review","")&IF(AND(N8="Needs review",OR(AND(ISNUMBER(H8),H8<>0),AND(ISNUMBER(K8),K8<>0))),"; ","")&IF(AND(ISNUMBER(H8),H8<>0),"Quantity variance","")&IF(AND(ISNUMBER(H8),H8<>0,AND(ISNUMBER(K8),K8<>0)),"; ","")&IF(AND(ISNUMBER(K8),K8<>0),"Time variance","")) | R8: =IF(AND(B8<>"",C8<>"",D8<>"",E8<>"",M8<>""),"Included","") | S8: =IF(R8="Included",COUNTIF($R$6:R8,"Included"),"") | T8: =IF(P8="Open Exception",COUNTIF($P$6:P8,"Open Exception"),"")
A9: =IF(C9="","",ROW()-5) | B9: 46023 | C9: Sample station 04 | D9: Sample role 04 | E9: Sample run 04 | F9: 100 | G9: 110 | H9: =IF(OR(NOT(ISNUMBER(F9)),NOT(ISNUMBER(G9))),"",IFERROR(G9-F9,"")) | I9: 60 | J9: 65 | K9: =IF(OR(NOT(ISNUMBER(I9)),NOT(ISNUMBER(J9))),"",IFERROR(J9-I9,"")) | L9: In Progress | M9: Complete | N9: =IF(OR(C9="",M9=""),"",IF(OR(AND(L9="",M9="Planned"),AND(L9="Planned",OR(M9="Planned",M9="In Progress")),AND(L9="In Progress",OR(M9="In Progress",M9="Complete")),AND(L9="Complete",M9="Complete")),"Valid","Needs review")) | O9: =IF(C9="","",IF(AND(ISNUMBER(F9),ISNUMBER(G9),ISNUMBER(I9),ISNUMBER(J9)),IF(AND(H9=0,K9=0),"Matches entered plan and actual values","Variance found"),IF(AND(ISNUMBER(F9),ISNUMBER(G9)),IF(H9=0,"Quantity matches entered values","Quantity variance found"),IF(AND(ISNUMBER(I9),ISNUMBER(J9)),IF(K9=0,"Time matches entered values","Time variance found"),"")))) | P9: =IF(C9="","",IF(OR(N9="Needs review",AND(ISNUMBER(H9),H9<>0),AND(ISNUMBER(K9),K9<>0)),"Open Exception","")) | Q9: =IF(P9<>"Open Exception","",IF(N9="Needs review","Status progression needs review","")&IF(AND(N9="Needs review",OR(AND(ISNUMBER(H9),H9<>0),AND(ISNUMBER(K9),K9<>0))),"; ","")&IF(AND(ISNUMBER(H9),H9<>0),"Quantity variance","")&IF(AND(ISNUMBER(H9),H9<>0,AND(ISNUMBER(K9),K9<>0)),"; ","")&IF(AND(ISNUMBER(K9),K9<>0),"Time variance","")) | R9: =IF(AND(B9<>"",C9<>"",D9<>"",E9<>"",M9<>""),"Included","") | S9: =IF(R9="Included",COUNTIF($R$6:R9,"Included"),"") | T9: =IF(P9="Open Exception",COUNTIF($P$6:P9,"Open Exception"),"")
A10: =IF(C10="","",ROW()-5) | B10: 46030 | C10: Sample station 05 | D10: Sample role 05 | E10: Sample run 05 | F10: 100 | G10: 100 | H10: =IF(OR(NOT(ISNUMBER(F10)),NOT(ISNUMBER(G10))),"",IFERROR(G10-F10,"")) | I10: 60 | J10: 60 | K10: =IF(OR(NOT(ISNUMBER(I10)),NOT(ISNUMBER(J10))),"",IFERROR(J10-I10,"")) | L10: Planned | M10: Complete | N10: =IF(OR(C10="",M10=""),"",IF(OR(AND(L10="",M10="Planned"),AND(L10="Planned",OR(M10="Planned",M10="In Progress")),AND(L10="In Progress",OR(M10="In Progress",M10="Complete")),AND(L10="Complete",M10="Complete")),"Valid","Needs review")) | O10: =IF(C10="","",IF(AND(ISNUMBER(F10),ISNUMBER(G10),ISNUMBER(I10),ISNUMBER(J10)),IF(AND(H10=0,K10=0),"Matches entered plan and actual values","Variance found"),IF(AND(ISNUMBER(F10),ISNUMBER(G10)),IF(H10=0,"Quantity matches entered values","Quantity variance found"),IF(AND(ISNUMBER(I10),ISNUMBER(J10)),IF(K10=0,"Time matches entered values","Time variance found"),"")))) | P10: =IF(C10="","",IF(OR(N10="Needs review",AND(ISNUMBER(H10),H10<>0),AND(ISNUMBER(K10),K10<>0)),"Open Exception","")) | Q10: =IF(P10<>"Open Exception","",IF(N10="Needs review","Status progression needs review","")&IF(AND(N10="Needs review",OR(AND(ISNUMBER(H10),H10<>0),AND(ISNUMBER(K10),K10<>0))),"; ","")&IF(AND(ISNUMBER(H10),H10<>0),"Quantity variance","")&IF(AND(ISNUMBER(H10),H10<>0,AND(ISNUMBER(K10),K10<>0)),"; ","")&IF(AND(ISNUMBER(K10),K10<>0),"Time variance","")) | R10: =IF(AND(B10<>"",C10<>"",D10<>"",E10<>"",M10<>""),"Included","") | S10: =IF(R10="Included",COUNTIF($R$6:R10,"Included"),"") | T10: =IF(P10="Open Exception",COUNTIF($P$6:P10,"Open Exception"),"")
A11: =IF(C11="","",ROW()-5) | B11: 46030 | C11: Sample station 06 | D11: Sample role 06 | E11: Sample run 06 | F11: 80 | G11: 80 | H11: =IF(OR(NOT(ISNUMBER(F11)),NOT(ISNUMBER(G11))),"",IFERROR(G11-F11,"")) | I11: 50 | J11: 50 | K11: =IF(OR(NOT(ISNUMBER(I11)),NOT(ISNUMBER(J11))),"",IFERROR(J11-I11,"")) | L11: Planned | M11: In Progress | N11: =IF(OR(C11="",M11=""),"",IF(OR(AND(L11="",M11="Planned"),AND(L11="Planned",OR(M11="Planned",M11="In Progress")),AND(L11="In Progress",OR(M11="In Progress",M11="Complete")),AND(L11="Complete",M11="Complete")),"Valid","Needs review")) | O11: =IF(C11="","",IF(AND(ISNUMBER(F11),ISNUMBER(G11),ISNUMBER(I11),ISNUMBER(J11)),IF(AND(H11=0,K11=0),"Matches entered plan and actual values","Variance found"),IF(AND(ISNUMBER(F11),ISNUMBER(G11)),IF(H11=0,"Quantity matches entered values","Quantity variance found"),IF(AND(ISNUMBER(I11),ISNUMBER(J11)),IF(K11=0,"Time matches entered values","Time variance found"),"")))) | P11: =IF(C11="","",IF(OR(N11="Needs review",AND(ISNUMBER(H11),H11<>0),AND(ISNUMBER(K11),K11<>0)),"Open Exception","")) | Q11: =IF(P11<>"Open Exception","",IF(N11="Needs review","Status progression needs review","")&IF(AND(N11="Needs review",OR(AND(ISNUMBER(H11),H11<>0),AND(ISNUMBER(K11),K11<>0))),"; ","")&IF(AND(ISNUMBER(H11),H11<>0),"Quantity variance","")&IF(AND(ISNUMBER(H11),H11<>0,AND(ISNUMBER(K11),K11<>0)),"; ","")&IF(AND(ISNUMBER(K11),K11<>0),"Time variance","")) | R11: =IF(AND(B11<>"",C11<>"",D11<>"",E11<>"",M11<>""),"Included","") | S11: =IF(R11="Included",COUNTIF($R$6:R11,"Included"),"") | T11: =IF(P11="Open Exception",COUNTIF($P$6:P11,"Open Exception"),"")
A12: =IF(C12="","",ROW()-5) | B12: 46030 | C12: Sample station 07 | D12: Sample role 07 | E12: Sample run 07 | F12: 75 | G12: 70 | H12: =IF(OR(NOT(ISNUMBER(F12)),NOT(ISNUMBER(G12))),"",IFERROR(G12-F12,"")) | I12: 45 | K12: =IF(OR(NOT(ISNUMBER(I12)),NOT(ISNUMBER(J12))),"",IFERROR(J12-I12,"")) | L12: In Progress | M12: Complete | N12: =IF(OR(C12="",M12=""),"",IF(OR(AND(L12="",M12="Planned"),AND(L12="Planned",OR(M12="Planned",M12="In Progress")),AND(L12="In Progress",OR(M12="In Progress",M12="Complete")),AND(L12="Complete",M12="Complete")),"Valid","Needs review")) | O12: =IF(C12="","",IF(AND(ISNUMBER(F12),ISNUMBER(G12),ISNUMBER(I12),ISNUMBER(J12)),IF(AND(H12=0,K12=0),"Matches entered plan and actual values","Variance found"),IF(AND(ISNUMBER(F12),ISNUMBER(G12)),IF(H12=0,"Quantity matches entered values","Quantity variance found"),IF(AND(ISNUMBER(I12),ISNUMBER(J12)),IF(K12=0,"Time matches entered values","Time variance found"),"")))) | P12: =IF(C12="","",IF(OR(N12="Needs review",AND(ISNUMBER(H12),H12<>0),AND(ISNUMBER(K12),K12<>0)),"Open Exception","")) | Q12: =IF(P12<>"Open Exception","",IF(N12="Needs review","Status progression needs review","")&IF(AND(N12="Needs review",OR(AND(ISNUMBER(H12),H12<>0),AND(ISNUMBER(K12),K12<>0))),"; ","")&IF(AND(ISNUMBER(H12),H12<>0),"Quantity variance","")&IF(AND(ISNUMBER(H12),H12<>0,AND(ISNUMBER(K12),K12<>0)),"; ","")&IF(AND(ISNUMBER(K12),K12<>0),"Time variance","")) | R12: =IF(AND(B12<>"",C12<>"",D12<>"",E12<>"",M12<>""),"Included","") | S12: =IF(R12="Included",COUNTIF($R$6:R12,"Included"),"") | T12: =IF(P12="Open Exception",COUNTIF($P$6:P12,"Open Exception"),"")
A13: =IF(C13="","",ROW()-5) | B13: 46030 | C13: Sample station 08 | D13: Sample role 08 | E13: Sample run 08 | F13: 50 | H13: =IF(OR(NOT(ISNUMBER(F13)),NOT(ISNUMBER(G13))),"",IFERROR(G13-F13,"")) | I13: 30 | J13: 30 | K13: =IF(OR(NOT(ISNUMBER(I13)),NOT(ISNUMBER(J13))),"",IFERROR(J13-I13,"")) | L13: Complete | M13: Complete | N13: =IF(OR(C13="",M13=""),"",IF(OR(AND(L13="",M13="Planned"),AND(L13="Planned",OR(M13="Planned",M13="In Progress")),AND(L13="In Progress",OR(M13="In Progress",M13="Complete")),AND(L13="Complete",M13="Complete")),"Valid","Needs review")) | O13: =IF(C13="","",IF(AND(ISNUMBER(F13),ISNUMBER(G13),ISNUMBER(I13),ISNUMBER(J13)),IF(AND(H13=0,K13=0),"Matches entered plan and actual values","Variance found"),IF(AND(ISNUMBER(F13),ISNUMBER(G13)),IF(H13=0,"Quantity matches entered values","Quantity variance found"),IF(AND(ISNUMBER(I13),ISNUMBER(J13)),IF(K13=0,"Time matches entered values","Time variance found"),"")))) | P13: =IF(C13="","",IF(OR(N13="Needs review",AND(ISNUMBER(H13),H13<>0),AND(ISNUMBER(K13),K13<>0)),"Open Exception","")) | Q13: =IF(P13<>"Open Exception","",IF(N13="Needs review","Status progression needs review","")&IF(AND(N13="Needs review",OR(AND(ISNUMBER(H13),H13<>0),AND(ISNUMBER(K13),K13<>0))),"; ","")&IF(AND(ISNUMBER(H13),H13<>0),"Quantity variance","")&IF(AND(ISNUMBER(H13),H13<>0,AND(ISNUMBER(K13),K13<>0)),"; ","")&IF(AND(ISNUMBER(K13),K13<>0),"Time variance","")) | R13: =IF(AND(B13<>"",C13<>"",D13<>"",E13<>"",M13<>""),"Included","") | S13: =IF(R13="Included",COUNTIF($R$6:R13,"Included"),"") | T13: =IF(P13="Open Exception",COUNTIF($P$6:P13,"Open Exception"),"")
A14: =IF(C14="","",ROW()-5) | H14: =IF(OR(NOT(ISNUMBER(F14)),NOT(ISNUMBER(G14))),"",IFERROR(G14-F14,"")) | K14: =IF(OR(NOT(ISNUMBER(I14)),NOT(ISNUMBER(J14))),"",IFERROR(J14-I14,"")) | N14: =IF(OR(C14="",M14=""),"",IF(OR(AND(L14="",M14="Planned"),AND(L14="Planned",OR(M14="Planned",M14="In Progress")),AND(L14="In Progress",OR(M14="In Progress",M14="Complete")),AND(L14="Complete",M14="Complete")),"Valid","Needs review")) | O14: =IF(C14="","",IF(AND(ISNUMBER(F14),ISNUMBER(G14),ISNUMBER(I14),ISNUMBER(J14)),IF(AND(H14=0,K14=0),"Matches entered plan and actual values","Variance found"),IF(AND(ISNUMBER(F14),ISNUMBER(G14)),IF(H14=0,"Quantity matches entered values","Quantity variance found"),IF(AND(ISNUMBER(I14),ISNUMBER(J14)),IF(K14=0,"Time matches entered values","Time variance found"),"")))) | P14: =IF(C14="","",IF(OR(N14="Needs review",AND(ISNUMBER(H14),H14<>0),AND(ISNUMBER(K14),K14<>0)),"Open Exception","")) | Q14: =IF(P14<>"Open Exception","",IF(N14="Needs review","Status progression needs review","")&IF(AND(N14="Needs review",OR(AND(ISNUMBER(H14),H14<>0),AND(ISNUMBER(K14),K14<>0))),"; ","")&IF(AND(ISNUMBER(H14),H14<>0),"Quantity variance","")&IF(AND(ISNUMBER(H14),H14<>0,AND(ISNUMBER(K14),K14<>0)),"; ","")&IF(AND(ISNUMBER(K14),K14<>0),"Time variance","")) | R14: =IF(AND(B14<>"",C14<>"",D14<>"",E14<>"",M14<>""),"Included","") | S14: =IF(R14="Included",COUNTIF($R$6:R14,"Included"),"") | T14: =IF(P14="Open Exception",COUNTIF($P$6:P14,"Open Exception"),"")
A15: =IF(C15="","",ROW()-5) | H15: =IF(OR(NOT(ISNUMBER(F15)),NOT(ISNUMBER(G15))),"",IFERROR(G15-F15,"")) | K15: =IF(OR(NOT(ISNUMBER(I15)),NOT(ISNUMBER(J15))),"",IFERROR(J15-I15,"")) | N15: =IF(OR(C15="",M15=""),"",IF(OR(AND(L15="",M15="Planned"),AND(L15="Planned",OR(M15="Planned",M15="In Progress")),AND(L15="In Progress",OR(M15="In Progress",M15="Complete")),AND(L15="Complete",M15="Complete")),"Valid","Needs review")) | O15: =IF(C15="","",IF(AND(ISNUMBER(F15),ISNUMBER(G15),ISNUMBER(I15),ISNUMBER(J15)),IF(AND(H15=0,K15=0),"Matches entered plan and actual values","Variance found"),IF(AND(ISNUMBER(F15),ISNUMBER(G15)),IF(H15=0,"Quantity matches entered values","Quantity variance found"),IF(AND(ISNUMBER(I15),ISNUMBER(J15)),IF(K15=0,"Time matches entered values","Time variance found"),"")))) | P15: =IF(C15="","",IF(OR(N15="Needs review",AND(ISNUMBER(H15),H15<>0),AND(ISNUMBER(K15),K15<>0)),"Open Exception","")) | Q15: =IF(P15<>"Open Exception","",IF(N15="Needs review","Status progression needs review","")&IF(AND(N15="Needs review",OR(AND(ISNUMBER(H15),H15<>0),AND(ISNUMBER(K15),K15<>0))),"; ","")&IF(AND(ISNUMBER(H15),H15<>0),"Quantity variance","")&IF(AND(ISNUMBER(H15),H15<>0,AND(ISNUMBER(K15),K15<>0)),"; ","")&IF(AND(ISNUMBER(K15),K15<>0),"Time variance","")) | R15: =IF(AND(B15<>"",C15<>"",D15<>"",E15<>"",M15<>""),"Included","") | S15: =IF(R15="Included",COUNTIF($R$6:R15,"Included"),"") | T15: =IF(P15="Open Exception",COUNTIF($P$6:P15,"Open Exception"),"")
A16: =IF(C16="","",ROW()-5) | H16: =IF(OR(NOT(ISNUMBER(F16)),NOT(ISNUMBER(G16))),"",IFERROR(G16-F16,"")) | K16: =IF(OR(NOT(ISNUMBER(I16)),NOT(ISNUMBER(J16))),"",IFERROR(J16-I16,"")) | N16: =IF(OR(C16="",M16=""),"",IF(OR(AND(L16="",M16="Planned"),AND(L16="Planned",OR(M16="Planned",M16="In Progress")),AND(L16="In Progress",OR(M16="In Progress",M16="Complete")),AND(L16="Complete",M16="Complete")),"Valid","Needs review")) | O16: =IF(C16="","",IF(AND(ISNUMBER(F16),ISNUMBER(G16),ISNUMBER(I16),ISNUMBER(J16)),IF(AND(H16=0,K16=0),"Matches entered plan and actual values","Variance found"),IF(AND(ISNUMBER(F16),ISNUMBER(G16)),IF(H16=0,"Quantity matches entered values","Quantity variance found"),IF(AND(ISNUMBER(I16),ISNUMBER(J16)),IF(K16=0,"Time matches entered values","Time variance found"),"")))) | P16: =IF(C16="","",IF(OR(N16="Needs review",AND(ISNUMBER(H16),H16<>0),AND(ISNUMBER(K16),K16<>0)),"Open Exception","")) | Q16: =IF(P16<>"Open Exception","",IF(N16="Needs review","Status progression needs review","")&IF(AND(N16="Needs review",OR(AND(ISNUMBER(H16),H16<>0),AND(ISNUMBER(K16),K16<>0))),"; ","")&IF(AND(ISNUMBER(H16),H16<>0),"Quantity variance","")&IF(AND(ISNUMBER(H16),H16<>0,AND(ISNUMBER(K16),K16<>0)),"; ","")&IF(AND(ISNUMBER(K16),K16<>0),"Time variance","")) | R16: =IF(AND(B16<>"",C16<>"",D16<>"",E16<>"",M16<>""),"Included","") | S16: =IF(R16="Included",COUNTIF($R$6:R16,"Included"),"") | T16: =IF(P16="Open Exception",COUNTIF($P$6:P16,"Open Exception"),"")
A17: =IF(C17="","",ROW()-5) | H17: =IF(OR(NOT(ISNUMBER(F17)),NOT(ISNUMBER(G17))),"",IFERROR(G17-F17,"")) | K17: =IF(OR(NOT(ISNUMBER(I17)),NOT(ISNUMBER(J17))),"",IFERROR(J17-I17,"")) | N17: =IF(OR(C17="",M17=""),"",IF(OR(AND(L17="",M17="Planned"),AND(L17="Planned",OR(M17="Planned",M17="In Progress")),AND(L17="In Progress",OR(M17="In Progress",M17="Complete")),AND(L17="Complete",M17="Complete")),"Valid","Needs review")) | O17: =IF(C17="","",IF(AND(ISNUMBER(F17),ISNUMBER(G17),ISNUMBER(I17),ISNUMBER(J17)),IF(AND(H17=0,K17=0),"Matches entered plan and actual values","Variance found"),IF(AND(ISNUMBER(F17),ISNUMBER(G17)),IF(H17=0,"Quantity matches entered values","Quantity variance found"),IF(AND(ISNUMBER(I17),ISNUMBER(J17)),IF(K17=0,"Time matches entered values","Time variance found"),"")))) | P17: =IF(C17="","",IF(OR(N17="Needs review",AND(ISNUMBER(H17),H17<>0),AND(ISNUMBER(K17),K17<>0)),"Open Exception","")) | Q17: =IF(P17<>"Open Exception","",IF(N17="Needs review","Status progression needs review","")&IF(AND(N17="Needs review",OR(AND(ISNUMBER(H17),H17<>0),AND(ISNUMBER(K17),K17<>0))),"; ","")&IF(AND(ISNUMBER(H17),H17<>0),"Quantity variance","")&IF(AND(ISNUMBER(H17),H17<>0,AND(ISNUMBER(K17),K17<>0)),"; ","")&IF(AND(ISNUMBER(K17),K17<>0),"Time variance","")) | R17: =IF(AND(B17<>"",C17<>"",D17<>"",E17<>"",M17<>""),"Included","") | S17: =IF(R17="Included",COUNTIF($R$6:R17,"Included"),"") | T17: =IF(P17="Open Exception",COUNTIF($P$6:P17,"Open Exception"),"")
A18: =IF(C18="","",ROW()-5) | H18: =IF(OR(NOT(ISNUMBER(F18)),NOT(ISNUMBER(G18))),"",IFERROR(G18-F18,"")) | K18: =IF(OR(NOT(ISNUMBER(I18)),NOT(ISNUMBER(J18))),"",IFERROR(J18-I18,"")) | N18: =IF(OR(C18="",M18=""),"",IF(OR(AND(L18="",M18="Planned"),AND(L18="Planned",OR(M18="Planned",M18="In Progress")),AND(L18="In Progress",OR(M18="In Progress",M18="Complete")),AND(L18="Complete",M18="Complete")),"Valid","Needs review")) | O18: =IF(C18="","",IF(AND(ISNUMBER(F18),ISNUMBER(G18),ISNUMBER(I18),ISNUMBER(J18)),IF(AND(H18=0,K18=0),"Matches entered plan and actual values","Variance found"),IF(AND(ISNUMBER(F18),ISNUMBER(G18)),IF(H18=0,"Quantity matches entered values","Quantity variance found"),IF(AND(ISNUMBER(I18),ISNUMBER(J18)),IF(K18=0,"Time matches entered values","Time variance found"),"")))) | P18: =IF(C18="","",IF(OR(N18="Needs review",AND(ISNUMBER(H18),H18<>0),AND(ISNUMBER(K18),K18<>0)),"Open Exception","")) | Q18: =IF(P18<>"Open Exception","",IF(N18="Needs review","Status progression needs review","")&IF(AND(N18="Needs review",OR(AND(ISNUMBER(H18),H18<>0),AND(ISNUMBER(K18),K18<>0))),"; ","")&IF(AND(ISNUMBER(H18),H18<>0),"Quantity variance","")&IF(AND(ISNUMBER(H18),H18<>0,AND(ISNUMBER(K18),K18<>0)),"; ","")&IF(AND(ISNUMBER(K18),K18<>0),"Time variance","")) | R18: =IF(AND(B18<>"",C18<>"",D18<>"",E18<>"",M18<>""),"Included","") | S18: =IF(R18="Included",COUNTIF($R$6:R18,"Included"),"") | T18: =IF(P18="Open Exception",COUNTIF($P$6:P18,"Open Exception"),"")
A19: =IF(C19="","",ROW()-5) | H19: =IF(OR(NOT(ISNUMBER(F19)),NOT(ISNUMBER(G19))),"",IFERROR(G19-F19,"")) | K19: =IF(OR(NOT(ISNUMBER(I19)),NOT(ISNUMBER(J19))),"",IFERROR(J19-I19,"")) | N19: =IF(OR(C19="",M19=""),"",IF(OR(AND(L19="",M19="Planned"),AND(L19="Planned",OR(M19="Planned",M19="In Progress")),AND(L19="In Progress",OR(M19="In Progress",M19="Complete")),AND(L19="Complete",M19="Complete")),"Valid","Needs review")) | O19: =IF(C19="","",IF(AND(ISNUMBER(F19),ISNUMBER(G19),ISNUMBER(I19),ISNUMBER(J19)),IF(AND(H19=0,K19=0),"Matches entered plan and actual values","Variance found"),IF(AND(ISNUMBER(F19),ISNUMBER(G19)),IF(H19=0,"Quantity matches entered values","Quantity variance found"),IF(AND(ISNUMBER(I19),ISNUMBER(J19)),IF(K19=0,"Time matches entered values","Time variance found"),"")))) | P19: =IF(C19="","",IF(OR(N19="Needs review",AND(ISNUMBER(H19),H19<>0),AND(ISNUMBER(K19),K19<>0)),"Open Exception","")) | Q19: =IF(P19<>"Open Exception","",IF(N19="Needs review","Status progression needs review","")&IF(AND(N19="Needs review",OR(AND(ISNUMBER(H19),H19<>0),AND(ISNUMBER(K19),K19<>0))),"; ","")&IF(AND(ISNUMBER(H19),H19<>0),"Quantity variance","")&IF(AND(ISNUMBER(H19),H19<>0,AND(ISNUMBER(K19),K19<>0)),"; ","")&IF(AND(ISNUMBER(K19),K19<>0),"Time variance","")) | R19: =IF(AND(B19<>"",C19<>"",D19<>"",E19<>"",M19<>""),"Included","") | S19: =IF(R19="Included",COUNTIF($R$6:R19,"Included"),"") | T19: =IF(P19="Open Exception",COUNTIF($P$6:P19,"Open Exception"),"")
A20: =IF(C20="","",ROW()-5) | H20: =IF(OR(NOT(ISNUMBER(F20)),NOT(ISNUMBER(G20))),"",IFERROR(G20-F20,"")) | K20: =IF(OR(NOT(ISNUMBER(I20)),NOT(ISNUMBER(J20))),"",IFERROR(J20-I20,"")) | N20: =IF(OR(C20="",M20=""),"",IF(OR(AND(L20="",M20="Planned"),AND(L20="Planned",OR(M20="Planned",M20="In Progress")),AND(L20="In Progress",OR(M20="In Progress",M20="Complete")),AND(L20="Complete",M20="Complete")),"Valid","Needs review")) | O20: =IF(C20="","",IF(AND(ISNUMBER(F20),ISNUMBER(G20),ISNUMBER(I20),ISNUMBER(J20)),IF(AND(H20=0,K20=0),"Matches entered plan and actual values","Variance found"),IF(AND(ISNUMBER(F20),ISNUMBER(G20)),IF(H20=0,"Quantity matches entered values","Quantity variance found"),IF(AND(ISNUMBER(I20),ISNUMBER(J20)),IF(K20=0,"Time matches entered values","Time variance found"),"")))) | P20: =IF(C20="","",IF(OR(N20="Needs review",AND(ISNUMBER(H20),H20<>0),AND(ISNUMBER(K20),K20<>0)),"Open Exception","")) | Q20: =IF(P20<>"Open Exception","",IF(N20="Needs review","Status progression needs review","")&IF(AND(N20="Needs review",OR(AND(ISNUMBER(H20),H20<>0),AND(ISNUMBER(K20),K20<>0))),"; ","")&IF(AND(ISNUMBER(H20),H20<>0),"Quantity variance","")&IF(AND(ISNUMBER(H20),H20<>0,AND(ISNUMBER(K20),K20<>0)),"; ","")&IF(AND(ISNUMBER(K20),K20<>0),"Time variance","")) | R20: =IF(AND(B20<>"",C20<>"",D20<>"",E20<>"",M20<>""),"Included","") | S20: =IF(R20="Included",COUNTIF($R$6:R20,"Included"),"") | T20: =IF(P20="Open Exception",COUNTIF($P$6:P20,"Open Exception"),"")
A21: =IF(C21="","",ROW()-5) | H21: =IF(OR(NOT(ISNUMBER(F21)),NOT(ISNUMBER(G21))),"",IFERROR(G21-F21,"")) | K21: =IF(OR(NOT(ISNUMBER(I21)),NOT(ISNUMBER(J21))),"",IFERROR(J21-I21,"")) | N21: =IF(OR(C21="",M21=""),"",IF(OR(AND(L21="",M21="Planned"),AND(L21="Planned",OR(M21="Planned",M21="In Progress")),AND(L21="In Progress",OR(M21="In Progress",M21="Complete")),AND(L21="Complete",M21="Complete")),"Valid","Needs review")) | O21: =IF(C21="","",IF(AND(ISNUMBER(F21),ISNUMBER(G21),ISNUMBER(I21),ISNUMBER(J21)),IF(AND(H21=0,K21=0),"Matches entered plan and actual values","Variance found"),IF(AND(ISNUMBER(F21),ISNUMBER(G21)),IF(H21=0,"Quantity matches entered values","Quantity variance found"),IF(AND(ISNUMBER(I21),ISNUMBER(J21)),IF(K21=0,"Time matches entered values","Time variance found"),"")))) | P21: =IF(C21="","",IF(OR(N21="Needs review",AND(ISNUMBER(H21),H21<>0),AND(ISNUMBER(K21),K21<>0)),"Open Exception","")) | Q21: =IF(P21<>"Open Exception","",IF(N21="Needs review","Status progression needs review","")&IF(AND(N21="Needs review",OR(AND(ISNUMBER(H21),H21<>0),AND(ISNUMBER(K21),K21<>0))),"; ","")&IF(AND(ISNUMBER(H21),H21<>0),"Quantity variance","")&IF(AND(ISNUMBER(H21),H21<>0,AND(ISNUMBER(K21),K21<>0)),"; ","")&IF(AND(ISNUMBER(K21),K21<>0),"Time variance","")) | R21: =IF(AND(B21<>"",C21<>"",D21<>"",E21<>"",M21<>""),"Included","") | S21: =IF(R21="Included",COUNTIF($R$6:R21,"Included"),"") | T21: =IF(P21="Open Exception",COUNTIF($P$6:P21,"Open Exception"),"")
A22: =IF(C22="","",ROW()-5) | H22: =IF(OR(NOT(ISNUMBER(F22)),NOT(ISNUMBER(G22))),"",IFERROR(G22-F22,"")) | K22: =IF(OR(NOT(ISNUMBER(I22)),NOT(ISNUMBER(J22))),"",IFERROR(J22-I22,"")) | N22: =IF(OR(C22="",M22=""),"",IF(OR(AND(L22="",M22="Planned"),AND(L22="Planned",OR(M22="Planned",M22="In Progress")),AND(L22="In Progress",OR(M22="In Progress",M22="Complete")),AND(L22="Complete",M22="Complete")),"Valid","Needs review")) | O22: =IF(C22="","",IF(AND(ISNUMBER(F22),ISNUMBER(G22),ISNUMBER(I22),ISNUMBER(J22)),IF(AND(H22=0,K22=0),"Matches entered plan and actual values","Variance found"),IF(AND(ISNUMBER(F22),ISNUMBER(G22)),IF(H22=0,"Quantity matches entered values","Quantity variance found"),IF(AND(ISNUMBER(I22),ISNUMBER(J22)),IF(K22=0,"Time matches entered values","Time variance found"),"")))) | P22: =IF(C22="","",IF(OR(N22="Needs review",AND(ISNUMBER(H22),H22<>0),AND(ISNUMBER(K22),K22<>0)),"Open Exception","")) | Q22: =IF(P22<>"Open Exception","",IF(N22="Needs review","Status progression needs review","")&IF(AND(N22="Needs review",OR(AND(ISNUMBER(H22),H22<>0),AND(ISNUMBER(K22),K22<>0))),"; ","")&IF(AND(ISNUMBER(H22),H22<>0),"Quantity variance","")&IF(AND(ISNUMBER(H22),H22<>0,AND(ISNUMBER(K22),K22<>0)),"; ","")&IF(AND(ISNUMBER(K22),K22<>0),"Time variance","")) | R22: =IF(AND(B22<>"",C22<>"",D22<>"",E22<>"",M22<>""),"Included","") | S22: =IF(R22="Included",COUNTIF($R$6:R22,"Included"),"") | T22: =IF(P22="Open Exception",COUNTIF($P$6:P22,"Open Exception"),"")
A23: =IF(C23="","",ROW()-5) | H23: =IF(OR(NOT(ISNUMBER(F23)),NOT(ISNUMBER(G23))),"",IFERROR(G23-F23,"")) | K23: =IF(OR(NOT(ISNUMBER(I23)),NOT(ISNUMBER(J23))),"",IFERROR(J23-I23,"")) | N23: =IF(OR(C23="",M23=""),"",IF(OR(AND(L23="",M23="Planned"),AND(L23="Planned",OR(M23="Planned",M23="In Progress")),AND(L23="In Progress",OR(M23="In Progress",M23="Complete")),AND(L23="Complete",M23="Complete")),"Valid","Needs review")) | O23: =IF(C23="","",IF(AND(ISNUMBER(F23),ISNUMBER(G23),ISNUMBER(I23),ISNUMBER(J23)),IF(AND(H23=0,K23=0),"Matches entered plan and actual values","Variance found"),IF(AND(ISNUMBER(F23),ISNUMBER(G23)),IF(H23=0,"Quantity matches entered values","Quantity variance found"),IF(AND(ISNUMBER(I23),ISNUMBER(J23)),IF(K23=0,"Time matches entered values","Time variance found"),"")))) | P23: =IF(C23="","",IF(OR(N23="Needs review",AND(ISNUMBER(H23),H23<>0),AND(ISNUMBER(K23),K23<>0)),"Open Exception","")) | Q23: =IF(P23<>"Open Exception","",IF(N23="Needs review","Status progression needs review","")&IF(AND(N23="Needs review",OR(AND(ISNUMBER(H23),H23<>0),AND(ISNUMBER(K23),K23<>0))),"; ","")&IF(AND(ISNUMBER(H23),H23<>0),"Quantity variance","")&IF(AND(ISNUMBER(H23),H23<>0,AND(ISNUMBER(K23),K23<>0)),"; ","")&IF(AND(ISNUMBER(K23),K23<>0),"Time variance","")) | R23: =IF(AND(B23<>"",C23<>"",D23<>"",E23<>"",M23<>""),"Included","") | S23: =IF(R23="Included",COUNTIF($R$6:R23,"Included"),"") | T23: =IF(P23="Open Exception",COUNTIF($P$6:P23,"Open Exception"),"")
A24: =IF(C24="","",ROW()-5) | H24: =IF(OR(NOT(ISNUMBER(F24)),NOT(ISNUMBER(G24))),"",IFERROR(G24-F24,"")) | K24: =IF(OR(NOT(ISNUMBER(I24)),NOT(ISNUMBER(J24))),"",IFERROR(J24-I24,"")) | N24: =IF(OR(C24="",M24=""),"",IF(OR(AND(L24="",M24="Planned"),AND(L24="Planned",OR(M24="Planned",M24="In Progress")),AND(L24="In Progress",OR(M24="In Progress",M24="Complete")),AND(L24="Complete",M24="Complete")),"Valid","Needs review")) | O24: =IF(C24="","",IF(AND(ISNUMBER(F24),ISNUMBER(G24),ISNUMBER(I24),ISNUMBER(J24)),IF(AND(H24=0,K24=0),"Matches entered plan and actual values","Variance found"),IF(AND(ISNUMBER(F24),ISNUMBER(G24)),IF(H24=0,"Quantity matches entered values","Quantity variance found"),IF(AND(ISNUMBER(I24),ISNUMBER(J24)),IF(K24=0,"Time matches entered values","Time variance found"),"")))) | P24: =IF(C24="","",IF(OR(N24="Needs review",AND(ISNUMBER(H24),H24<>0),AND(ISNUMBER(K24),K24<>0)),"Open Exception","")) | Q24: =IF(P24<>"Open Exception","",IF(N24="Needs review","Status progression needs review","")&IF(AND(N24="Needs review",OR(AND(ISNUMBER(H24),H24<>0),AND(ISNUMBER(K24),K24<>0))),"; ","")&IF(AND(ISNUMBER(H24),H24<>0),"Quantity variance","")&IF(AND(ISNUMBER(H24),H24<>0,AND(ISNUMBER(K24),K24<>0)),"; ","")&IF(AND(ISNUMBER(K24),K24<>0),"Time variance","")) | R24: =IF(AND(B24<>"",C24<>"",D24<>"",E24<>"",M24<>""),"Included","") | S24: =IF(R24="Included",COUNTIF($R$6:R24,"Included"),"") | T24: =IF(P24="Open Exception",COUNTIF($P$6:P24,"Open Exception"),"")
A25: =IF(C25="","",ROW()-5) | H25: =IF(OR(NOT(ISNUMBER(F25)),NOT(ISNUMBER(G25))),"",IFERROR(G25-F25,"")) | K25: =IF(OR(NOT(ISNUMBER(I25)),NOT(ISNUMBER(J25))),"",IFERROR(J25-I25,"")) | N25: =IF(OR(C25="",M25=""),"",IF(OR(AND(L25="",M25="Planned"),AND(L25="Planned",OR(M25="Planned",M25="In Progress")),AND(L25="In Progress",OR(M25="In Progress",M25="Complete")),AND(L25="Complete",M25="Complete")),"Valid","Needs review")) | O25: =IF(C25="","",IF(AND(ISNUMBER(F25),ISNUMBER(G25),ISNUMBER(I25),ISNUMBER(J25)),IF(AND(H25=0,K25=0),"Matches entered plan and actual values","Variance found"),IF(AND(ISNUMBER(F25),ISNUMBER(G25)),IF(H25=0,"Quantity matches entered values","Quantity variance found"),IF(AND(ISNUMBER(I25),ISNUMBER(J25)),IF(K25=0,"Time matches entered values","Time variance found"),"")))) | P25: =IF(C25="","",IF(OR(N25="Needs review",AND(ISNUMBER(H25),H25<>0),AND(ISNUMBER(K25),K25<>0)),"Open Exception","")) | Q25: =IF(P25<>"Open Exception","",IF(N25="Needs review","Status progression needs review","")&IF(AND(N25="Needs review",OR(AND(ISNUMBER(H25),H25<>0),AND(ISNUMBER(K25),K25<>0))),"; ","")&IF(AND(ISNUMBER(H25),H25<>0),"Quantity variance","")&IF(AND(ISNUMBER(H25),H25<>0,AND(ISNUMBER(K25),K25<>0)),"; ","")&IF(AND(ISNUMBER(K25),K25<>0),"Time variance","")) | R25: =IF(AND(B25<>"",C25<>"",D25<>"",E25<>"",M25<>""),"Included","") | S25: =IF(R25="Included",COUNTIF($R$6:R25,"Included"),"") | T25: =IF(P25="Open Exception",COUNTIF($P$6:P25,"Open Exception"),"")
... A105: =IF(C105="","",ROW()-5) | H105: =IF(OR(NOT(ISNUMBER(F105)),NOT(ISNUMBER(G105))),"",IFERROR(G105-F105,"")) | K105: =IF(OR(NOT(ISNUMBER(I105)),NOT(ISNUMBER(J105))),"",IFERROR(J105-I105,"")) | N105: =IF(OR(C105="",M105=""),"",IF(OR(AND(L105="",M105="Planned"),AND(L105="Planned",OR(M105="Planned",M105="In Progress")),AND(L105="In Progress",OR(M105="In Progress",M105="Complete")),AND(L105="Complete",M105="Complete")),"Valid","Needs review")) | O105: =IF(C105="","",IF(AND(ISNUMBER(F105),ISNUMBER(G105),ISNUMBER(I105),ISNUMBER(J105)),IF(AND(H105=0,K105=0),"Matches entered plan and actual values","Variance found"),IF(AND(ISNUMBER(F105),ISNUMBER(G105)),IF(H105=0,"Quantity matches entered values","Quantity variance found"),IF(AND(ISNUMBER(I105),ISNUMBER(J105)),IF(K105=0,"Time matches entered values","Time variance found"),"")))) | P105: =IF(C105="","",IF(OR(N105="Needs review",AND(ISNUMBER(H105),H105<>0),AND(ISNUMBER(K105),K105<>0)),"Open Exception","")) | Q105: =IF(P105<>"Open Exception","",IF(N105="Needs review","Status progression needs review","")&IF(AND(N105="Needs review",OR(AND(ISNUMBER(H105),H105<>0),AND(ISNUMBER(K105),K105<>0))),"; ","")&IF(AND(ISNUMBER(H105),H105<>0),"Quantity variance","")&IF(AND(ISNUMBER(H105),H105<>0,AND(ISNUMBER(K105),K105<>0)),"; ","")&IF(AND(ISNUMBER(K105),K105<>0),"Time variance","")) | R105: =IF(AND(B105<>"",C105<>"",D105<>"",E105<>"",M105<>""),"Included","") | S105: =IF(R105="Included",COUNTIF($R$6:R105,"Included"),"") | T105: =IF(P105="Open Exception",COUNTIF($P$6:P105,"Open Exception"),"")

Sheet Execution Register
A1: Execution Register
A2: This output lists Station Plan records marked Included. Return to Station Plan to enter or change information.
A3: Open Exception and Exception Detail values identify current status progression or planned-versus-actual differences.
A5: Register No. | B5: Source Record No. | C5: Reporting Period | D5: Assembly Station Identifier | E5: Owner or Responsible Role | F5: Work Order or Run ID | G5: Planned Quantity (units) | H5: Actual Quantity (units) | I5: Quantity Variance (units) | J5: Planned Time (minutes) | K5: Actual Time (minutes) | L5: Time Variance (minutes) | M5: Previous Status | N5: Current Status | O5: Status Progression Check | P5: Planned-versus-Actual Check | Q5: Open Exception | R5: Exception Detail
A6: =IF(ROWS($A$6:A6)<=COUNTIF('Station Plan'!$R$6:$R$105,"Included"),ROWS($A$6:A6),"") | B6: =IF($A6="","",IFERROR(INDEX('Station Plan'!$A$6:$A$105,MATCH($A6,'Station Plan'!$S$6:$S$105,0)),"")) | C6: =IF($A6="","",IFERROR(INDEX('Station Plan'!$B$6:$B$105,MATCH($A6,'Station Plan'!$S$6:$S$105,0)),"")) | D6: =IF($A6="","",IFERROR(INDEX('Station Plan'!$C$6:$C$105,MATCH($A6,'Station Plan'!$S$6:$S$105,0)),"")) | E6: =IF($A6="","",IFERROR(INDEX('Station Plan'!$D$6:$D$105,MATCH($A6,'Station Plan'!$S$6:$S$105,0)),"")) | F6: =IF($A6="","",IFERROR(INDEX('Station Plan'!$E$6:$E$105,MATCH($A6,'Station Plan'!$S$6:$S$105,0)),"")) | G6: =IF($A6="","",IFERROR(INDEX('Station Plan'!$F$6:$F$105,MATCH($A6,'Station Plan'!$S$6:$S$105,0)),"")) | H6: =IF($A6="","",IFERROR(INDEX('Station Plan'!$G$6:$G$105,MATCH($A6,'Station Plan'!$S$6:$S$105,0)),"")) | I6: =IF($A6="","",IFERROR(INDEX('Station Plan'!$H$6:$H$105,MATCH($A6,'Station Plan'!$S$6:$S$105,0)),"")) | J6: =IF($A6="","",IFERROR(INDEX('Station Plan'!$I$6:$I$105,MATCH($A6,'Station Plan'!$S$6:$S$105,0)),"")) | K6: =IF($A6="","",IFERROR(INDEX('Station Plan'!$J$6:$J$105,MATCH($A6,'Station Plan'!$S$6:$S$105,0)),"")) | L6: =IF($A6="","",IFERROR(INDEX('Station Plan'!$K$6:$K$105,MATCH($A6,'Station Plan'!$S$6:$S$105,0)),"")) | M6: =IF($A6="","",IFERROR(INDEX('Station Plan'!$L$6:$L$105,MATCH($A6,'Station Plan'!$S$6:$S$105,0)),"")) | N6: =IF($A6="","",IFERROR(INDEX('Station Plan'!$M$6:$M$105,MATCH($A6,'Station Plan'!$S$6:$S$105,0)),"")) | O6: =IF($A6="","",IFERROR(INDEX('Station Plan'!$N$6:$N$105,MATCH($A6,'Station Plan'!$S$6:$S$105,0)),"")) | P6: =IF($A6="","",IFERROR(INDEX('Station Plan'!$O$6:$O$105,MATCH($A6,'Station Plan'!$S$6:$S$105,0)),"")) | Q6: =IF($A6="","",IFERROR(INDEX('Station Plan'!$P$6:$P$105,MATCH($A6,'Station Plan'!$S$6:$S$105,0)),"")) | R6: =IF($A6="","",IFERROR(INDEX('Station Plan'!$Q$6:$Q$105,MATCH($A6,'Station Plan'!$S$6:$S$105,0)),""))
A7: =IF(ROWS($A$6:A7)<=COUNTIF('Station Plan'!$R$6:$R$105,"Included"),ROWS($A$6:A7),"") | B7: =IF($A7="","",IFERROR(INDEX('Station Plan'!$A$6:$A$105,MATCH($A7,'Station Plan'!$S$6:$S$105,0)),"")) | C7: =IF($A7="","",IFERROR(INDEX('Station Plan'!$B$6:$B$105,MATCH($A7,'Station Plan'!$S$6:$S$105,0)),"")) | D7: =IF($A7="","",IFERROR(INDEX('Station Plan'!$C$6:$C$105,MATCH($A7,'Station Plan'!$S$6:$S$105,0)),"")) | E7: =IF($A7="","",IFERROR(INDEX('Station Plan'!$D$6:$D$105,MATCH($A7,'Station Plan'!$S$6:$S$105,0)),"")) | F7: =IF($A7="","",IFERROR(INDEX('Station Plan'!$E$6:$E$105,MATCH($A7,'Station Plan'!$S$6:$S$105,0)),"")) | G7: =IF($A7="","",IFERROR(INDEX('Station Plan'!$F$6:$F$105,MATCH($A7,'Station Plan'!$S$6:$S$105,0)),"")) | H7: =IF($A7="","",IFERROR(INDEX('Station Plan'!$G$6:$G$105,MATCH($A7,'Station Plan'!$S$6:$S$105,0)),"")) | I7: =IF($A7="","",IFERROR(INDEX('Station Plan'!$H$6:$H$105,MATCH($A7,'Station Plan'!$S$6:$S$105,0)),"")) | J7: =IF($A7="","",IFERROR(INDEX('Station Plan'!$I$6:$I$105,MATCH($A7,'Station Plan'!$S$6:$S$105,0)),"")) | K7: =IF($A7="","",IFERROR(INDEX('Station Plan'!$J$6:$J$105,MATCH($A7,'Station Plan'!$S$6:$S$105,0)),"")) | L7: =IF($A7="","",IFERROR(INDEX('Station Plan'!$K$6:$K$105,MATCH($A7,'Station Plan'!$S$6:$S$105,0)),"")) | M7: =IF($A7="","",IFERROR(INDEX('Station Plan'!$L$6:$L$105,MATCH($A7,'Station Plan'!$S$6:$S$105,0)),"")) | N7: =IF($A7="","",IFERROR(INDEX('Station Plan'!$M$6:$M$105,MATCH($A7,'Station Plan'!$S$6:$S$105,0)),"")) | O7: =IF($A7="","",IFERROR(INDEX('Station Plan'!$N$6:$N$105,MATCH($A7,'Station Plan'!$S$6:$S$105,0)),"")) | P7: =IF($A7="","",IFERROR(INDEX('Station Plan'!$O$6:$O$105,MATCH($A7,'Station Plan'!$S$6:$S$105,0)),"")) | Q7: =IF($A7="","",IFERROR(INDEX('Station Plan'!$P$6:$P$105,MATCH($A7,'Station Plan'!$S$6:$S$105,0)),"")) | R7: =IF($A7="","",IFERROR(INDEX('Station Plan'!$Q$6:$Q$105,MATCH($A7,'Station Plan'!$S$6:$S$105,0)),""))
A8: =IF(ROWS($A$6:A8)<=COUNTIF('Station Plan'!$R$6:$R$105,"Included"),ROWS($A$6:A8),"") | B8: =IF($A8="","",IFERROR(INDEX('Station Plan'!$A$6:$A$105,MATCH($A8,'Station Plan'!$S$6:$S$105,0)),"")) | C8: =IF($A8="","",IFERROR(INDEX('Station Plan'!$B$6:$B$105,MATCH($A8,'Station Plan'!$S$6:$S$105,0)),"")) | D8: =IF($A8="","",IFERROR(INDEX('Station Plan'!$C$6:$C$105,MATCH($A8,'Station Plan'!$S$6:$S$105,0)),"")) | E8: =IF($A8="","",IFERROR(INDEX('Station Plan'!$D$6:$D$105,MATCH($A8,'Station Plan'!$S$6:$S$105,0)),"")) | F8: =IF($A8="","",IFERROR(INDEX('Station Plan'!$E$6:$E$105,MATCH($A8,'Station Plan'!$S$6:$S$105,0)),"")) | G8: =IF($A8="","",IFERROR(INDEX('Station Plan'!$F$6:$F$105,MATCH($A8,'Station Plan'!$S$6:$S$105,0)),"")) | H8: =IF($A8="","",IFERROR(INDEX('Station Plan'!$G$6:$G$105,MATCH($A8,'Station Plan'!$S$6:$S$105,0)),"")) | I8: =IF($A8="","",IFERROR(INDEX('Station Plan'!$H$6:$H$105,MATCH($A8,'Station Plan'!$S$6:$S$105,0)),"")) | J8: =IF($A8="","",IFERROR(INDEX('Station Plan'!$I$6:$I$105,MATCH($A8,'Station Plan'!$S$6:$S$105,0)),"")) | K8: =IF($A8="","",IFERROR(INDEX('Station Plan'!$J$6:$J$105,MATCH($A8,'Station Plan'!$S$6:$S$105,0)),"")) | L8: =IF($A8="","",IFERROR(INDEX('Station Plan'!$K$6:$K$105,MATCH($A8,'Station Plan'!$S$6:$S$105,0)),"")) | M8: =IF($A8="","",IFERROR(INDEX('Station Plan'!$L$6:$L$105,MATCH($A8,'Station Plan'!$S$6:$S$105,0)),"")) | N8: =IF($A8="","",IFERROR(INDEX('Station Plan'!$M$6:$M$105,MATCH($A8,'Station Plan'!$S$6:$S$105,0)),"")) | O8: =IF($A8="","",IFERROR(INDEX('Station Plan'!$N$6:$N$105,MATCH($A8,'Station Plan'!$S$6:$S$105,0)),"")) | P8: =IF($A8="","",IFERROR(INDEX('Station Plan'!$O$6:$O$105,MATCH($A8,'Station Plan'!$S$6:$S$105,0)),"")) | Q8: =IF($A8="","",IFERROR(INDEX('Station Plan'!$P$6:$P$105,MATCH($A8,'Station Plan'!$S$6:$S$105,0)),"")) | R8: =IF($A8="","",IFERROR(INDEX('Station Plan'!$Q$6:$Q$105,MATCH($A8,'Station Plan'!$S$6:$S$105,0)),""))
A9: =IF(ROWS($A$6:A9)<=COUNTIF('Station Plan'!$R$6:$R$105,"Included"),ROWS($A$6:A9),"") | B9: =IF($A9="","",IFERROR(INDEX('Station Plan'!$A$6:$A$105,MATCH($A9,'Station Plan'!$S$6:$S$105,0)),"")) | C9: =IF($A9="","",IFERROR(INDEX('Station Plan'!$B$6:$B$105,MATCH($A9,'Station Plan'!$S$6:$S$105,0)),"")) | D9: =IF($A9="","",IFERROR(INDEX('Station Plan'!$C$6:$C$105,MATCH($A9,'Station Plan'!$S$6:$S$105,0)),"")) | E9: =IF($A9="","",IFERROR(INDEX('Station Plan'!$D$6:$D$105,MATCH($A9,'Station Plan'!$S$6:$S$105,0)),"")) | F9: =IF($A9="","",IFERROR(INDEX('Station Plan'!$E$6:$E$105,MATCH($A9,'Station Plan'!$S$6:$S$105,0)),"")) | G9: =IF($A9="","",IFERROR(INDEX('Station Plan'!$F$6:$F$105,MATCH($A9,'Station Plan'!$S$6:$S$105,0)),"")) | H9: =IF($A9="","",IFERROR(INDEX('Station Plan'!$G$6:$G$105,MATCH($A9,'Station Plan'!$S$6:$S$105,0)),"")) | I9: =IF($A9="","",IFERROR(INDEX('Station Plan'!$H$6:$H$105,MATCH($A9,'Station Plan'!$S$6:$S$105,0)),"")) | J9: =IF($A9="","",IFERROR(INDEX('Station Plan'!$I$6:$I$105,MATCH($A9,'Station Plan'!$S$6:$S$105,0)),"")) | K9: =IF($A9="","",IFERROR(INDEX('Station Plan'!$J$6:$J$105,MATCH($A9,'Station Plan'!$S$6:$S$105,0)),"")) | L9: =IF($A9="","",IFERROR(INDEX('Station Plan'!$K$6:$K$105,MATCH($A9,'Station Plan'!$S$6:$S$105,0)),"")) | M9: =IF($A9="","",IFERROR(INDEX('Station Plan'!$L$6:$L$105,MATCH($A9,'Station Plan'!$S$6:$S$105,0)),"")) | N9: =IF($A9="","",IFERROR(INDEX('Station Plan'!$M$6:$M$105,MATCH($A9,'Station Plan'!$S$6:$S$105,0)),"")) | O9: =IF($A9="","",IFERROR(INDEX('Station Plan'!$N$6:$N$105,MATCH($A9,'Station Plan'!$S$6:$S$105,0)),"")) | P9: =IF($A9="","",IFERROR(INDEX('Station Plan'!$O$6:$O$105,MATCH($A9,'Station Plan'!$S$6:$S$105,0)),"")) | Q9: =IF($A9="","",IFERROR(INDEX('Station Plan'!$P$6:$P$105,MATCH($A9,'Station Plan'!$S$6:$S$105,0)),"")) | R9: =IF($A9="","",IFERROR(INDEX('Station Plan'!$Q$6:$Q$105,MATCH($A9,'Station Plan'!$S$6:$S$105,0)),""))
A10: =IF(ROWS($A$6:A10)<=COUNTIF('Station Plan'!$R$6:$R$105,"Included"),ROWS($A$6:A10),"") | B10: =IF($A10="","",IFERROR(INDEX('Station Plan'!$A$6:$A$105,MATCH($A10,'Station Plan'!$S$6:$S$105,0)),"")) | C10: =IF($A10="","",IFERROR(INDEX('Station Plan'!$B$6:$B$105,MATCH($A10,'Station Plan'!$S$6:$S$105,0)),"")) | D10: =IF($A10="","",IFERROR(INDEX('Station Plan'!$C$6:$C$105,MATCH($A10,'Station Plan'!$S$6:$S$105,0)),"")) | E10: =IF($A10="","",IFERROR(INDEX('Station Plan'!$D$6:$D$105,MATCH($A10,'Station Plan'!$S$6:$S$105,0)),"")) | F10: =IF($A10="","",IFERROR(INDEX('Station Plan'!$E$6:$E$105,MATCH($A10,'Station Plan'!$S$6:$S$105,0)),"")) | G10: =IF($A10="","",IFERROR(INDEX('Station Plan'!$F$6:$F$105,MATCH($A10,'Station Plan'!$S$6:$S$105,0)),"")) | H10: =IF($A10="","",IFERROR(INDEX('Station Plan'!$G$6:$G$105,MATCH($A10,'Station Plan'!$S$6:$S$105,0)),"")) | I10: =IF($A10="","",IFERROR(INDEX('Station Plan'!$H$6:$H$105,MATCH($A10,'Station Plan'!$S$6:$S$105,0)),"")) | J10: =IF($A10="","",IFERROR(INDEX('Station Plan'!$I$6:$I$105,MATCH($A10,'Station Plan'!$S$6:$S$105,0)),"")) | K10: =IF($A10="","",IFERROR(INDEX('Station Plan'!$J$6:$J$105,MATCH($A10,'Station Plan'!$S$6:$S$105,0)),"")) | L10: =IF($A10="","",IFERROR(INDEX('Station Plan'!$K$6:$K$105,MATCH($A10,'Station Plan'!$S$6:$S$105,0)),"")) | M10: =IF($A10="","",IFERROR(INDEX('Station Plan'!$L$6:$L$105,MATCH($A10,'Station Plan'!$S$6:$S$105,0)),"")) | N10: =IF($A10="","",IFERROR(INDEX('Station Plan'!$M$6:$M$105,MATCH($A10,'Station Plan'!$S$6:$S$105,0)),"")) | O10: =IF($A10="","",IFERROR(INDEX('Station Plan'!$N$6:$N$105,MATCH($A10,'Station Plan'!$S$6:$S$105,0)),"")) | P10: =IF($A10="","",IFERROR(INDEX('Station Plan'!$O$6:$O$105,MATCH($A10,'Station Plan'!$S$6:$S$105,0)),"")) | Q10: =IF($A10="","",IFERROR(INDEX('Station Plan'!$P$6:$P$105,MATCH($A10,'Station Plan'!$S$6:$S$105,0)),"")) | R10: =IF($A10="","",IFERROR(INDEX('Station Plan'!$Q$6:$Q$105,MATCH($A10,'Station Plan'!$S$6:$S$105,0)),""))
A11: =IF(ROWS($A$6:A11)<=COUNTIF('Station Plan'!$R$6:$R$105,"Included"),ROWS($A$6:A11),"") | B11: =IF($A11="","",IFERROR(INDEX('Station Plan'!$A$6:$A$105,MATCH($A11,'Station Plan'!$S$6:$S$105,0)),"")) | C11: =IF($A11="","",IFERROR(INDEX('Station Plan'!$B$6:$B$105,MATCH($A11,'Station Plan'!$S$6:$S$105,0)),"")) | D11: =IF($A11="","",IFERROR(INDEX('Station Plan'!$C$6:$C$105,MATCH($A11,'Station Plan'!$S$6:$S$105,0)),"")) | E11: =IF($A11="","",IFERROR(INDEX('Station Plan'!$D$6:$D$105,MATCH($A11,'Station Plan'!$S$6:$S$105,0)),"")) | F11: =IF($A11="","",IFERROR(INDEX('Station Plan'!$E$6:$E$105,MATCH($A11,'Station Plan'!$S$6:$S$105,0)),"")) | G11: =IF($A11="","",IFERROR(INDEX('Station Plan'!$F$6:$F$105,MATCH($A11,'Station Plan'!$S$6:$S$105,0)),"")) | H11: =IF($A11="","",IFERROR(INDEX('Station Plan'!$G$6:$G$105,MATCH($A11,'Station Plan'!$S$6:$S$105,0)),"")) | I11: =IF($A11="","",IFERROR(INDEX('Station Plan'!$H$6:$H$105,MATCH($A11,'Station Plan'!$S$6:$S$105,0)),"")) | J11: =IF($A11="","",IFERROR(INDEX('Station Plan'!$I$6:$I$105,MATCH($A11,'Station Plan'!$S$6:$S$105,0)),"")) | K11: =IF($A11="","",IFERROR(INDEX('Station Plan'!$J$6:$J$105,MATCH($A11,'Station Plan'!$S$6:$S$105,0)),"")) | L11: =IF($A11="","",IFERROR(INDEX('Station Plan'!$K$6:$K$105,MATCH($A11,'Station Plan'!$S$6:$S$105,0)),"")) | M11: =IF($A11="","",IFERROR(INDEX('Station Plan'!$L$6:$L$105,MATCH($A11,'Station Plan'!$S$6:$S$105,0)),"")) | N11: =IF($A11="","",IFERROR(INDEX('Station Plan'!$M$6:$M$105,MATCH($A11,'Station Plan'!$S$6:$S$105,0)),"")) | O11: =IF($A11="","",IFERROR(INDEX('Station Plan'!$N$6:$N$105,MATCH($A11,'Station Plan'!$S$6:$S$105,0)),"")) | P11: =IF($A11="","",IFERROR(INDEX('Station Plan'!$O$6:$O$105,MATCH($A11,'Station Plan'!$S$6:$S$105,0)),"")) | Q11: =IF($A11="","",IFERROR(INDEX('Station Plan'!$P$6:$P$105,MATCH($A11,'Station Plan'!$S$6:$S$105,0)),"")) | R11: =IF($A11="","",IFERROR(INDEX('Station Plan'!$Q$6:$Q$105,MATCH($A11,'Station Plan'!$S$6:$S$105,0)),""))
A12: =IF(ROWS($A$6:A12)<=COUNTIF('Station Plan'!$R$6:$R$105,"Included"),ROWS($A$6:A12),"") | B12: =IF($A12="","",IFERROR(INDEX('Station Plan'!$A$6:$A$105,MATCH($A12,'Station Plan'!$S$6:$S$105,0)),"")) | C12: =IF($A12="","",IFERROR(INDEX('Station Plan'!$B$6:$B$105,MATCH($A12,'Station Plan'!$S$6:$S$105,0)),"")) | D12: =IF($A12="","",IFERROR(INDEX('Station Plan'!$C$6:$C$105,MATCH($A12,'Station Plan'!$S$6:$S$105,0)),"")) | E12: =IF($A12="","",IFERROR(INDEX('Station Plan'!$D$6:$D$105,MATCH($A12,'Station Plan'!$S$6:$S$105,0)),"")) | F12: =IF($A12="","",IFERROR(INDEX('Station Plan'!$E$6:$E$105,MATCH($A12,'Station Plan'!$S$6:$S$105,0)),"")) | G12: =IF($A12="","",IFERROR(INDEX('Station Plan'!$F$6:$F$105,MATCH($A12,'Station Plan'!$S$6:$S$105,0)),"")) | H12: =IF($A12="","",IFERROR(INDEX('Station Plan'!$G$6:$G$105,MATCH($A12,'Station Plan'!$S$6:$S$105,0)),"")) | I12: =IF($A12="","",IFERROR(INDEX('Station Plan'!$H$6:$H$105,MATCH($A12,'Station Plan'!$S$6:$S$105,0)),"")) | J12: =IF($A12="","",IFERROR(INDEX('Station Plan'!$I$6:$I$105,MATCH($A12,'Station Plan'!$S$6:$S$105,0)),"")) | K12: =IF($A12="","",IFERROR(INDEX('Station Plan'!$J$6:$J$105,MATCH($A12,'Station Plan'!$S$6:$S$105,0)),"")) | L12: =IF($A12="","",IFERROR(INDEX('Station Plan'!$K$6:$K$105,MATCH($A12,'Station Plan'!$S$6:$S$105,0)),"")) | M12: =IF($A12="","",IFERROR(INDEX('Station Plan'!$L$6:$L$105,MATCH($A12,'Station Plan'!$S$6:$S$105,0)),"")) | N12: =IF($A12="","",IFERROR(INDEX('Station Plan'!$M$6:$M$105,MATCH($A12,'Station Plan'!$S$6:$S$105,0)),"")) | O12: =IF($A12="","",IFERROR(INDEX('Station Plan'!$N$6:$N$105,MATCH($A12,'Station Plan'!$S$6:$S$105,0)),"")) | P12: =IF($A12="","",IFERROR(INDEX('Station Plan'!$O$6:$O$105,MATCH($A12,'Station Plan'!$S$6:$S$105,0)),"")) | Q12: =IF($A12="","",IFERROR(INDEX('Station Plan'!$P$6:$P$105,MATCH($A12,'Station Plan'!$S$6:$S$105,0)),"")) | R12: =IF($A12="","",IFERROR(INDEX('Station Plan'!$Q$6:$Q$105,MATCH($A12,'Station Plan'!$S$6:$S$105,0)),""))
A13: =IF(ROWS($A$6:A13)<=COUNTIF('Station Plan'!$R$6:$R$105,"Included"),ROWS($A$6:A13),"") | B13: =IF($A13="","",IFERROR(INDEX('Station Plan'!$A$6:$A$105,MATCH($A13,'Station Plan'!$S$6:$S$105,0)),"")) | C13: =IF($A13="","",IFERROR(INDEX('Station Plan'!$B$6:$B$105,MATCH($A13,'Station Plan'!$S$6:$S$105,0)),"")) | D13: =IF($A13="","",IFERROR(INDEX('Station Plan'!$C$6:$C$105,MATCH($A13,'Station Plan'!$S$6:$S$105,0)),"")) | E13: =IF($A13="","",IFERROR(INDEX('Station Plan'!$D$6:$D$105,MATCH($A13,'Station Plan'!$S$6:$S$105,0)),"")) | F13: =IF($A13="","",IFERROR(INDEX('Station Plan'!$E$6:$E$105,MATCH($A13,'Station Plan'!$S$6:$S$105,0)),"")) | G13: =IF($A13="","",IFERROR(INDEX('Station Plan'!$F$6:$F$105,MATCH($A13,'Station Plan'!$S$6:$S$105,0)),"")) | H13: =IF($A13="","",IFERROR(INDEX('Station Plan'!$G$6:$G$105,MATCH($A13,'Station Plan'!$S$6:$S$105,0)),"")) | I13: =IF($A13="","",IFERROR(INDEX('Station Plan'!$H$6:$H$105,MATCH($A13,'Station Plan'!$S$6:$S$105,0)),"")) | J13: =IF($A13="","",IFERROR(INDEX('Station Plan'!$I$6:$I$105,MATCH($A13,'Station Plan'!$S$6:$S$105,0)),"")) | K13: =IF($A13="","",IFERROR(INDEX('Station Plan'!$J$6:$J$105,MATCH($A13,'Station Plan'!$S$6:$S$105,0)),"")) | L13: =IF($A13="","",IFERROR(INDEX('Station Plan'!$K$6:$K$105,MATCH($A13,'Station Plan'!$S$6:$S$105,0)),"")) | M13: =IF($A13="","",IFERROR(INDEX('Station Plan'!$L$6:$L$105,MATCH($A13,'Station Plan'!$S$6:$S$105,0)),"")) | N13: =IF($A13="","",IFERROR(INDEX('Station Plan'!$M$6:$M$105,MATCH($A13,'Station Plan'!$S$6:$S$105,0)),"")) | O13: =IF($A13="","",IFERROR(INDEX('Station Plan'!$N$6:$N$105,MATCH($A13,'Station Plan'!$S$6:$S$105,0)),"")) | P13: =IF($A13="","",IFERROR(INDEX('Station Plan'!$O$6:$O$105,MATCH($A13,'Station Plan'!$S$6:$S$105,0)),"")) | Q13: =IF($A13="","",IFERROR(INDEX('Station Plan'!$P$6:$P$105,MATCH($A13,'Station Plan'!$S$6:$S$105,0)),"")) | R13: =IF($A13="","",IFERROR(INDEX('Station Plan'!$Q$6:$Q$105,MATCH($A13,'Station Plan'!$S$6:$S$105,0)),""))
