Workbook

Sheet Dashboard
A1: Machine Load Plan
A2: Pre-production machine loading aid with dated actions, rescheduling exceptions, and machine history consistency checks.
A3: Operational aid only. It does not replace an ERP, MRP, MES, connected machine system, official record, certification, audit, safety, engineering, legal, tax, or compliance process.
A5: Dated Action Plan Rows | D5: Exceptions Requiring Rescheduling | G5: History Sequence Exceptions | J5: Latest Asset Records
B6: =IFERROR(SUMPRODUCT(--('Load Plan'!$P$2:$P$101<>"")),"") | E6: =IFERROR(SUMPRODUCT(--('Load Plan'!$P$2:$P$101="Reschedule Required")),"") | H6: =IFERROR(SUMPRODUCT(--('Machine History'!$G$2:$G$101="History Sequence Exception")),"") | K6: =IFERROR(SUMPRODUCT(--('Machine History'!$H$2:$H$101="Latest Recorded Event")),"")
A10: Dated Action Plan
A11: Completed load-plan rows are shown in planned start-date order. Replace or remove the sample rows before operational use.
A14: Planned Start Date | B14: Plan Item ID | C14: Machine Identifier | D14: Equipment ID | E14: Reporting Period | F14: Planned Action | G14: Owner or Responsible Role | H14: Required Date | I14: Planned End Date | J14: Required Load Hours (hours) | K14: Available Resources (hours) | L14: Machine/Period Planned Load Hours (hours) | M14: Action Status | N14: Action Sort Position
A15: =IFERROR(IF($N15="","",INDEX('Load Plan'!$F$2:$F$101,$N15)),"") | B15: =IFERROR(IF($N15="","",INDEX('Load Plan'!$A$2:$A$101,$N15)),"") | C15: =IFERROR(IF($N15="","",INDEX('Load Plan'!$B$2:$B$101,$N15)),"") | D15: =IFERROR(IF($N15="","",INDEX('Load Plan'!$C$2:$C$101,$N15)),"") | E15: =IFERROR(IF($N15="","",INDEX('Load Plan'!$D$2:$D$101,$N15)),"") | F15: =IFERROR(IF($N15="","",INDEX('Load Plan'!$K$2:$K$101,$N15)),"") | G15: =IFERROR(IF($N15="","",INDEX('Load Plan'!$J$2:$J$101,$N15)),"") | H15: =IFERROR(IF($N15="","",INDEX('Load Plan'!$E$2:$E$101,$N15)),"") | I15: =IFERROR(IF($N15="","",INDEX('Load Plan'!$G$2:$G$101,$N15)),"") | J15: =IFERROR(IF($N15="","",INDEX('Load Plan'!$H$2:$H$101,$N15)),"") | K15: =IFERROR(IF($N15="","",INDEX('Load Plan'!$I$2:$I$101,$N15)),"") | L15: =IFERROR(IF($N15="","",INDEX('Load Plan'!$L$2:$L$101,$N15)),"") | M15: =IFERROR(IF($N15="","",INDEX('Load Plan'!$P$2:$P$101,$N15)),"") | N15: =IFERROR(IF(ROWS($N$15:N15)>SUMPRODUCT(--('Load Plan'!$Q$2:$Q$101<>"")),"",MATCH(SMALL('Load Plan'!$Q$2:$Q$101,ROWS($N$15:N15)),'Load Plan'!$Q$2:$Q$101,0)),"")
A16: =IFERROR(IF($N16="","",INDEX('Load Plan'!$F$2:$F$101,$N16)),"") | B16: =IFERROR(IF($N16="","",INDEX('Load Plan'!$A$2:$A$101,$N16)),"") | C16: =IFERROR(IF($N16="","",INDEX('Load Plan'!$B$2:$B$101,$N16)),"") | D16: =IFERROR(IF($N16="","",INDEX('Load Plan'!$C$2:$C$101,$N16)),"") | E16: =IFERROR(IF($N16="","",INDEX('Load Plan'!$D$2:$D$101,$N16)),"") | F16: =IFERROR(IF($N16="","",INDEX('Load Plan'!$K$2:$K$101,$N16)),"") | G16: =IFERROR(IF($N16="","",INDEX('Load Plan'!$J$2:$J$101,$N16)),"") | H16: =IFERROR(IF($N16="","",INDEX('Load Plan'!$E$2:$E$101,$N16)),"") | I16: =IFERROR(IF($N16="","",INDEX('Load Plan'!$G$2:$G$101,$N16)),"") | J16: =IFERROR(IF($N16="","",INDEX('Load Plan'!$H$2:$H$101,$N16)),"") | K16: =IFERROR(IF($N16="","",INDEX('Load Plan'!$I$2:$I$101,$N16)),"") | L16: =IFERROR(IF($N16="","",INDEX('Load Plan'!$L$2:$L$101,$N16)),"") | M16: =IFERROR(IF($N16="","",INDEX('Load Plan'!$P$2:$P$101,$N16)),"") | N16: =IFERROR(IF(ROWS($N$15:N16)>SUMPRODUCT(--('Load Plan'!$Q$2:$Q$101<>"")),"",MATCH(SMALL('Load Plan'!$Q$2:$Q$101,ROWS($N$15:N16)),'Load Plan'!$Q$2:$Q$101,0)),"")
A17: =IFERROR(IF($N17="","",INDEX('Load Plan'!$F$2:$F$101,$N17)),"") | B17: =IFERROR(IF($N17="","",INDEX('Load Plan'!$A$2:$A$101,$N17)),"") | C17: =IFERROR(IF($N17="","",INDEX('Load Plan'!$B$2:$B$101,$N17)),"") | D17: =IFERROR(IF($N17="","",INDEX('Load Plan'!$C$2:$C$101,$N17)),"") | E17: =IFERROR(IF($N17="","",INDEX('Load Plan'!$D$2:$D$101,$N17)),"") | F17: =IFERROR(IF($N17="","",INDEX('Load Plan'!$K$2:$K$101,$N17)),"") | G17: =IFERROR(IF($N17="","",INDEX('Load Plan'!$J$2:$J$101,$N17)),"") | H17: =IFERROR(IF($N17="","",INDEX('Load Plan'!$E$2:$E$101,$N17)),"") | I17: =IFERROR(IF($N17="","",INDEX('Load Plan'!$G$2:$G$101,$N17)),"") | J17: =IFERROR(IF($N17="","",INDEX('Load Plan'!$H$2:$H$101,$N17)),"") | K17: =IFERROR(IF($N17="","",INDEX('Load Plan'!$I$2:$I$101,$N17)),"") | L17: =IFERROR(IF($N17="","",INDEX('Load Plan'!$L$2:$L$101,$N17)),"") | M17: =IFERROR(IF($N17="","",INDEX('Load Plan'!$P$2:$P$101,$N17)),"") | N17: =IFERROR(IF(ROWS($N$15:N17)>SUMPRODUCT(--('Load Plan'!$Q$2:$Q$101<>"")),"",MATCH(SMALL('Load Plan'!$Q$2:$Q$101,ROWS($N$15:N17)),'Load Plan'!$Q$2:$Q$101,0)),"")
A18: =IFERROR(IF($N18="","",INDEX('Load Plan'!$F$2:$F$101,$N18)),"") | B18: =IFERROR(IF($N18="","",INDEX('Load Plan'!$A$2:$A$101,$N18)),"") | C18: =IFERROR(IF($N18="","",INDEX('Load Plan'!$B$2:$B$101,$N18)),"") | D18: =IFERROR(IF($N18="","",INDEX('Load Plan'!$C$2:$C$101,$N18)),"") | E18: =IFERROR(IF($N18="","",INDEX('Load Plan'!$D$2:$D$101,$N18)),"") | F18: =IFERROR(IF($N18="","",INDEX('Load Plan'!$K$2:$K$101,$N18)),"") | G18: =IFERROR(IF($N18="","",INDEX('Load Plan'!$J$2:$J$101,$N18)),"") | H18: =IFERROR(IF($N18="","",INDEX('Load Plan'!$E$2:$E$101,$N18)),"") | I18: =IFERROR(IF($N18="","",INDEX('Load Plan'!$G$2:$G$101,$N18)),"") | J18: =IFERROR(IF($N18="","",INDEX('Load Plan'!$H$2:$H$101,$N18)),"") | K18: =IFERROR(IF($N18="","",INDEX('Load Plan'!$I$2:$I$101,$N18)),"") | L18: =IFERROR(IF($N18="","",INDEX('Load Plan'!$L$2:$L$101,$N18)),"") | M18: =IFERROR(IF($N18="","",INDEX('Load Plan'!$P$2:$P$101,$N18)),"") | N18: =IFERROR(IF(ROWS($N$15:N18)>SUMPRODUCT(--('Load Plan'!$Q$2:$Q$101<>"")),"",MATCH(SMALL('Load Plan'!$Q$2:$Q$101,ROWS($N$15:N18)),'Load Plan'!$Q$2:$Q$101,0)),"")
A19: =IFERROR(IF($N19="","",INDEX('Load Plan'!$F$2:$F$101,$N19)),"") | B19: =IFERROR(IF($N19="","",INDEX('Load Plan'!$A$2:$A$101,$N19)),"") | C19: =IFERROR(IF($N19="","",INDEX('Load Plan'!$B$2:$B$101,$N19)),"") | D19: =IFERROR(IF($N19="","",INDEX('Load Plan'!$C$2:$C$101,$N19)),"") | E19: =IFERROR(IF($N19="","",INDEX('Load Plan'!$D$2:$D$101,$N19)),"") | F19: =IFERROR(IF($N19="","",INDEX('Load Plan'!$K$2:$K$101,$N19)),"") | G19: =IFERROR(IF($N19="","",INDEX('Load Plan'!$J$2:$J$101,$N19)),"") | H19: =IFERROR(IF($N19="","",INDEX('Load Plan'!$E$2:$E$101,$N19)),"") | I19: =IFERROR(IF($N19="","",INDEX('Load Plan'!$G$2:$G$101,$N19)),"") | J19: =IFERROR(IF($N19="","",INDEX('Load Plan'!$H$2:$H$101,$N19)),"") | K19: =IFERROR(IF($N19="","",INDEX('Load Plan'!$I$2:$I$101,$N19)),"") | L19: =IFERROR(IF($N19="","",INDEX('Load Plan'!$L$2:$L$101,$N19)),"") | M19: =IFERROR(IF($N19="","",INDEX('Load Plan'!$P$2:$P$101,$N19)),"") | N19: =IFERROR(IF(ROWS($N$15:N19)>SUMPRODUCT(--('Load Plan'!$Q$2:$Q$101<>"")),"",MATCH(SMALL('Load Plan'!$Q$2:$Q$101,ROWS($N$15:N19)),'Load Plan'!$Q$2:$Q$101,0)),"")
A20: =IFERROR(IF($N20="","",INDEX('Load Plan'!$F$2:$F$101,$N20)),"") | B20: =IFERROR(IF($N20="","",INDEX('Load Plan'!$A$2:$A$101,$N20)),"") | C20: =IFERROR(IF($N20="","",INDEX('Load Plan'!$B$2:$B$101,$N20)),"") | D20: =IFERROR(IF($N20="","",INDEX('Load Plan'!$C$2:$C$101,$N20)),"") | E20: =IFERROR(IF($N20="","",INDEX('Load Plan'!$D$2:$D$101,$N20)),"") | F20: =IFERROR(IF($N20="","",INDEX('Load Plan'!$K$2:$K$101,$N20)),"") | G20: =IFERROR(IF($N20="","",INDEX('Load Plan'!$J$2:$J$101,$N20)),"") | H20: =IFERROR(IF($N20="","",INDEX('Load Plan'!$E$2:$E$101,$N20)),"") | I20: =IFERROR(IF($N20="","",INDEX('Load Plan'!$G$2:$G$101,$N20)),"") | J20: =IFERROR(IF($N20="","",INDEX('Load Plan'!$H$2:$H$101,$N20)),"") | K20: =IFERROR(IF($N20="","",INDEX('Load Plan'!$I$2:$I$101,$N20)),"") | L20: =IFERROR(IF($N20="","",INDEX('Load Plan'!$L$2:$L$101,$N20)),"") | M20: =IFERROR(IF($N20="","",INDEX('Load Plan'!$P$2:$P$101,$N20)),"") | N20: =IFERROR(IF(ROWS($N$15:N20)>SUMPRODUCT(--('Load Plan'!$Q$2:$Q$101<>"")),"",MATCH(SMALL('Load Plan'!$Q$2:$Q$101,ROWS($N$15:N20)),'Load Plan'!$Q$2:$Q$101,0)),"")
A21: =IFERROR(IF($N21="","",INDEX('Load Plan'!$F$2:$F$101,$N21)),"") | B21: =IFERROR(IF($N21="","",INDEX('Load Plan'!$A$2:$A$101,$N21)),"") | C21: =IFERROR(IF($N21="","",INDEX('Load Plan'!$B$2:$B$101,$N21)),"") | D21: =IFERROR(IF($N21="","",INDEX('Load Plan'!$C$2:$C$101,$N21)),"") | E21: =IFERROR(IF($N21="","",INDEX('Load Plan'!$D$2:$D$101,$N21)),"") | F21: =IFERROR(IF($N21="","",INDEX('Load Plan'!$K$2:$K$101,$N21)),"") | G21: =IFERROR(IF($N21="","",INDEX('Load Plan'!$J$2:$J$101,$N21)),"") | H21: =IFERROR(IF($N21="","",INDEX('Load Plan'!$E$2:$E$101,$N21)),"") | I21: =IFERROR(IF($N21="","",INDEX('Load Plan'!$G$2:$G$101,$N21)),"") | J21: =IFERROR(IF($N21="","",INDEX('Load Plan'!$H$2:$H$101,$N21)),"") | K21: =IFERROR(IF($N21="","",INDEX('Load Plan'!$I$2:$I$101,$N21)),"") | L21: =IFERROR(IF($N21="","",INDEX('Load Plan'!$L$2:$L$101,$N21)),"") | M21: =IFERROR(IF($N21="","",INDEX('Load Plan'!$P$2:$P$101,$N21)),"") | N21: =IFERROR(IF(ROWS($N$15:N21)>SUMPRODUCT(--('Load Plan'!$Q$2:$Q$101<>"")),"",MATCH(SMALL('Load Plan'!$Q$2:$Q$101,ROWS($N$15:N21)),'Load Plan'!$Q$2:$Q$101,0)),"")
A22: =IFERROR(IF($N22="","",INDEX('Load Plan'!$F$2:$F$101,$N22)),"") | B22: =IFERROR(IF($N22="","",INDEX('Load Plan'!$A$2:$A$101,$N22)),"") | C22: =IFERROR(IF($N22="","",INDEX('Load Plan'!$B$2:$B$101,$N22)),"") | D22: =IFERROR(IF($N22="","",INDEX('Load Plan'!$C$2:$C$101,$N22)),"") | E22: =IFERROR(IF($N22="","",INDEX('Load Plan'!$D$2:$D$101,$N22)),"") | F22: =IFERROR(IF($N22="","",INDEX('Load Plan'!$K$2:$K$101,$N22)),"") | G22: =IFERROR(IF($N22="","",INDEX('Load Plan'!$J$2:$J$101,$N22)),"") | H22: =IFERROR(IF($N22="","",INDEX('Load Plan'!$E$2:$E$101,$N22)),"") | I22: =IFERROR(IF($N22="","",INDEX('Load Plan'!$G$2:$G$101,$N22)),"") | J22: =IFERROR(IF($N22="","",INDEX('Load Plan'!$H$2:$H$101,$N22)),"") | K22: =IFERROR(IF($N22="","",INDEX('Load Plan'!$I$2:$I$101,$N22)),"") | L22: =IFERROR(IF($N22="","",INDEX('Load Plan'!$L$2:$L$101,$N22)),"") | M22: =IFERROR(IF($N22="","",INDEX('Load Plan'!$P$2:$P$101,$N22)),"") | N22: =IFERROR(IF(ROWS($N$15:N22)>SUMPRODUCT(--('Load Plan'!$Q$2:$Q$101<>"")),"",MATCH(SMALL('Load Plan'!$Q$2:$Q$101,ROWS($N$15:N22)),'Load Plan'!$Q$2:$Q$101,0)),"")
A23: =IFERROR(IF($N23="","",INDEX('Load Plan'!$F$2:$F$101,$N23)),"") | B23: =IFERROR(IF($N23="","",INDEX('Load Plan'!$A$2:$A$101,$N23)),"") | C23: =IFERROR(IF($N23="","",INDEX('Load Plan'!$B$2:$B$101,$N23)),"") | D23: =IFERROR(IF($N23="","",INDEX('Load Plan'!$C$2:$C$101,$N23)),"") | E23: =IFERROR(IF($N23="","",INDEX('Load Plan'!$D$2:$D$101,$N23)),"") | F23: =IFERROR(IF($N23="","",INDEX('Load Plan'!$K$2:$K$101,$N23)),"") | G23: =IFERROR(IF($N23="","",INDEX('Load Plan'!$J$2:$J$101,$N23)),"") | H23: =IFERROR(IF($N23="","",INDEX('Load Plan'!$E$2:$E$101,$N23)),"") | I23: =IFERROR(IF($N23="","",INDEX('Load Plan'!$G$2:$G$101,$N23)),"") | J23: =IFERROR(IF($N23="","",INDEX('Load Plan'!$H$2:$H$101,$N23)),"") | K23: =IFERROR(IF($N23="","",INDEX('Load Plan'!$I$2:$I$101,$N23)),"") | L23: =IFERROR(IF($N23="","",INDEX('Load Plan'!$L$2:$L$101,$N23)),"") | M23: =IFERROR(IF($N23="","",INDEX('Load Plan'!$P$2:$P$101,$N23)),"") | N23: =IFERROR(IF(ROWS($N$15:N23)>SUMPRODUCT(--('Load Plan'!$Q$2:$Q$101<>"")),"",MATCH(SMALL('Load Plan'!$Q$2:$Q$101,ROWS($N$15:N23)),'Load Plan'!$Q$2:$Q$101,0)),"")
A24: =IFERROR(IF($N24="","",INDEX('Load Plan'!$F$2:$F$101,$N24)),"") | B24: =IFERROR(IF($N24="","",INDEX('Load Plan'!$A$2:$A$101,$N24)),"") | C24: =IFERROR(IF($N24="","",INDEX('Load Plan'!$B$2:$B$101,$N24)),"") | D24: =IFERROR(IF($N24="","",INDEX('Load Plan'!$C$2:$C$101,$N24)),"") | E24: =IFERROR(IF($N24="","",INDEX('Load Plan'!$D$2:$D$101,$N24)),"") | F24: =IFERROR(IF($N24="","",INDEX('Load Plan'!$K$2:$K$101,$N24)),"") | G24: =IFERROR(IF($N24="","",INDEX('Load Plan'!$J$2:$J$101,$N24)),"") | H24: =IFERROR(IF($N24="","",INDEX('Load Plan'!$E$2:$E$101,$N24)),"") | I24: =IFERROR(IF($N24="","",INDEX('Load Plan'!$G$2:$G$101,$N24)),"") | J24: =IFERROR(IF($N24="","",INDEX('Load Plan'!$H$2:$H$101,$N24)),"") | K24: =IFERROR(IF($N24="","",INDEX('Load Plan'!$I$2:$I$101,$N24)),"") | L24: =IFERROR(IF($N24="","",INDEX('Load Plan'!$L$2:$L$101,$N24)),"") | M24: =IFERROR(IF($N24="","",INDEX('Load Plan'!$P$2:$P$101,$N24)),"") | N24: =IFERROR(IF(ROWS($N$15:N24)>SUMPRODUCT(--('Load Plan'!$Q$2:$Q$101<>"")),"",MATCH(SMALL('Load Plan'!$Q$2:$Q$101,ROWS($N$15:N24)),'Load Plan'!$Q$2:$Q$101,0)),"")
A25: =IFERROR(IF($N25="","",INDEX('Load Plan'!$F$2:$F$101,$N25)),"") | B25: =IFERROR(IF($N25="","",INDEX('Load Plan'!$A$2:$A$101,$N25)),"") | C25: =IFERROR(IF($N25="","",INDEX('Load Plan'!$B$2:$B$101,$N25)),"") | D25: =IFERROR(IF($N25="","",INDEX('Load Plan'!$C$2:$C$101,$N25)),"") | E25: =IFERROR(IF($N25="","",INDEX('Load Plan'!$D$2:$D$101,$N25)),"") | F25: =IFERROR(IF($N25="","",INDEX('Load Plan'!$K$2:$K$101,$N25)),"") | G25: =IFERROR(IF($N25="","",INDEX('Load Plan'!$J$2:$J$101,$N25)),"") | H25: =IFERROR(IF($N25="","",INDEX('Load Plan'!$E$2:$E$101,$N25)),"") | I25: =IFERROR(IF($N25="","",INDEX('Load Plan'!$G$2:$G$101,$N25)),"") | J25: =IFERROR(IF($N25="","",INDEX('Load Plan'!$H$2:$H$101,$N25)),"") | K25: =IFERROR(IF($N25="","",INDEX('Load Plan'!$I$2:$I$101,$N25)),"") | L25: =IFERROR(IF($N25="","",INDEX('Load Plan'!$L$2:$L$101,$N25)),"") | M25: =IFERROR(IF($N25="","",INDEX('Load Plan'!$P$2:$P$101,$N25)),"") | N25: =IFERROR(IF(ROWS($N$15:N25)>SUMPRODUCT(--('Load Plan'!$Q$2:$Q$101<>"")),"",MATCH(SMALL('Load Plan'!$Q$2:$Q$101,ROWS($N$15:N25)),'Load Plan'!$Q$2:$Q$101,0)),"")
A26: =IFERROR(IF($N26="","",INDEX('Load Plan'!$F$2:$F$101,$N26)),"") | B26: =IFERROR(IF($N26="","",INDEX('Load Plan'!$A$2:$A$101,$N26)),"") | C26: =IFERROR(IF($N26="","",INDEX('Load Plan'!$B$2:$B$101,$N26)),"") | D26: =IFERROR(IF($N26="","",INDEX('Load Plan'!$C$2:$C$101,$N26)),"") | E26: =IFERROR(IF($N26="","",INDEX('Load Plan'!$D$2:$D$101,$N26)),"") | F26: =IFERROR(IF($N26="","",INDEX('Load Plan'!$K$2:$K$101,$N26)),"") | G26: =IFERROR(IF($N26="","",INDEX('Load Plan'!$J$2:$J$101,$N26)),"") | H26: =IFERROR(IF($N26="","",INDEX('Load Plan'!$E$2:$E$101,$N26)),"") | I26: =IFERROR(IF($N26="","",INDEX('Load Plan'!$G$2:$G$101,$N26)),"") | J26: =IFERROR(IF($N26="","",INDEX('Load Plan'!$H$2:$H$101,$N26)),"") | K26: =IFERROR(IF($N26="","",INDEX('Load Plan'!$I$2:$I$101,$N26)),"") | L26: =IFERROR(IF($N26="","",INDEX('Load Plan'!$L$2:$L$101,$N26)),"") | M26: =IFERROR(IF($N26="","",INDEX('Load Plan'!$P$2:$P$101,$N26)),"") | N26: =IFERROR(IF(ROWS($N$15:N26)>SUMPRODUCT(--('Load Plan'!$Q$2:$Q$101<>"")),"",MATCH(SMALL('Load Plan'!$Q$2:$Q$101,ROWS($N$15:N26)),'Load Plan'!$Q$2:$Q$101,0)),"")
... A114: =IFERROR(IF($N114="","",INDEX('Load Plan'!$F$2:$F$101,$N114)),"") | B114: =IFERROR(IF($N114="","",INDEX('Load Plan'!$A$2:$A$101,$N114)),"") | C114: =IFERROR(IF($N114="","",INDEX('Load Plan'!$B$2:$B$101,$N114)),"") | D114: =IFERROR(IF($N114="","",INDEX('Load Plan'!$C$2:$C$101,$N114)),"") | E114: =IFERROR(IF($N114="","",INDEX('Load Plan'!$D$2:$D$101,$N114)),"") | F114: =IFERROR(IF($N114="","",INDEX('Load Plan'!$K$2:$K$101,$N114)),"") | G114: =IFERROR(IF($N114="","",INDEX('Load Plan'!$J$2:$J$101,$N114)),"") | H114: =IFERROR(IF($N114="","",INDEX('Load Plan'!$E$2:$E$101,$N114)),"") | I114: =IFERROR(IF($N114="","",INDEX('Load Plan'!$G$2:$G$101,$N114)),"") | J114: =IFERROR(IF($N114="","",INDEX('Load Plan'!$H$2:$H$101,$N114)),"") | K114: =IFERROR(IF($N114="","",INDEX('Load Plan'!$I$2:$I$101,$N114)),"") | L114: =IFERROR(IF($N114="","",INDEX('Load Plan'!$L$2:$L$101,$N114)),"") | M114: =IFERROR(IF($N114="","",INDEX('Load Plan'!$P$2:$P$101,$N114)),"") | N114: =IFERROR(IF(ROWS($N$15:N114)>SUMPRODUCT(--('Load Plan'!$Q$2:$Q$101<>"")),"",MATCH(SMALL('Load Plan'!$Q$2:$Q$101,ROWS($N$15:N114)),'Load Plan'!$Q$2:$Q$101,0)),"")
A117: Due or Exception List — Exceptions Requiring Rescheduling
A118: Only load-plan rows marked Reschedule Required appear here. Review the stated check results and reschedule outside this workbook as needed.
A121: Planned Start Date | B121: Plan Item ID | C121: Machine Identifier | D121: Equipment ID | E121: Planned Action | F121: Owner or Responsible Role | G121: Required Date | H121: Planned End Date | I121: Capacity or Due-Date Check | J121: Due or Threshold Check | K121: Date Sequencing Check | L121: Action Status | M121: Exception Sort Position
A122: =IFERROR(IF($M122="","",INDEX('Load Plan'!$F$2:$F$101,$M122)),"") | B122: =IFERROR(IF($M122="","",INDEX('Load Plan'!$A$2:$A$101,$M122)),"") | C122: =IFERROR(IF($M122="","",INDEX('Load Plan'!$B$2:$B$101,$M122)),"") | D122: =IFERROR(IF($M122="","",INDEX('Load Plan'!$C$2:$C$101,$M122)),"") | E122: =IFERROR(IF($M122="","",INDEX('Load Plan'!$K$2:$K$101,$M122)),"") | F122: =IFERROR(IF($M122="","",INDEX('Load Plan'!$J$2:$J$101,$M122)),"") | G122: =IFERROR(IF($M122="","",INDEX('Load Plan'!$E$2:$E$101,$M122)),"") | H122: =IFERROR(IF($M122="","",INDEX('Load Plan'!$G$2:$G$101,$M122)),"") | I122: =IFERROR(IF($M122="","",INDEX('Load Plan'!$M$2:$M$101,$M122)),"") | J122: =IFERROR(IF($M122="","",INDEX('Load Plan'!$N$2:$N$101,$M122)),"") | K122: =IFERROR(IF($M122="","",INDEX('Load Plan'!$O$2:$O$101,$M122)),"") | L122: =IFERROR(IF($M122="","",INDEX('Load Plan'!$P$2:$P$101,$M122)),"") | M122: =IFERROR(MATCH(AGGREGATE(15,6,'Load Plan'!$Q$2:$Q$101/('Load Plan'!$P$2:$P$101="Reschedule Required"),ROWS($M$122:M122)),'Load Plan'!$Q$2:$Q$101,0),"")
A123: =IFERROR(IF($M123="","",INDEX('Load Plan'!$F$2:$F$101,$M123)),"") | B123: =IFERROR(IF($M123="","",INDEX('Load Plan'!$A$2:$A$101,$M123)),"") | C123: =IFERROR(IF($M123="","",INDEX('Load Plan'!$B$2:$B$101,$M123)),"") | D123: =IFERROR(IF($M123="","",INDEX('Load Plan'!$C$2:$C$101,$M123)),"") | E123: =IFERROR(IF($M123="","",INDEX('Load Plan'!$K$2:$K$101,$M123)),"") | F123: =IFERROR(IF($M123="","",INDEX('Load Plan'!$J$2:$J$101,$M123)),"") | G123: =IFERROR(IF($M123="","",INDEX('Load Plan'!$E$2:$E$101,$M123)),"") | H123: =IFERROR(IF($M123="","",INDEX('Load Plan'!$G$2:$G$101,$M123)),"") | I123: =IFERROR(IF($M123="","",INDEX('Load Plan'!$M$2:$M$101,$M123)),"") | J123: =IFERROR(IF($M123="","",INDEX('Load Plan'!$N$2:$N$101,$M123)),"") | K123: =IFERROR(IF($M123="","",INDEX('Load Plan'!$O$2:$O$101,$M123)),"") | L123: =IFERROR(IF($M123="","",INDEX('Load Plan'!$P$2:$P$101,$M123)),"") | M123: =IFERROR(MATCH(AGGREGATE(15,6,'Load Plan'!$Q$2:$Q$101/('Load Plan'!$P$2:$P$101="Reschedule Required"),ROWS($M$122:M123)),'Load Plan'!$Q$2:$Q$101,0),"")
A124: =IFERROR(IF($M124="","",INDEX('Load Plan'!$F$2:$F$101,$M124)),"") | B124: =IFERROR(IF($M124="","",INDEX('Load Plan'!$A$2:$A$101,$M124)),"") | C124: =IFERROR(IF($M124="","",INDEX('Load Plan'!$B$2:$B$101,$M124)),"") | D124: =IFERROR(IF($M124="","",INDEX('Load Plan'!$C$2:$C$101,$M124)),"") | E124: =IFERROR(IF($M124="","",INDEX('Load Plan'!$K$2:$K$101,$M124)),"") | F124: =IFERROR(IF($M124="","",INDEX('Load Plan'!$J$2:$J$101,$M124)),"") | G124: =IFERROR(IF($M124="","",INDEX('Load Plan'!$E$2:$E$101,$M124)),"") | H124: =IFERROR(IF($M124="","",INDEX('Load Plan'!$G$2:$G$101,$M124)),"") | I124: =IFERROR(IF($M124="","",INDEX('Load Plan'!$M$2:$M$101,$M124)),"") | J124: =IFERROR(IF($M124="","",INDEX('Load Plan'!$N$2:$N$101,$M124)),"") | K124: =IFERROR(IF($M124="","",INDEX('Load Plan'!$O$2:$O$101,$M124)),"") | L124: =IFERROR(IF($M124="","",INDEX('Load Plan'!$P$2:$P$101,$M124)),"") | M124: =IFERROR(MATCH(AGGREGATE(15,6,'Load Plan'!$Q$2:$Q$101/('Load Plan'!$P$2:$P$101="Reschedule Required"),ROWS($M$122:M124)),'Load Plan'!$Q$2:$Q$101,0),"")
A125: =IFERROR(IF($M125="","",INDEX('Load Plan'!$F$2:$F$101,$M125)),"") | B125: =IFERROR(IF($M125="","",INDEX('Load Plan'!$A$2:$A$101,$M125)),"") | C125: =IFERROR(IF($M125="","",INDEX('Load Plan'!$B$2:$B$101,$M125)),"") | D125: =IFERROR(IF($M125="","",INDEX('Load Plan'!$C$2:$C$101,$M125)),"") | E125: =IFERROR(IF($M125="","",INDEX('Load Plan'!$K$2:$K$101,$M125)),"") | F125: =IFERROR(IF($M125="","",INDEX('Load Plan'!$J$2:$J$101,$M125)),"") | G125: =IFERROR(IF($M125="","",INDEX('Load Plan'!$E$2:$E$101,$M125)),"") | H125: =IFERROR(IF($M125="","",INDEX('Load Plan'!$G$2:$G$101,$M125)),"") | I125: =IFERROR(IF($M125="","",INDEX('Load Plan'!$M$2:$M$101,$M125)),"") | J125: =IFERROR(IF($M125="","",INDEX('Load Plan'!$N$2:$N$101,$M125)),"") | K125: =IFERROR(IF($M125="","",INDEX('Load Plan'!$O$2:$O$101,$M125)),"") | L125: =IFERROR(IF($M125="","",INDEX('Load Plan'!$P$2:$P$101,$M125)),"") | M125: =IFERROR(MATCH(AGGREGATE(15,6,'Load Plan'!$Q$2:$Q$101/('Load Plan'!$P$2:$P$101="Reschedule Required"),ROWS($M$122:M125)),'Load Plan'!$Q$2:$Q$101,0),"")
A126: =IFERROR(IF($M126="","",INDEX('Load Plan'!$F$2:$F$101,$M126)),"") | B126: =IFERROR(IF($M126="","",INDEX('Load Plan'!$A$2:$A$101,$M126)),"") | C126: =IFERROR(IF($M126="","",INDEX('Load Plan'!$B$2:$B$101,$M126)),"") | D126: =IFERROR(IF($M126="","",INDEX('Load Plan'!$C$2:$C$101,$M126)),"") | E126: =IFERROR(IF($M126="","",INDEX('Load Plan'!$K$2:$K$101,$M126)),"") | F126: =IFERROR(IF($M126="","",INDEX('Load Plan'!$J$2:$J$101,$M126)),"") | G126: =IFERROR(IF($M126="","",INDEX('Load Plan'!$E$2:$E$101,$M126)),"") | H126: =IFERROR(IF($M126="","",INDEX('Load Plan'!$G$2:$G$101,$M126)),"") | I126: =IFERROR(IF($M126="","",INDEX('Load Plan'!$M$2:$M$101,$M126)),"") | J126: =IFERROR(IF($M126="","",INDEX('Load Plan'!$N$2:$N$101,$M126)),"") | K126: =IFERROR(IF($M126="","",INDEX('Load Plan'!$O$2:$O$101,$M126)),"") | L126: =IFERROR(IF($M126="","",INDEX('Load Plan'!$P$2:$P$101,$M126)),"") | M126: =IFERROR(MATCH(AGGREGATE(15,6,'Load Plan'!$Q$2:$Q$101/('Load Plan'!$P$2:$P$101="Reschedule Required"),ROWS($M$122:M126)),'Load Plan'!$Q$2:$Q$101,0),"")
A127: =IFERROR(IF($M127="","",INDEX('Load Plan'!$F$2:$F$101,$M127)),"") | B127: =IFERROR(IF($M127="","",INDEX('Load Plan'!$A$2:$A$101,$M127)),"") | C127: =IFERROR(IF($M127="","",INDEX('Load Plan'!$B$2:$B$101,$M127)),"") | D127: =IFERROR(IF($M127="","",INDEX('Load Plan'!$C$2:$C$101,$M127)),"") | E127: =IFERROR(IF($M127="","",INDEX('Load Plan'!$K$2:$K$101,$M127)),"") | F127: =IFERROR(IF($M127="","",INDEX('Load Plan'!$J$2:$J$101,$M127)),"") | G127: =IFERROR(IF($M127="","",INDEX('Load Plan'!$E$2:$E$101,$M127)),"") | H127: =IFERROR(IF($M127="","",INDEX('Load Plan'!$G$2:$G$101,$M127)),"") | I127: =IFERROR(IF($M127="","",INDEX('Load Plan'!$M$2:$M$101,$M127)),"") | J127: =IFERROR(IF($M127="","",INDEX('Load Plan'!$N$2:$N$101,$M127)),"") | K127: =IFERROR(IF($M127="","",INDEX('Load Plan'!$O$2:$O$101,$M127)),"") | L127: =IFERROR(IF($M127="","",INDEX('Load Plan'!$P$2:$P$101,$M127)),"") | M127: =IFERROR(MATCH(AGGREGATE(15,6,'Load Plan'!$Q$2:$Q$101/('Load Plan'!$P$2:$P$101="Reschedule Required"),ROWS($M$122:M127)),'Load Plan'!$Q$2:$Q$101,0),"")
A128: =IFERROR(IF($M128="","",INDEX('Load Plan'!$F$2:$F$101,$M128)),"") | B128: =IFERROR(IF($M128="","",INDEX('Load Plan'!$A$2:$A$101,$M128)),"") | C128: =IFERROR(IF($M128="","",INDEX('Load Plan'!$B$2:$B$101,$M128)),"") | D128: =IFERROR(IF($M128="","",INDEX('Load Plan'!$C$2:$C$101,$M128)),"") | E128: =IFERROR(IF($M128="","",INDEX('Load Plan'!$K$2:$K$101,$M128)),"") | F128: =IFERROR(IF($M128="","",INDEX('Load Plan'!$J$2:$J$101,$M128)),"") | G128: =IFERROR(IF($M128="","",INDEX('Load Plan'!$E$2:$E$101,$M128)),"") | H128: =IFERROR(IF($M128="","",INDEX('Load Plan'!$G$2:$G$101,$M128)),"") | I128: =IFERROR(IF($M128="","",INDEX('Load Plan'!$M$2:$M$101,$M128)),"") | J128: =IFERROR(IF($M128="","",INDEX('Load Plan'!$N$2:$N$101,$M128)),"") | K128: =IFERROR(IF($M128="","",INDEX('Load Plan'!$O$2:$O$101,$M128)),"") | L128: =IFERROR(IF($M128="","",INDEX('Load Plan'!$P$2:$P$101,$M128)),"") | M128: =IFERROR(MATCH(AGGREGATE(15,6,'Load Plan'!$Q$2:$Q$101/('Load Plan'!$P$2:$P$101="Reschedule Required"),ROWS($M$122:M128)),'Load Plan'!$Q$2:$Q$101,0),"")
A129: =IFERROR(IF($M129="","",INDEX('Load Plan'!$F$2:$F$101,$M129)),"") | B129: =IFERROR(IF($M129="","",INDEX('Load Plan'!$A$2:$A$101,$M129)),"") | C129: =IFERROR(IF($M129="","",INDEX('Load Plan'!$B$2:$B$101,$M129)),"") | D129: =IFERROR(IF($M129="","",INDEX('Load Plan'!$C$2:$C$101,$M129)),"") | E129: =IFERROR(IF($M129="","",INDEX('Load Plan'!$K$2:$K$101,$M129)),"") | F129: =IFERROR(IF($M129="","",INDEX('Load Plan'!$J$2:$J$101,$M129)),"") | G129: =IFERROR(IF($M129="","",INDEX('Load Plan'!$E$2:$E$101,$M129)),"") | H129: =IFERROR(IF($M129="","",INDEX('Load Plan'!$G$2:$G$101,$M129)),"") | I129: =IFERROR(IF($M129="","",INDEX('Load Plan'!$M$2:$M$101,$M129)),"") | J129: =IFERROR(IF($M129="","",INDEX('Load Plan'!$N$2:$N$101,$M129)),"") | K129: =IFERROR(IF($M129="","",INDEX('Load Plan'!$O$2:$O$101,$M129)),"") | L129: =IFERROR(IF($M129="","",INDEX('Load Plan'!$P$2:$P$101,$M129)),"") | M129: =IFERROR(MATCH(AGGREGATE(15,6,'Load Plan'!$Q$2:$Q$101/('Load Plan'!$P$2:$P$101="Reschedule Required"),ROWS($M$122:M129)),'Load Plan'!$Q$2:$Q$101,0),"")
A130: =IFERROR(IF($M130="","",INDEX('Load Plan'!$F$2:$F$101,$M130)),"") | B130: =IFERROR(IF($M130="","",INDEX('Load Plan'!$A$2:$A$101,$M130)),"") | C130: =IFERROR(IF($M130="","",INDEX('Load Plan'!$B$2:$B$101,$M130)),"") | D130: =IFERROR(IF($M130="","",INDEX('Load Plan'!$C$2:$C$101,$M130)),"") | E130: =IFERROR(IF($M130="","",INDEX('Load Plan'!$K$2:$K$101,$M130)),"") | F130: =IFERROR(IF($M130="","",INDEX('Load Plan'!$J$2:$J$101,$M130)),"") | G130: =IFERROR(IF($M130="","",INDEX('Load Plan'!$E$2:$E$101,$M130)),"") | H130: =IFERROR(IF($M130="","",INDEX('Load Plan'!$G$2:$G$101,$M130)),"") | I130: =IFERROR(IF($M130="","",INDEX('Load Plan'!$M$2:$M$101,$M130)),"") | J130: =IFERROR(IF($M130="","",INDEX('Load Plan'!$N$2:$N$101,$M130)),"") | K130: =IFERROR(IF($M130="","",INDEX('Load Plan'!$O$2:$O$101,$M130)),"") | L130: =IFERROR(IF($M130="","",INDEX('Load Plan'!$P$2:$P$101,$M130)),"") | M130: =IFERROR(MATCH(AGGREGATE(15,6,'Load Plan'!$Q$2:$Q$101/('Load Plan'!$P$2:$P$101="Reschedule Required"),ROWS($M$122:M130)),'Load Plan'!$Q$2:$Q$101,0),"")
A131: =IFERROR(IF($M131="","",INDEX('Load Plan'!$F$2:$F$101,$M131)),"") | B131: =IFERROR(IF($M131="","",INDEX('Load Plan'!$A$2:$A$101,$M131)),"") | C131: =IFERROR(IF($M131="","",INDEX('Load Plan'!$B$2:$B$101,$M131)),"") | D131: =IFERROR(IF($M131="","",INDEX('Load Plan'!$C$2:$C$101,$M131)),"") | E131: =IFERROR(IF($M131="","",INDEX('Load Plan'!$K$2:$K$101,$M131)),"") | F131: =IFERROR(IF($M131="","",INDEX('Load Plan'!$J$2:$J$101,$M131)),"") | G131: =IFERROR(IF($M131="","",INDEX('Load Plan'!$E$2:$E$101,$M131)),"") | H131: =IFERROR(IF($M131="","",INDEX('Load Plan'!$G$2:$G$101,$M131)),"") | I131: =IFERROR(IF($M131="","",INDEX('Load Plan'!$M$2:$M$101,$M131)),"") | J131: =IFERROR(IF($M131="","",INDEX('Load Plan'!$N$2:$N$101,$M131)),"") | K131: =IFERROR(IF($M131="","",INDEX('Load Plan'!$O$2:$O$101,$M131)),"") | L131: =IFERROR(IF($M131="","",INDEX('Load Plan'!$P$2:$P$101,$M131)),"") | M131: =IFERROR(MATCH(AGGREGATE(15,6,'Load Plan'!$Q$2:$Q$101/('Load Plan'!$P$2:$P$101="Reschedule Required"),ROWS($M$122:M131)),'Load Plan'!$Q$2:$Q$101,0),"")
A132: =IFERROR(IF($M132="","",INDEX('Load Plan'!$F$2:$F$101,$M132)),"") | B132: =IFERROR(IF($M132="","",INDEX('Load Plan'!$A$2:$A$101,$M132)),"") | C132: =IFERROR(IF($M132="","",INDEX('Load Plan'!$B$2:$B$101,$M132)),"") | D132: =IFERROR(IF($M132="","",INDEX('Load Plan'!$C$2:$C$101,$M132)),"") | E132: =IFERROR(IF($M132="","",INDEX('Load Plan'!$K$2:$K$101,$M132)),"") | F132: =IFERROR(IF($M132="","",INDEX('Load Plan'!$J$2:$J$101,$M132)),"") | G132: =IFERROR(IF($M132="","",INDEX('Load Plan'!$E$2:$E$101,$M132)),"") | H132: =IFERROR(IF($M132="","",INDEX('Load Plan'!$G$2:$G$101,$M132)),"") | I132: =IFERROR(IF($M132="","",INDEX('Load Plan'!$M$2:$M$101,$M132)),"") | J132: =IFERROR(IF($M132="","",INDEX('Load Plan'!$N$2:$N$101,$M132)),"") | K132: =IFERROR(IF($M132="","",INDEX('Load Plan'!$O$2:$O$101,$M132)),"") | L132: =IFERROR(IF($M132="","",INDEX('Load Plan'!$P$2:$P$101,$M132)),"") | M132: =IFERROR(MATCH(AGGREGATE(15,6,'Load Plan'!$Q$2:$Q$101/('Load Plan'!$P$2:$P$101="Reschedule Required"),ROWS($M$122:M132)),'Load Plan'!$Q$2:$Q$101,0),"")
A133: =IFERROR(IF($M133="","",INDEX('Load Plan'!$F$2:$F$101,$M133)),"") | B133: =IFERROR(IF($M133="","",INDEX('Load Plan'!$A$2:$A$101,$M133)),"") | C133: =IFERROR(IF($M133="","",INDEX('Load Plan'!$B$2:$B$101,$M133)),"") | D133: =IFERROR(IF($M133="","",INDEX('Load Plan'!$C$2:$C$101,$M133)),"") | E133: =IFERROR(IF($M133="","",INDEX('Load Plan'!$K$2:$K$101,$M133)),"") | F133: =IFERROR(IF($M133="","",INDEX('Load Plan'!$J$2:$J$101,$M133)),"") | G133: =IFERROR(IF($M133="","",INDEX('Load Plan'!$E$2:$E$101,$M133)),"") | H133: =IFERROR(IF($M133="","",INDEX('Load Plan'!$G$2:$G$101,$M133)),"") | I133: =IFERROR(IF($M133="","",INDEX('Load Plan'!$M$2:$M$101,$M133)),"") | J133: =IFERROR(IF($M133="","",INDEX('Load Plan'!$N$2:$N$101,$M133)),"") | K133: =IFERROR(IF($M133="","",INDEX('Load Plan'!$O$2:$O$101,$M133)),"") | L133: =IFERROR(IF($M133="","",INDEX('Load Plan'!$P$2:$P$101,$M133)),"") | M133: =IFERROR(MATCH(AGGREGATE(15,6,'Load Plan'!$Q$2:$Q$101/('Load Plan'!$P$2:$P$101="Reschedule Required"),ROWS($M$122:M133)),'Load Plan'!$Q$2:$Q$101,0),"")
... A221: =IFERROR(IF($M221="","",INDEX('Load Plan'!$F$2:$F$101,$M221)),"") | B221: =IFERROR(IF($M221="","",INDEX('Load Plan'!$A$2:$A$101,$M221)),"") | C221: =IFERROR(IF($M221="","",INDEX('Load Plan'!$B$2:$B$101,$M221)),"") | D221: =IFERROR(IF($M221="","",INDEX('Load Plan'!$C$2:$C$101,$M221)),"") | E221: =IFERROR(IF($M221="","",INDEX('Load Plan'!$K$2:$K$101,$M221)),"") | F221: =IFERROR(IF($M221="","",INDEX('Load Plan'!$J$2:$J$101,$M221)),"") | G221: =IFERROR(IF($M221="","",INDEX('Load Plan'!$E$2:$E$101,$M221)),"") | H221: =IFERROR(IF($M221="","",INDEX('Load Plan'!$G$2:$G$101,$M221)),"") | I221: =IFERROR(IF($M221="","",INDEX('Load Plan'!$M$2:$M$101,$M221)),"") | J221: =IFERROR(IF($M221="","",INDEX('Load Plan'!$N$2:$N$101,$M221)),"") | K221: =IFERROR(IF($M221="","",INDEX('Load Plan'!$O$2:$O$101,$M221)),"") | L221: =IFERROR(IF($M221="","",INDEX('Load Plan'!$P$2:$P$101,$M221)),"") | M221: =IFERROR(MATCH(AGGREGATE(15,6,'Load Plan'!$Q$2:$Q$101/('Load Plan'!$P$2:$P$101="Reschedule Required"),ROWS($M$122:M221)),'Load Plan'!$Q$2:$Q$101,0),"")
A224: Asset-Level Maintenance View
A225: This view shows the latest recorded event for each machine and equipment combination. Event dates or readings are displayed as entered and are not interpreted or converted.
A228: Machine Identifier | B228: Equipment ID | C228: Latest Event Date | D228: Latest Reading | E228: Owner or Responsible Role | F228: Latest Record Status | G228: Asset History Status | H228: Latest Asset Sort Position
...

Sheet Load Plan
A1: Plan Item ID | B1: Machine Identifier | C1: Equipment ID | D1: Reporting Period | E1: Required Date | F1: Planned Start Date | G1: Planned End Date | H1: Required Load Hours (hours) | I1: Available Resources (hours) | J1: Owner or Responsible Role | K1: Planned Action | L1: Machine/Period Planned Load Hours (hours) | M1: Capacity or Due-Date Checks — Capacity Check | N1: Due or Threshold Checks — Due-Date Check | O1: Date Sequencing Check | P1: Action Status | Q1: Action Sort Key | S1: Example data only: rows 2-9 are examples. Replace or delete before operational use.
A2: LP-001 | B2: M-100 | C2: EQ-100 | D2: October 2026 | E2: 46300 | F2: 46297 | G2: 46298 | H2: 8 | I2: 12 | J2: Production Planner | K2: Review machine load | L2: =IFERROR(IF(OR($A2="",$B2="",$D2="",NOT(ISNUMBER($H2))),"",SUMIFS($H$2:$H$101,$B$2:$B$101,$B2,$D$2:$D$101,$D2)),"") | M2: =IFERROR(IF(OR($L2="",NOT(ISNUMBER($I2))),"",IF($L2>$I2,"Capacity Exception","Capacity OK")),"") | N2: =IFERROR(IF(OR($A2="",NOT(ISNUMBER($E2)),NOT(ISNUMBER($G2))),"",IF($G2>$E2,"Due-Date Exception","Due-Date OK")),"") | O2: =IFERROR(IF(OR($A2="",NOT(ISNUMBER($F2)),NOT(ISNUMBER($G2))),"",IF($G2<$F2,"Date Sequence Exception","Date Sequence OK")),"") | P2: =IFERROR(IF(OR($M2="",$N2="",$O2=""),"",IF(OR($M2="Capacity Exception",$N2="Due-Date Exception",$O2="Date Sequence Exception"),"Reschedule Required","Planned")),"") | Q2: =IFERROR(IF(OR($P2="",NOT(ISNUMBER($F2))),"",$F2+ROW()/100000),"")
A3: LP-002 | B3: M-101 | C3: EQ-101 | D3: October 2026 | E3: 46301 | F3: 46299 | G3: 46300 | H3: 14 | I3: 12 | J3: Shop-Floor Supervisor | K3: Review machine load | L3: =IFERROR(IF(OR($A3="",$B3="",$D3="",NOT(ISNUMBER($H3))),"",SUMIFS($H$2:$H$101,$B$2:$B$101,$B3,$D$2:$D$101,$D3)),"") | M3: =IFERROR(IF(OR($L3="",NOT(ISNUMBER($I3))),"",IF($L3>$I3,"Capacity Exception","Capacity OK")),"") | N3: =IFERROR(IF(OR($A3="",NOT(ISNUMBER($E3)),NOT(ISNUMBER($G3))),"",IF($G3>$E3,"Due-Date Exception","Due-Date OK")),"") | O3: =IFERROR(IF(OR($A3="",NOT(ISNUMBER($F3)),NOT(ISNUMBER($G3))),"",IF($G3<$F3,"Date Sequence Exception","Date Sequence OK")),"") | P3: =IFERROR(IF(OR($M3="",$N3="",$O3=""),"",IF(OR($M3="Capacity Exception",$N3="Due-Date Exception",$O3="Date Sequence Exception"),"Reschedule Required","Planned")),"") | Q3: =IFERROR(IF(OR($P3="",NOT(ISNUMBER($F3))),"",$F3+ROW()/100000),"")
A4: LP-003 | B4: M-102 | C4: EQ-102 | D4: October 2026 | E4: 46299 | F4: 46298 | G4: 46300 | H4: 6 | I4: 8 | J4: Production Planner | K4: Review required date | L4: =IFERROR(IF(OR($A4="",$B4="",$D4="",NOT(ISNUMBER($H4))),"",SUMIFS($H$2:$H$101,$B$2:$B$101,$B4,$D$2:$D$101,$D4)),"") | M4: =IFERROR(IF(OR($L4="",NOT(ISNUMBER($I4))),"",IF($L4>$I4,"Capacity Exception","Capacity OK")),"") | N4: =IFERROR(IF(OR($A4="",NOT(ISNUMBER($E4)),NOT(ISNUMBER($G4))),"",IF($G4>$E4,"Due-Date Exception","Due-Date OK")),"") | O4: =IFERROR(IF(OR($A4="",NOT(ISNUMBER($F4)),NOT(ISNUMBER($G4))),"",IF($G4<$F4,"Date Sequence Exception","Date Sequence OK")),"") | P4: =IFERROR(IF(OR($M4="",$N4="",$O4=""),"",IF(OR($M4="Capacity Exception",$N4="Due-Date Exception",$O4="Date Sequence Exception"),"Reschedule Required","Planned")),"") | Q4: =IFERROR(IF(OR($P4="",NOT(ISNUMBER($F4))),"",$F4+ROW()/100000),"")
A5: LP-004 | B5: M-103 | C5: EQ-103 | D5: October 2026 | E5: 46304 | F5: 46303 | G5: 46302 | H5: 4 | I5: 8 | J5: Shop-Floor Supervisor | K5: Correct planned dates | L5: =IFERROR(IF(OR($A5="",$B5="",$D5="",NOT(ISNUMBER($H5))),"",SUMIFS($H$2:$H$101,$B$2:$B$101,$B5,$D$2:$D$101,$D5)),"") | M5: =IFERROR(IF(OR($L5="",NOT(ISNUMBER($I5))),"",IF($L5>$I5,"Capacity Exception","Capacity OK")),"") | N5: =IFERROR(IF(OR($A5="",NOT(ISNUMBER($E5)),NOT(ISNUMBER($G5))),"",IF($G5>$E5,"Due-Date Exception","Due-Date OK")),"") | O5: =IFERROR(IF(OR($A5="",NOT(ISNUMBER($F5)),NOT(ISNUMBER($G5))),"",IF($G5<$F5,"Date Sequence Exception","Date Sequence OK")),"") | P5: =IFERROR(IF(OR($M5="",$N5="",$O5=""),"",IF(OR($M5="Capacity Exception",$N5="Due-Date Exception",$O5="Date Sequence Exception"),"Reschedule Required","Planned")),"") | Q5: =IFERROR(IF(OR($P5="",NOT(ISNUMBER($F5))),"",$F5+ROW()/100000),"")
A6: LP-005 | B6: M-104 | C6: EQ-104 | D6: October 2026 | E6: 46303 | F6: 46301 | G6: 46301 | H6: 5 | I6: 10 | J6: Materials Team | K6: Review machine load | L6: =IFERROR(IF(OR($A6="",$B6="",$D6="",NOT(ISNUMBER($H6))),"",SUMIFS($H$2:$H$101,$B$2:$B$101,$B6,$D$2:$D$101,$D6)),"") | M6: =IFERROR(IF(OR($L6="",NOT(ISNUMBER($I6))),"",IF($L6>$I6,"Capacity Exception","Capacity OK")),"") | N6: =IFERROR(IF(OR($A6="",NOT(ISNUMBER($E6)),NOT(ISNUMBER($G6))),"",IF($G6>$E6,"Due-Date Exception","Due-Date OK")),"") | O6: =IFERROR(IF(OR($A6="",NOT(ISNUMBER($F6)),NOT(ISNUMBER($G6))),"",IF($G6<$F6,"Date Sequence Exception","Date Sequence OK")),"") | P6: =IFERROR(IF(OR($M6="",$N6="",$O6=""),"",IF(OR($M6="Capacity Exception",$N6="Due-Date Exception",$O6="Date Sequence Exception"),"Reschedule Required","Planned")),"") | Q6: =IFERROR(IF(OR($P6="",NOT(ISNUMBER($F6))),"",$F6+ROW()/100000),"")
A7: LP-006 | B7: M-104 | C7: EQ-104 | D7: October 2026 | E7: 46305 | F7: 46302 | G7: 46303 | H7: 7 | I7: 10 | J7: Materials Team | K7: Review machine load | L7: =IFERROR(IF(OR($A7="",$B7="",$D7="",NOT(ISNUMBER($H7))),"",SUMIFS($H$2:$H$101,$B$2:$B$101,$B7,$D$2:$D$101,$D7)),"") | M7: =IFERROR(IF(OR($L7="",NOT(ISNUMBER($I7))),"",IF($L7>$I7,"Capacity Exception","Capacity OK")),"") | N7: =IFERROR(IF(OR($A7="",NOT(ISNUMBER($E7)),NOT(ISNUMBER($G7))),"",IF($G7>$E7,"Due-Date Exception","Due-Date OK")),"") | O7: =IFERROR(IF(OR($A7="",NOT(ISNUMBER($F7)),NOT(ISNUMBER($G7))),"",IF($G7<$F7,"Date Sequence Exception","Date Sequence OK")),"") | P7: =IFERROR(IF(OR($M7="",$N7="",$O7=""),"",IF(OR($M7="Capacity Exception",$N7="Due-Date Exception",$O7="Date Sequence Exception"),"Reschedule Required","Planned")),"") | Q7: =IFERROR(IF(OR($P7="",NOT(ISNUMBER($F7))),"",$F7+ROW()/100000),"")
A8: LP-007 | B8: M-105 | C8: EQ-105 | D8: October 2026 | E8: 46307 | F8: 46305 | G8: 46306 | H8: 6 | I8: 8 | J8: Production Planner | K8: Confirm planned load | L8: =IFERROR(IF(OR($A8="",$B8="",$D8="",NOT(ISNUMBER($H8))),"",SUMIFS($H$2:$H$101,$B$2:$B$101,$B8,$D$2:$D$101,$D8)),"") | M8: =IFERROR(IF(OR($L8="",NOT(ISNUMBER($I8))),"",IF($L8>$I8,"Capacity Exception","Capacity OK")),"") | N8: =IFERROR(IF(OR($A8="",NOT(ISNUMBER($E8)),NOT(ISNUMBER($G8))),"",IF($G8>$E8,"Due-Date Exception","Due-Date OK")),"") | O8: =IFERROR(IF(OR($A8="",NOT(ISNUMBER($F8)),NOT(ISNUMBER($G8))),"",IF($G8<$F8,"Date Sequence Exception","Date Sequence OK")),"") | P8: =IFERROR(IF(OR($M8="",$N8="",$O8=""),"",IF(OR($M8="Capacity Exception",$N8="Due-Date Exception",$O8="Date Sequence Exception"),"Reschedule Required","Planned")),"") | Q8: =IFERROR(IF(OR($P8="",NOT(ISNUMBER($F8))),"",$F8+ROW()/100000),"")
A9: LP-008 | B9: M-106 | C9: EQ-106 | D9: October 2026 | E9: 46309 | F9: 46307 | G9: 46308 | H9: 4 | I9: 8 | J9: Quality Coordinator | K9: Confirm planned load | L9: =IFERROR(IF(OR($A9="",$B9="",$D9="",NOT(ISNUMBER($H9))),"",SUMIFS($H$2:$H$101,$B$2:$B$101,$B9,$D$2:$D$101,$D9)),"") | M9: =IFERROR(IF(OR($L9="",NOT(ISNUMBER($I9))),"",IF($L9>$I9,"Capacity Exception","Capacity OK")),"") | N9: =IFERROR(IF(OR($A9="",NOT(ISNUMBER($E9)),NOT(ISNUMBER($G9))),"",IF($G9>$E9,"Due-Date Exception","Due-Date OK")),"") | O9: =IFERROR(IF(OR($A9="",NOT(ISNUMBER($F9)),NOT(ISNUMBER($G9))),"",IF($G9<$F9,"Date Sequence Exception","Date Sequence OK")),"") | P9: =IFERROR(IF(OR($M9="",$N9="",$O9=""),"",IF(OR($M9="Capacity Exception",$N9="Due-Date Exception",$O9="Date Sequence Exception"),"Reschedule Required","Planned")),"") | Q9: =IFERROR(IF(OR($P9="",NOT(ISNUMBER($F9))),"",$F9+ROW()/100000),"")
L10: =IFERROR(IF(OR($A10="",$B10="",$D10="",NOT(ISNUMBER($H10))),"",SUMIFS($H$2:$H$101,$B$2:$B$101,$B10,$D$2:$D$101,$D10)),"") | M10: =IFERROR(IF(OR($L10="",NOT(ISNUMBER($I10))),"",IF($L10>$I10,"Capacity Exception","Capacity OK")),"") | N10: =IFERROR(IF(OR($A10="",NOT(ISNUMBER($E10)),NOT(ISNUMBER($G10))),"",IF($G10>$E10,"Due-Date Exception","Due-Date OK")),"") | O10: =IFERROR(IF(OR($A10="",NOT(ISNUMBER($F10)),NOT(ISNUMBER($G10))),"",IF($G10<$F10,"Date Sequence Exception","Date Sequence OK")),"") | P10: =IFERROR(IF(OR($M10="",$N10="",$O10=""),"",IF(OR($M10="Capacity Exception",$N10="Due-Date Exception",$O10="Date Sequence Exception"),"Reschedule Required","Planned")),"") | Q10: =IFERROR(IF(OR($P10="",NOT(ISNUMBER($F10))),"",$F10+ROW()/100000),"")
L11: =IFERROR(IF(OR($A11="",$B11="",$D11="",NOT(ISNUMBER($H11))),"",SUMIFS($H$2:$H$101,$B$2:$B$101,$B11,$D$2:$D$101,$D11)),"") | M11: =IFERROR(IF(OR($L11="",NOT(ISNUMBER($I11))),"",IF($L11>$I11,"Capacity Exception","Capacity OK")),"") | N11: =IFERROR(IF(OR($A11="",NOT(ISNUMBER($E11)),NOT(ISNUMBER($G11))),"",IF($G11>$E11,"Due-Date Exception","Due-Date OK")),"") | O11: =IFERROR(IF(OR($A11="",NOT(ISNUMBER($F11)),NOT(ISNUMBER($G11))),"",IF($G11<$F11,"Date Sequence Exception","Date Sequence OK")),"") | P11: =IFERROR(IF(OR($M11="",$N11="",$O11=""),"",IF(OR($M11="Capacity Exception",$N11="Due-Date Exception",$O11="Date Sequence Exception"),"Reschedule Required","Planned")),"") | Q11: =IFERROR(IF(OR($P11="",NOT(ISNUMBER($F11))),"",$F11+ROW()/100000),"")
L12: =IFERROR(IF(OR($A12="",$B12="",$D12="",NOT(ISNUMBER($H12))),"",SUMIFS($H$2:$H$101,$B$2:$B$101,$B12,$D$2:$D$101,$D12)),"") | M12: =IFERROR(IF(OR($L12="",NOT(ISNUMBER($I12))),"",IF($L12>$I12,"Capacity Exception","Capacity OK")),"") | N12: =IFERROR(IF(OR($A12="",NOT(ISNUMBER($E12)),NOT(ISNUMBER($G12))),"",IF($G12>$E12,"Due-Date Exception","Due-Date OK")),"") | O12: =IFERROR(IF(OR($A12="",NOT(ISNUMBER($F12)),NOT(ISNUMBER($G12))),"",IF($G12<$F12,"Date Sequence Exception","Date Sequence OK")),"") | P12: =IFERROR(IF(OR($M12="",$N12="",$O12=""),"",IF(OR($M12="Capacity Exception",$N12="Due-Date Exception",$O12="Date Sequence Exception"),"Reschedule Required","Planned")),"") | Q12: =IFERROR(IF(OR($P12="",NOT(ISNUMBER($F12))),"",$F12+ROW()/100000),"")
L13: =IFERROR(IF(OR($A13="",$B13="",$D13="",NOT(ISNUMBER($H13))),"",SUMIFS($H$2:$H$101,$B$2:$B$101,$B13,$D$2:$D$101,$D13)),"") | M13: =IFERROR(IF(OR($L13="",NOT(ISNUMBER($I13))),"",IF($L13>$I13,"Capacity Exception","Capacity OK")),"") | N13: =IFERROR(IF(OR($A13="",NOT(ISNUMBER($E13)),NOT(ISNUMBER($G13))),"",IF($G13>$E13,"Due-Date Exception","Due-Date OK")),"") | O13: =IFERROR(IF(OR($A13="",NOT(ISNUMBER($F13)),NOT(ISNUMBER($G13))),"",IF($G13<$F13,"Date Sequence Exception","Date Sequence OK")),"") | P13: =IFERROR(IF(OR($M13="",$N13="",$O13=""),"",IF(OR($M13="Capacity Exception",$N13="Due-Date Exception",$O13="Date Sequence Exception"),"Reschedule Required","Planned")),"") | Q13: =IFERROR(IF(OR($P13="",NOT(ISNUMBER($F13))),"",$F13+ROW()/100000),"")
L14: =IFERROR(IF(OR($A14="",$B14="",$D14="",NOT(ISNUMBER($H14))),"",SUMIFS($H$2:$H$101,$B$2:$B$101,$B14,$D$2:$D$101,$D14)),"") | M14: =IFERROR(IF(OR($L14="",NOT(ISNUMBER($I14))),"",IF($L14>$I14,"Capacity Exception","Capacity OK")),"") | N14: =IFERROR(IF(OR($A14="",NOT(ISNUMBER($E14)),NOT(ISNUMBER($G14))),"",IF($G14>$E14,"Due-Date Exception","Due-Date OK")),"") | O14: =IFERROR(IF(OR($A14="",NOT(ISNUMBER($F14)),NOT(ISNUMBER($G14))),"",IF($G14<$F14,"Date Sequence Exception","Date Sequence OK")),"") | P14: =IFERROR(IF(OR($M14="",$N14="",$O14=""),"",IF(OR($M14="Capacity Exception",$N14="Due-Date Exception",$O14="Date Sequence Exception"),"Reschedule Required","Planned")),"") | Q14: =IFERROR(IF(OR($P14="",NOT(ISNUMBER($F14))),"",$F14+ROW()/100000),"")
L15: =IFERROR(IF(OR($A15="",$B15="",$D15="",NOT(ISNUMBER($H15))),"",SUMIFS($H$2:$H$101,$B$2:$B$101,$B15,$D$2:$D$101,$D15)),"") | M15: =IFERROR(IF(OR($L15="",NOT(ISNUMBER($I15))),"",IF($L15>$I15,"Capacity Exception","Capacity OK")),"") | N15: =IFERROR(IF(OR($A15="",NOT(ISNUMBER($E15)),NOT(ISNUMBER($G15))),"",IF($G15>$E15,"Due-Date Exception","Due-Date OK")),"") | O15: =IFERROR(IF(OR($A15="",NOT(ISNUMBER($F15)),NOT(ISNUMBER($G15))),"",IF($G15<$F15,"Date Sequence Exception","Date Sequence OK")),"") | P15: =IFERROR(IF(OR($M15="",$N15="",$O15=""),"",IF(OR($M15="Capacity Exception",$N15="Due-Date Exception",$O15="Date Sequence Exception"),"Reschedule Required","Planned")),"") | Q15: =IFERROR(IF(OR($P15="",NOT(ISNUMBER($F15))),"",$F15+ROW()/100000),"")
L16: =IFERROR(IF(OR($A16="",$B16="",$D16="",NOT(ISNUMBER($H16))),"",SUMIFS($H$2:$H$101,$B$2:$B$101,$B16,$D$2:$D$101,$D16)),"") | M16: =IFERROR(IF(OR($L16="",NOT(ISNUMBER($I16))),"",IF($L16>$I16,"Capacity Exception","Capacity OK")),"") | N16: =IFERROR(IF(OR($A16="",NOT(ISNUMBER($E16)),NOT(ISNUMBER($G16))),"",IF($G16>$E16,"Due-Date Exception","Due-Date OK")),"") | O16: =IFERROR(IF(OR($A16="",NOT(ISNUMBER($F16)),NOT(ISNUMBER($G16))),"",IF($G16<$F16,"Date Sequence Exception","Date Sequence OK")),"") | P16: =IFERROR(IF(OR($M16="",$N16="",$O16=""),"",IF(OR($M16="Capacity Exception",$N16="Due-Date Exception",$O16="Date Sequence Exception"),"Reschedule Required","Planned")),"") | Q16: =IFERROR(IF(OR($P16="",NOT(ISNUMBER($F16))),"",$F16+ROW()/100000),"")
L17: =IFERROR(IF(OR($A17="",$B17="",$D17="",NOT(ISNUMBER($H17))),"",SUMIFS($H$2:$H$101,$B$2:$B$101,$B17,$D$2:$D$101,$D17)),"") | M17: =IFERROR(IF(OR($L17="",NOT(ISNUMBER($I17))),"",IF($L17>$I17,"Capacity Exception","Capacity OK")),"") | N17: =IFERROR(IF(OR($A17="",NOT(ISNUMBER($E17)),NOT(ISNUMBER($G17))),"",IF($G17>$E17,"Due-Date Exception","Due-Date OK")),"") | O17: =IFERROR(IF(OR($A17="",NOT(ISNUMBER($F17)),NOT(ISNUMBER($G17))),"",IF($G17<$F17,"Date Sequence Exception","Date Sequence OK")),"") | P17: =IFERROR(IF(OR($M17="",$N17="",$O17=""),"",IF(OR($M17="Capacity Exception",$N17="Due-Date Exception",$O17="Date Sequence Exception"),"Reschedule Required","Planned")),"") | Q17: =IFERROR(IF(OR($P17="",NOT(ISNUMBER($F17))),"",$F17+ROW()/100000),"")
L18: =IFERROR(IF(OR($A18="",$B18="",$D18="",NOT(ISNUMBER($H18))),"",SUMIFS($H$2:$H$101,$B$2:$B$101,$B18,$D$2:$D$101,$D18)),"") | M18: =IFERROR(IF(OR($L18="",NOT(ISNUMBER($I18))),"",IF($L18>$I18,"Capacity Exception","Capacity OK")),"") | N18: =IFERROR(IF(OR($A18="",NOT(ISNUMBER($E18)),NOT(ISNUMBER($G18))),"",IF($G18>$E18,"Due-Date Exception","Due-Date OK")),"") | O18: =IFERROR(IF(OR($A18="",NOT(ISNUMBER($F18)),NOT(ISNUMBER($G18))),"",IF($G18<$F18,"Date Sequence Exception","Date Sequence OK")),"") | P18: =IFERROR(IF(OR($M18="",$N18="",$O18=""),"",IF(OR($M18="Capacity Exception",$N18="Due-Date Exception",$O18="Date Sequence Exception"),"Reschedule Required","Planned")),"") | Q18: =IFERROR(IF(OR($P18="",NOT(ISNUMBER($F18))),"",$F18+ROW()/100000),"")
L19: =IFERROR(IF(OR($A19="",$B19="",$D19="",NOT(ISNUMBER($H19))),"",SUMIFS($H$2:$H$101,$B$2:$B$101,$B19,$D$2:$D$101,$D19)),"") | M19: =IFERROR(IF(OR($L19="",NOT(ISNUMBER($I19))),"",IF($L19>$I19,"Capacity Exception","Capacity OK")),"") | N19: =IFERROR(IF(OR($A19="",NOT(ISNUMBER($E19)),NOT(ISNUMBER($G19))),"",IF($G19>$E19,"Due-Date Exception","Due-Date OK")),"") | O19: =IFERROR(IF(OR($A19="",NOT(ISNUMBER($F19)),NOT(ISNUMBER($G19))),"",IF($G19<$F19,"Date Sequence Exception","Date Sequence OK")),"") | P19: =IFERROR(IF(OR($M19="",$N19="",$O19=""),"",IF(OR($M19="Capacity Exception",$N19="Due-Date Exception",$O19="Date Sequence Exception"),"Reschedule Required","Planned")),"") | Q19: =IFERROR(IF(OR($P19="",NOT(ISNUMBER($F19))),"",$F19+ROW()/100000),"")
L20: =IFERROR(IF(OR($A20="",$B20="",$D20="",NOT(ISNUMBER($H20))),"",SUMIFS($H$2:$H$101,$B$2:$B$101,$B20,$D$2:$D$101,$D20)),"") | M20: =IFERROR(IF(OR($L20="",NOT(ISNUMBER($I20))),"",IF($L20>$I20,"Capacity Exception","Capacity OK")),"") | N20: =IFERROR(IF(OR($A20="",NOT(ISNUMBER($E20)),NOT(ISNUMBER($G20))),"",IF($G20>$E20,"Due-Date Exception","Due-Date OK")),"") | O20: =IFERROR(IF(OR($A20="",NOT(ISNUMBER($F20)),NOT(ISNUMBER($G20))),"",IF($G20<$F20,"Date Sequence Exception","Date Sequence OK")),"") | P20: =IFERROR(IF(OR($M20="",$N20="",$O20=""),"",IF(OR($M20="Capacity Exception",$N20="Due-Date Exception",$O20="Date Sequence Exception"),"Reschedule Required","Planned")),"") | Q20: =IFERROR(IF(OR($P20="",NOT(ISNUMBER($F20))),"",$F20+ROW()/100000),"")
L21: =IFERROR(IF(OR($A21="",$B21="",$D21="",NOT(ISNUMBER($H21))),"",SUMIFS($H$2:$H$101,$B$2:$B$101,$B21,$D$2:$D$101,$D21)),"") | M21: =IFERROR(IF(OR($L21="",NOT(ISNUMBER($I21))),"",IF($L21>$I21,"Capacity Exception","Capacity OK")),"") | N21: =IFERROR(IF(OR($A21="",NOT(ISNUMBER($E21)),NOT(ISNUMBER($G21))),"",IF($G21>$E21,"Due-Date Exception","Due-Date OK")),"") | O21: =IFERROR(IF(OR($A21="",NOT(ISNUMBER($F21)),NOT(ISNUMBER($G21))),"",IF($G21<$F21,"Date Sequence Exception","Date Sequence OK")),"") | P21: =IFERROR(IF(OR($M21="",$N21="",$O21=""),"",IF(OR($M21="Capacity Exception",$N21="Due-Date Exception",$O21="Date Sequence Exception"),"Reschedule Required","Planned")),"") | Q21: =IFERROR(IF(OR($P21="",NOT(ISNUMBER($F21))),"",$F21+ROW()/100000),"")
... L101: =IFERROR(IF(OR($A101="",$B101="",$D101="",NOT(ISNUMBER($H101))),"",SUMIFS($H$2:$H$101,$B$2:$B$101,$B101,$D$2:$D$101,$D101)),"") | M101: =IFERROR(IF(OR($L101="",NOT(ISNUMBER($I101))),"",IF($L101>$I101,"Capacity Exception","Capacity OK")),"") | N101: =IFERROR(IF(OR($A101="",NOT(ISNUMBER($E101)),NOT(ISNUMBER($G101))),"",IF($G101>$E101,"Due-Date Exception","Due-Date OK")),"") | O101: =IFERROR(IF(OR($A101="",NOT(ISNUMBER($F101)),NOT(ISNUMBER($G101))),"",IF($G101<$F101,"Date Sequence Exception","Date Sequence OK")),"") | P101: =IFERROR(IF(OR($M101="",$N101="",$O101=""),"",IF(OR($M101="Capacity Exception",$N101="Due-Date Exception",$O101="Date Sequence Exception"),"Reschedule Required","Planned")),"") | Q101: =IFERROR(IF(OR($P101="",NOT(ISNUMBER($F101))),"",$F101+ROW()/100000),"")

Sheet Machine History
A1: Machine Identifier | B1: Equipment ID | C1: Event Dates or Readings — Event Date (m/d/Y) | D1: Readings (as recorded) | E1: Owner or Responsible Role | F1: Prior Recorded Event Date | G1: History Consistency Check | H1: Latest Asset Record | I1: Latest Asset Sort Key | K1: Event Dates or Readings. Example data only: rows 2-9 are examples. Replace or delete before operational use.
A2: M-100 | B2: EQ-100 | C2: 46280 | D2: Sample Reading 1 | E2: Maintenance Coordinator | F2: =IFERROR(IF(OR($A2="",$B2="",NOT(ISNUMBER($C2))),"",LOOKUP(2,1/(($A$2:$A$101=$A2)*($B$2:$B$101=$B2)*(ROW($A$2:$A$101)<ROW($A2))*ISNUMBER($C$2:$C$101)),$C$2:$C$101)),"") | G2: =IFERROR(IF(OR($A2="",$B2="",NOT(ISNUMBER($C2))),"",IF($F2="","First Recorded Event",IF($C2<=$F2,"History Sequence Exception","History Sequence OK"))),"") | H2: =IFERROR(IF(OR($A2="",$B2="",NOT(ISNUMBER($C2))),"",IF(COUNTIFS($A$2:$A$101,$A2,$B$2:$B$101,$B2,$C$2:$C$101,">"&$C2)+COUNTIFS($A2:$A$101,$A2,$B2:$B$101,$B2,$C2:$C$101,$C2)-1=0,"Latest Recorded Event","Earlier Recorded Event")),"") | I2: =IFERROR(IF(OR($H2<>"Latest Recorded Event",NOT(ISNUMBER($C2))),"",$C2+ROW()/100000),"")
A3: M-101 | B3: EQ-101 | C3: 46281 | D3: Sample Reading 2 | E3: Maintenance Coordinator | F3: =IFERROR(IF(OR($A3="",$B3="",NOT(ISNUMBER($C3))),"",LOOKUP(2,1/(($A$2:$A$101=$A3)*($B$2:$B$101=$B3)*(ROW($A$2:$A$101)<ROW($A3))*ISNUMBER($C$2:$C$101)),$C$2:$C$101)),"") | G3: =IFERROR(IF(OR($A3="",$B3="",NOT(ISNUMBER($C3))),"",IF($F3="","First Recorded Event",IF($C3<=$F3,"History Sequence Exception","History Sequence OK"))),"") | H3: =IFERROR(IF(OR($A3="",$B3="",NOT(ISNUMBER($C3))),"",IF(COUNTIFS($A$2:$A$101,$A3,$B$2:$B$101,$B3,$C$2:$C$101,">"&$C3)+COUNTIFS($A3:$A$101,$A3,$B3:$B$101,$B3,$C3:$C$101,$C3)-1=0,"Latest Recorded Event","Earlier Recorded Event")),"") | I3: =IFERROR(IF(OR($H3<>"Latest Recorded Event",NOT(ISNUMBER($C3))),"",$C3+ROW()/100000),"")
A4: M-102 | B4: EQ-102 | C4: 46282 | D4: Sample Reading 3 | E4: Maintenance Coordinator | F4: =IFERROR(IF(OR($A4="",$B4="",NOT(ISNUMBER($C4))),"",LOOKUP(2,1/(($A$2:$A$101=$A4)*($B$2:$B$101=$B4)*(ROW($A$2:$A$101)<ROW($A4))*ISNUMBER($C$2:$C$101)),$C$2:$C$101)),"") | G4: =IFERROR(IF(OR($A4="",$B4="",NOT(ISNUMBER($C4))),"",IF($F4="","First Recorded Event",IF($C4<=$F4,"History Sequence Exception","History Sequence OK"))),"") | H4: =IFERROR(IF(OR($A4="",$B4="",NOT(ISNUMBER($C4))),"",IF(COUNTIFS($A$2:$A$101,$A4,$B$2:$B$101,$B4,$C$2:$C$101,">"&$C4)+COUNTIFS($A4:$A$101,$A4,$B4:$B$101,$B4,$C4:$C$101,$C4)-1=0,"Latest Recorded Event","Earlier Recorded Event")),"") | I4: =IFERROR(IF(OR($H4<>"Latest Recorded Event",NOT(ISNUMBER($C4))),"",$C4+ROW()/100000),"")
A5: M-103 | B5: EQ-103 | C5: 46285 | D5: Sample Reading 4 | E5: Maintenance Coordinator | F5: =IFERROR(IF(OR($A5="",$B5="",NOT(ISNUMBER($C5))),"",LOOKUP(2,1/(($A$2:$A$101=$A5)*($B$2:$B$101=$B5)*(ROW($A$2:$A$101)<ROW($A5))*ISNUMBER($C$2:$C$101)),$C$2:$C$101)),"") | G5: =IFERROR(IF(OR($A5="",$B5="",NOT(ISNUMBER($C5))),"",IF($F5="","First Recorded Event",IF($C5<=$F5,"History Sequence Exception","History Sequence OK"))),"") | H5: =IFERROR(IF(OR($A5="",$B5="",NOT(ISNUMBER($C5))),"",IF(COUNTIFS($A$2:$A$101,$A5,$B$2:$B$101,$B5,$C$2:$C$101,">"&$C5)+COUNTIFS($A5:$A$101,$A5,$B5:$B$101,$B5,$C5:$C$101,$C5)-1=0,"Latest Recorded Event","Earlier Recorded Event")),"") | I5: =IFERROR(IF(OR($H5<>"Latest Recorded Event",NOT(ISNUMBER($C5))),"",$C5+ROW()/100000),"")
A6: M-103 | B6: EQ-103 | C6: 46283 | D6: Sample Reading 5 | E6: Maintenance Coordinator | F6: =IFERROR(IF(OR($A6="",$B6="",NOT(ISNUMBER($C6))),"",LOOKUP(2,1/(($A$2:$A$101=$A6)*($B$2:$B$101=$B6)*(ROW($A$2:$A$101)<ROW($A6))*ISNUMBER($C$2:$C$101)),$C$2:$C$101)),"") | G6: =IFERROR(IF(OR($A6="",$B6="",NOT(ISNUMBER($C6))),"",IF($F6="","First Recorded Event",IF($C6<=$F6,"History Sequence Exception","History Sequence OK"))),"") | H6: =IFERROR(IF(OR($A6="",$B6="",NOT(ISNUMBER($C6))),"",IF(COUNTIFS($A$2:$A$101,$A6,$B$2:$B$101,$B6,$C$2:$C$101,">"&$C6)+COUNTIFS($A6:$A$101,$A6,$B6:$B$101,$B6,$C6:$C$101,$C6)-1=0,"Latest Recorded Event","Earlier Recorded Event")),"") | I6: =IFERROR(IF(OR($H6<>"Latest Recorded Event",NOT(ISNUMBER($C6))),"",$C6+ROW()/100000),"")
A7: M-104 | B7: EQ-104 | C7: 46275 | D7: Sample Reading 6 | E7: Maintenance Coordinator | F7: =IFERROR(IF(OR($A7="",$B7="",NOT(ISNUMBER($C7))),"",LOOKUP(2,1/(($A$2:$A$101=$A7)*($B$2:$B$101=$B7)*(ROW($A$2:$A$101)<ROW($A7))*ISNUMBER($C$2:$C$101)),$C$2:$C$101)),"") | G7: =IFERROR(IF(OR($A7="",$B7="",NOT(ISNUMBER($C7))),"",IF($F7="","First Recorded Event",IF($C7<=$F7,"History Sequence Exception","History Sequence OK"))),"") | H7: =IFERROR(IF(OR($A7="",$B7="",NOT(ISNUMBER($C7))),"",IF(COUNTIFS($A$2:$A$101,$A7,$B$2:$B$101,$B7,$C$2:$C$101,">"&$C7)+COUNTIFS($A7:$A$101,$A7,$B7:$B$101,$B7,$C7:$C$101,$C7)-1=0,"Latest Recorded Event","Earlier Recorded Event")),"") | I7: =IFERROR(IF(OR($H7<>"Latest Recorded Event",NOT(ISNUMBER($C7))),"",$C7+ROW()/100000),"")
A8: M-104 | B8: EQ-104 | C8: 46295 | D8: Sample Reading 7 | E8: Maintenance Coordinator | F8: =IFERROR(IF(OR($A8="",$B8="",NOT(ISNUMBER($C8))),"",LOOKUP(2,1/(($A$2:$A$101=$A8)*($B$2:$B$101=$B8)*(ROW($A$2:$A$101)<ROW($A8))*ISNUMBER($C$2:$C$101)),$C$2:$C$101)),"") | G8: =IFERROR(IF(OR($A8="",$B8="",NOT(ISNUMBER($C8))),"",IF($F8="","First Recorded Event",IF($C8<=$F8,"History Sequence Exception","History Sequence OK"))),"") | H8: =IFERROR(IF(OR($A8="",$B8="",NOT(ISNUMBER($C8))),"",IF(COUNTIFS($A$2:$A$101,$A8,$B$2:$B$101,$B8,$C$2:$C$101,">"&$C8)+COUNTIFS($A8:$A$101,$A8,$B8:$B$101,$B8,$C8:$C$101,$C8)-1=0,"Latest Recorded Event","Earlier Recorded Event")),"") | I8: =IFERROR(IF(OR($H8<>"Latest Recorded Event",NOT(ISNUMBER($C8))),"",$C8+ROW()/100000),"")
A9: M-105 | B9: EQ-105 | C9: 46290 | D9: Sample Reading 8 | E9: Maintenance Coordinator | F9: =IFERROR(IF(OR($A9="",$B9="",NOT(ISNUMBER($C9))),"",LOOKUP(2,1/(($A$2:$A$101=$A9)*($B$2:$B$101=$B9)*(ROW($A$2:$A$101)<ROW($A9))*ISNUMBER($C$2:$C$101)),$C$2:$C$101)),"") | G9: =IFERROR(IF(OR($A9="",$B9="",NOT(ISNUMBER($C9))),"",IF($F9="","First Recorded Event",IF($C9<=$F9,"History Sequence Exception","History Sequence OK"))),"") | H9: =IFERROR(IF(OR($A9="",$B9="",NOT(ISNUMBER($C9))),"",IF(COUNTIFS($A$2:$A$101,$A9,$B$2:$B$101,$B9,$C$2:$C$101,">"&$C9)+COUNTIFS($A9:$A$101,$A9,$B9:$B$101,$B9,$C9:$C$101,$C9)-1=0,"Latest Recorded Event","Earlier Recorded Event")),"") | I9: =IFERROR(IF(OR($H9<>"Latest Recorded Event",NOT(ISNUMBER($C9))),"",$C9+ROW()/100000),"")
F10: =IFERROR(IF(OR($A10="",$B10="",NOT(ISNUMBER($C10))),"",LOOKUP(2,1/(($A$2:$A$101=$A10)*($B$2:$B$101=$B10)*(ROW($A$2:$A$101)<ROW($A10))*ISNUMBER($C$2:$C$101)),$C$2:$C$101)),"") | G10: =IFERROR(IF(OR($A10="",$B10="",NOT(ISNUMBER($C10))),"",IF($F10="","First Recorded Event",IF($C10<=$F10,"History Sequence Exception","History Sequence OK"))),"") | H10: =IFERROR(IF(OR($A10="",$B10="",NOT(ISNUMBER($C10))),"",IF(COUNTIFS($A$2:$A$101,$A10,$B$2:$B$101,$B10,$C$2:$C$101,">"&$C10)+COUNTIFS($A10:$A$101,$A10,$B10:$B$101,$B10,$C10:$C$101,$C10)-1=0,"Latest Recorded Event","Earlier Recorded Event")),"") | I10: =IFERROR(IF(OR($H10<>"Latest Recorded Event",NOT(ISNUMBER($C10))),"",$C10+ROW()/100000),"")
F11: =IFERROR(IF(OR($A11="",$B11="",NOT(ISNUMBER($C11))),"",LOOKUP(2,1/(($A$2:$A$101=$A11)*($B$2:$B$101=$B11)*(ROW($A$2:$A$101)<ROW($A11))*ISNUMBER($C$2:$C$101)),$C$2:$C$101)),"") | G11: =IFERROR(IF(OR($A11="",$B11="",NOT(ISNUMBER($C11))),"",IF($F11="","First Recorded Event",IF($C11<=$F11,"History Sequence Exception","History Sequence OK"))),"") | H11: =IFERROR(IF(OR($A11="",$B11="",NOT(ISNUMBER($C11))),"",IF(COUNTIFS($A$2:$A$101,$A11,$B$2:$B$101,$B11,$C$2:$C$101,">"&$C11)+COUNTIFS($A11:$A$101,$A11,$B11:$B$101,$B11,$C11:$C$101,$C11)-1=0,"Latest Recorded Event","Earlier Recorded Event")),"") | I11: =IFERROR(IF(OR($H11<>"Latest Recorded Event",NOT(ISNUMBER($C11))),"",$C11+ROW()/100000),"")
F12: =IFERROR(IF(OR($A12="",$B12="",NOT(ISNUMBER($C12))),"",LOOKUP(2,1/(($A$2:$A$101=$A12)*($B$2:$B$101=$B12)*(ROW($A$2:$A$101)<ROW($A12))*ISNUMBER($C$2:$C$101)),$C$2:$C$101)),"") | G12: =IFERROR(IF(OR($A12="",$B12="",NOT(ISNUMBER($C12))),"",IF($F12="","First Recorded Event",IF($C12<=$F12,"History Sequence Exception","History Sequence OK"))),"") | H12: =IFERROR(IF(OR($A12="",$B12="",NOT(ISNUMBER($C12))),"",IF(COUNTIFS($A$2:$A$101,$A12,$B$2:$B$101,$B12,$C$2:$C$101,">"&$C12)+COUNTIFS($A12:$A$101,$A12,$B12:$B$101,$B12,$C12:$C$101,$C12)-1=0,"Latest Recorded Event","Earlier Recorded Event")),"") | I12: =IFERROR(IF(OR($H12<>"Latest Recorded Event",NOT(ISNUMBER($C12))),"",$C12+ROW()/100000),"")
F13: =IFERROR(IF(OR($A13="",$B13="",NOT(ISNUMBER($C13))),"",LOOKUP(2,1/(($A$2:$A$101=$A13)*($B$2:$B$101=$B13)*(ROW($A$2:$A$101)<ROW($A13))*ISNUMBER($C$2:$C$101)),$C$2:$C$101)),"") | G13: =IFERROR(IF(OR($A13="",$B13="",NOT(ISNUMBER($C13))),"",IF($F13="","First Recorded Event",IF($C13<=$F13,"History Sequence Exception","History Sequence OK"))),"") | H13: =IFERROR(IF(OR($A13="",$B13="",NOT(ISNUMBER($C13))),"",IF(COUNTIFS($A$2:$A$101,$A13,$B$2:$B$101,$B13,$C$2:$C$101,">"&$C13)+COUNTIFS($A13:$A$101,$A13,$B13:$B$101,$B13,$C13:$C$101,$C13)-1=0,"Latest Recorded Event","Earlier Recorded Event")),"") | I13: =IFERROR(IF(OR($H13<>"Latest Recorded Event",NOT(ISNUMBER($C13))),"",$C13+ROW()/100000),"")
F14: =IFERROR(IF(OR($A14="",$B14="",NOT(ISNUMBER($C14))),"",LOOKUP(2,1/(($A$2:$A$101=$A14)*($B$2:$B$101=$B14)*(ROW($A$2:$A$101)<ROW($A14))*ISNUMBER($C$2:$C$101)),$C$2:$C$101)),"") | G14: =IFERROR(IF(OR($A14="",$B14="",NOT(ISNUMBER($C14))),"",IF($F14="","First Recorded Event",IF($C14<=$F14,"History Sequence Exception","History Sequence OK"))),"") | H14: =IFERROR(IF(OR($A14="",$B14="",NOT(ISNUMBER($C14))),"",IF(COUNTIFS($A$2:$A$101,$A14,$B$2:$B$101,$B14,$C$2:$C$101,">"&$C14)+COUNTIFS($A14:$A$101,$A14,$B14:$B$101,$B14,$C14:$C$101,$C14)-1=0,"Latest Recorded Event","Earlier Recorded Event")),"") | I14: =IFERROR(IF(OR($H14<>"Latest Recorded Event",NOT(ISNUMBER($C14))),"",$C14+ROW()/100000),"")
F15: =IFERROR(IF(OR($A15="",$B15="",NOT(ISNUMBER($C15))),"",LOOKUP(2,1/(($A$2:$A$101=$A15)*($B$2:$B$101=$B15)*(ROW($A$2:$A$101)<ROW($A15))*ISNUMBER($C$2:$C$101)),$C$2:$C$101)),"") | G15: =IFERROR(IF(OR($A15="",$B15="",NOT(ISNUMBER($C15))),"",IF($F15="","First Recorded Event",IF($C15<=$F15,"History Sequence Exception","History Sequence OK"))),"") | H15: =IFERROR(IF(OR($A15="",$B15="",NOT(ISNUMBER($C15))),"",IF(COUNTIFS($A$2:$A$101,$A15,$B$2:$B$101,$B15,$C$2:$C$101,">"&$C15)+COUNTIFS($A15:$A$101,$A15,$B15:$B$101,$B15,$C15:$C$101,$C15)-1=0,"Latest Recorded Event","Earlier Recorded Event")),"") | I15: =IFERROR(IF(OR($H15<>"Latest Recorded Event",NOT(ISNUMBER($C15))),"",$C15+ROW()/100000),"")
F16: =IFERROR(IF(OR($A16="",$B16="",NOT(ISNUMBER($C16))),"",LOOKUP(2,1/(($A$2:$A$101=$A16)*($B$2:$B$101=$B16)*(ROW($A$2:$A$101)<ROW($A16))*ISNUMBER($C$2:$C$101)),$C$2:$C$101)),"") | G16: =IFERROR(IF(OR($A16="",$B16="",NOT(ISNUMBER($C16))),"",IF($F16="","First Recorded Event",IF($C16<=$F16,"History Sequence Exception","History Sequence OK"))),"") | H16: =IFERROR(IF(OR($A16="",$B16="",NOT(ISNUMBER($C16))),"",IF(COUNTIFS($A$2:$A$101,$A16,$B$2:$B$101,$B16,$C$2:$C$101,">"&$C16)+COUNTIFS($A16:$A$101,$A16,$B16:$B$101,$B16,$C16:$C$101,$C16)-1=0,"Latest Recorded Event","Earlier Recorded Event")),"") | I16: =IFERROR(IF(OR($H16<>"Latest Recorded Event",NOT(ISNUMBER($C16))),"",$C16+ROW()/100000),"")
F17: =IFERROR(IF(OR($A17="",$B17="",NOT(ISNUMBER($C17))),"",LOOKUP(2,1/(($A$2:$A$101=$A17)*($B$2:$B$101=$B17)*(ROW($A$2:$A$101)<ROW($A17))*ISNUMBER($C$2:$C$101)),$C$2:$C$101)),"") | G17: =IFERROR(IF(OR($A17="",$B17="",NOT(ISNUMBER($C17))),"",IF($F17="","First Recorded Event",IF($C17<=$F17,"History Sequence Exception","History Sequence OK"))),"") | H17: =IFERROR(IF(OR($A17="",$B17="",NOT(ISNUMBER($C17))),"",IF(COUNTIFS($A$2:$A$101,$A17,$B$2:$B$101,$B17,$C$2:$C$101,">"&$C17)+COUNTIFS($A17:$A$101,$A17,$B17:$B$101,$B17,$C17:$C$101,$C17)-1=0,"Latest Recorded Event","Earlier Recorded Event")),"") | I17: =IFERROR(IF(OR($H17<>"Latest Recorded Event",NOT(ISNUMBER($C17))),"",$C17+ROW()/100000),"")
