Workbook

Sheet Dashboard
A1: Master Production Schedule
A2: Master Production Schedule Excel Template planning aid for finished products before production release. Review the dated action plan and open exception list before release decisions.
A4: Reporting Period Start | B4: =IFERROR('MPS Plan'!$B$2,"") | D4: Reporting Period End | E4: =IFERROR('MPS Plan'!$E$2,"") | G4: Reporting Period Status | H4: =IFERROR('MPS Plan'!$H$2,"")
A6: Dated Actions | D6: Open Rescheduling Exceptions | G6: Date Sequencing Checks Accepted | J6: Capacity Checks Within Available Time | M6: Actual Entries That Differ From Plan
A7: =SUMPRODUCT(--('Action Plan'!$C$9:$C$108<>"")) | D7: =COUNTIF('MPS Plan'!$S$9:$S$108,"Open") | G7: =COUNTIF('MPS Plan'!$M$9:$M$108,"Date sequence is acceptable") | J7: =COUNTIF('MPS Plan'!$N$9:$N$108,"Within available resource time") | M7: =COUNTIF('MPS Plan'!$O$9:$O$108,"Actual entries differ from plan")
A10: Dated Action Plan — First 8 Scheduled Lines | I10: Open Exception List — First 8
A11: Action Date | B11: Finished Products Identifier | C11: Work Order or Run ID | D11: Owner or Responsible Role | E11: Required Date | F11: Status | G11: Action or Exception Note | I11: Action Date | J11: Finished Products Identifier | K11: Work Order or Run ID | L11: Owner or Responsible Role | M11: Required Date | N11: Exception Detail
A12: =IFERROR('Action Plan'!$C$9,"") | B12: =IFERROR('Action Plan'!$D$9,"") | C12: =IFERROR('Action Plan'!$E$9,"") | D12: =IFERROR('Action Plan'!$F$9,"") | E12: =IFERROR('Action Plan'!$G$9,"") | F12: =IFERROR('Action Plan'!$H$9,"") | G12: =IFERROR('Action Plan'!$T$9,"") | I12: =IFERROR('Action Plan'!$X$9,"") | J12: =IFERROR('Action Plan'!$Y$9,"") | K12: =IFERROR('Action Plan'!$Z$9,"") | L12: =IFERROR('Action Plan'!$AA$9,"") | M12: =IFERROR('Action Plan'!$AB$9,"") | N12: =IFERROR('Action Plan'!$AC$9,"")
A13: =IFERROR('Action Plan'!$C$10,"") | B13: =IFERROR('Action Plan'!$D$10,"") | C13: =IFERROR('Action Plan'!$E$10,"") | D13: =IFERROR('Action Plan'!$F$10,"") | E13: =IFERROR('Action Plan'!$G$10,"") | F13: =IFERROR('Action Plan'!$H$10,"") | G13: =IFERROR('Action Plan'!$T$10,"") | I13: =IFERROR('Action Plan'!$X$10,"") | J13: =IFERROR('Action Plan'!$Y$10,"") | K13: =IFERROR('Action Plan'!$Z$10,"") | L13: =IFERROR('Action Plan'!$AA$10,"") | M13: =IFERROR('Action Plan'!$AB$10,"") | N13: =IFERROR('Action Plan'!$AC$10,"")
A14: =IFERROR('Action Plan'!$C$11,"") | B14: =IFERROR('Action Plan'!$D$11,"") | C14: =IFERROR('Action Plan'!$E$11,"") | D14: =IFERROR('Action Plan'!$F$11,"") | E14: =IFERROR('Action Plan'!$G$11,"") | F14: =IFERROR('Action Plan'!$H$11,"") | G14: =IFERROR('Action Plan'!$T$11,"") | I14: =IFERROR('Action Plan'!$X$11,"") | J14: =IFERROR('Action Plan'!$Y$11,"") | K14: =IFERROR('Action Plan'!$Z$11,"") | L14: =IFERROR('Action Plan'!$AA$11,"") | M14: =IFERROR('Action Plan'!$AB$11,"") | N14: =IFERROR('Action Plan'!$AC$11,"")
A15: =IFERROR('Action Plan'!$C$12,"") | B15: =IFERROR('Action Plan'!$D$12,"") | C15: =IFERROR('Action Plan'!$E$12,"") | D15: =IFERROR('Action Plan'!$F$12,"") | E15: =IFERROR('Action Plan'!$G$12,"") | F15: =IFERROR('Action Plan'!$H$12,"") | G15: =IFERROR('Action Plan'!$T$12,"") | I15: =IFERROR('Action Plan'!$X$12,"") | J15: =IFERROR('Action Plan'!$Y$12,"") | K15: =IFERROR('Action Plan'!$Z$12,"") | L15: =IFERROR('Action Plan'!$AA$12,"") | M15: =IFERROR('Action Plan'!$AB$12,"") | N15: =IFERROR('Action Plan'!$AC$12,"")
A16: =IFERROR('Action Plan'!$C$13,"") | B16: =IFERROR('Action Plan'!$D$13,"") | C16: =IFERROR('Action Plan'!$E$13,"") | D16: =IFERROR('Action Plan'!$F$13,"") | E16: =IFERROR('Action Plan'!$G$13,"") | F16: =IFERROR('Action Plan'!$H$13,"") | G16: =IFERROR('Action Plan'!$T$13,"") | I16: =IFERROR('Action Plan'!$X$13,"") | J16: =IFERROR('Action Plan'!$Y$13,"") | K16: =IFERROR('Action Plan'!$Z$13,"") | L16: =IFERROR('Action Plan'!$AA$13,"") | M16: =IFERROR('Action Plan'!$AB$13,"") | N16: =IFERROR('Action Plan'!$AC$13,"")
A17: =IFERROR('Action Plan'!$C$14,"") | B17: =IFERROR('Action Plan'!$D$14,"") | C17: =IFERROR('Action Plan'!$E$14,"") | D17: =IFERROR('Action Plan'!$F$14,"") | E17: =IFERROR('Action Plan'!$G$14,"") | F17: =IFERROR('Action Plan'!$H$14,"") | G17: =IFERROR('Action Plan'!$T$14,"") | I17: =IFERROR('Action Plan'!$X$14,"") | J17: =IFERROR('Action Plan'!$Y$14,"") | K17: =IFERROR('Action Plan'!$Z$14,"") | L17: =IFERROR('Action Plan'!$AA$14,"") | M17: =IFERROR('Action Plan'!$AB$14,"") | N17: =IFERROR('Action Plan'!$AC$14,"")
A18: =IFERROR('Action Plan'!$C$15,"") | B18: =IFERROR('Action Plan'!$D$15,"") | C18: =IFERROR('Action Plan'!$E$15,"") | D18: =IFERROR('Action Plan'!$F$15,"") | E18: =IFERROR('Action Plan'!$G$15,"") | F18: =IFERROR('Action Plan'!$H$15,"") | G18: =IFERROR('Action Plan'!$T$15,"") | I18: =IFERROR('Action Plan'!$X$15,"") | J18: =IFERROR('Action Plan'!$Y$15,"") | K18: =IFERROR('Action Plan'!$Z$15,"") | L18: =IFERROR('Action Plan'!$AA$15,"") | M18: =IFERROR('Action Plan'!$AB$15,"") | N18: =IFERROR('Action Plan'!$AC$15,"")
A19: =IFERROR('Action Plan'!$C$16,"") | B19: =IFERROR('Action Plan'!$D$16,"") | C19: =IFERROR('Action Plan'!$E$16,"") | D19: =IFERROR('Action Plan'!$F$16,"") | E19: =IFERROR('Action Plan'!$G$16,"") | F19: =IFERROR('Action Plan'!$H$16,"") | G19: =IFERROR('Action Plan'!$T$16,"") | I19: =IFERROR('Action Plan'!$X$16,"") | J19: =IFERROR('Action Plan'!$Y$16,"") | K19: =IFERROR('Action Plan'!$Z$16,"") | L19: =IFERROR('Action Plan'!$AA$16,"") | M19: =IFERROR('Action Plan'!$AB$16,"") | N19: =IFERROR('Action Plan'!$AC$16,"")
A20: ="" | B20: ="" | C20: ="" | D20: ="" | E20: ="" | F20: ="" | G20: ="" | I20: ="" | J20: ="" | K20: ="" | L20: ="" | M20: ="" | N20: =""
A21: ="" | B21: ="" | C21: ="" | D21: ="" | E21: ="" | F21: ="" | G21: ="" | I21: ="" | J21: ="" | K21: ="" | L21: ="" | M21: ="" | N21: =""
A22: Outputs include a dated action plan, execution register, and open exception list for exceptions requiring rescheduling. This workbook supports finished-product master production scheduling only. | B22: ="" | C22: ="" | D22: ="" | E22: ="" | F22: ="" | G22: ="" | I22: ="" | J22: ="" | K22: ="" | L22: ="" | M22: ="" | N22: =""
A23: Rows shown from the sample plan are fictional examples for planning demonstration only and are not factory history or actual performance. | B23: ="" | C23: ="" | D23: ="" | E23: ="" | F23: ="" | G23: ="" | I23: ="" | J23: ="" | K23: ="" | L23: ="" | M23: ="" | N23: =""
A24: ="" | B24: ="" | C24: ="" | D24: ="" | E24: ="" | F24: ="" | G24: ="" | I24: ="" | J24: ="" | K24: ="" | L24: ="" | M24: ="" | N24: =""
A25: ="" | B25: ="" | C25: ="" | D25: ="" | E25: ="" | F25: ="" | G25: ="" | I25: ="" | J25: ="" | K25: ="" | L25: ="" | M25: ="" | N25: =""
A26: ="" | B26: ="" | C26: ="" | D26: ="" | E26: ="" | F26: ="" | G26: ="" | I26: ="" | J26: ="" | K26: ="" | L26: ="" | M26: ="" | N26: =""
A27: ="" | B27: ="" | C27: ="" | D27: ="" | E27: ="" | F27: ="" | G27: ="" | I27: ="" | J27: ="" | K27: ="" | L27: ="" | M27: ="" | N27: =""
A28: ="" | B28: ="" | C28: ="" | D28: ="" | E28: ="" | F28: ="" | G28: ="" | I28: ="" | J28: ="" | K28: ="" | L28: ="" | M28: ="" | N28: =""
A29: ="" | B29: ="" | C29: ="" | D29: ="" | E29: ="" | F29: ="" | G29: ="" | I29: ="" | J29: ="" | K29: ="" | L29: ="" | M29: ="" | N29: =""
A30: ="" | B30: ="" | C30: ="" | D30: ="" | E30: ="" | F30: ="" | G30: ="" | I30: ="" | J30: ="" | K30: ="" | L30: ="" | M30: ="" | N30: =""
A31: ="" | B31: ="" | C31: ="" | D31: ="" | E31: ="" | F31: ="" | G31: ="" | I31: ="" | J31: ="" | K31: ="" | L31: ="" | M31: ="" | N31: =""
A32: ="" | B32: ="" | C32: ="" | D32: ="" | E32: ="" | F32: ="" | G32: ="" | I32: ="" | J32: ="" | K32: ="" | L32: ="" | M32: ="" | N32: =""
A33: ="" | B33: ="" | C33: ="" | D33: ="" | E33: ="" | F33: ="" | G33: ="" | I33: ="" | J33: ="" | K33: ="" | L33: ="" | M33: ="" | N33: =""
A34: ="" | B34: ="" | C34: ="" | D34: ="" | E34: ="" | F34: ="" | G34: ="" | I34: ="" | J34: ="" | K34: ="" | L34: ="" | M34: ="" | N34: =""
A35: ="" | B35: ="" | C35: ="" | D35: ="" | E35: ="" | F35: ="" | G35: ="" | I35: ="" | J35: ="" | K35: ="" | L35: ="" | M35: ="" | N35: =""
... A101: ="" | B101: ="" | C101: ="" | D101: ="" | E101: ="" | F101: ="" | G101: ="" | I101: ="" | J101: ="" | K101: ="" | L101: ="" | M101: ="" | N101: =""

Sheet MPS Plan
A1: Master Production Schedule Plan
A2: Reporting Period Start | B2: 46266 | D2: Reporting Period End | E2: 46295 | G2: Reporting Period Status | H2: =IF(OR(NOT(ISNUMBER($B$2)),NOT(ISNUMBER($E$2))),"",IF($E$2>=$B$2,"Reporting period dates accepted","Review reporting period dates"))
A4: Enter one finished-product schedule line per work order or run ID. Available resources and planned run time must use the same resource basis before the capacity check is used.
A5: Rows 9 through 18 contain fictional editable examples. Planned and actual quantities or times are entered in units and hours as labeled.
A8: MPS Line ID | B8: Finished Products Identifier | C8: Work Order or Run ID | D8: Owner or Responsible Role | E8: Planned Action Date | F8: Required Date | G8: Available Resources Time (hours) | H8: Planned Run Time (hours) | I8: Actual Run Time (hours) | J8: Planned Quantity (units) | K8: Actual Quantity (units) | L8: Status | M8: Date Sequencing and Due-Date Check | N8: Capacity or Due-Date Check | O8: Planned-versus-Actual Check | P8: Status Progression Check | Q8: Run Time Variance (hours) | R8: Quantity Variance (units) | S8: Open Rescheduling Exception | T8: Exception Detail | U8: Date Sort Key
A9: =IF(B9="","","MPS-"&TEXT(ROW()-8,"000")) | B9: FG-100 | C9: RUN-260901-A | D9: Production Planner | E9: 46273 | F9: 46275 | G9: 16 | H9: 12 | J9: 100 | L9: Planned | M9: =IF(OR(B9="",NOT(ISNUMBER(E9)),NOT(ISNUMBER(F9)),NOT(ISNUMBER($B$2)),NOT(ISNUMBER($E$2))),"",IF($E$2<$B$2,"",IF(E9>F9,"Reschedule required: action after required date",IF(OR(E9<$B$2,E9>$E$2),"Reschedule required: action outside reporting period","Date sequence is acceptable")))) | N9: =IF(OR(B9="",NOT(ISNUMBER(G9)),NOT(ISNUMBER(H9))),"",IF(H9<=G9,"Within available resource time","Reschedule required")) | O9: =IF(B9="","",IF(AND(I9="",K9=""),"",IF(OR(AND(I9<>"",NOT(ISNUMBER(I9))),AND(K9<>"",NOT(ISNUMBER(K9)))),"",IF(OR(AND(I9<>"",NOT(ISNUMBER(H9))),AND(K9<>"",NOT(ISNUMBER(J9)))),"Actual entry needs a planned value",IF(AND(OR(I9="",I9=H9),OR(K9="",K9=J9)),"Actual entries match plan","Actual entries differ from plan"))))) | P9: =IF(B9="","",IF(L9="","Select a status",IF(OR(AND(I9<>"",NOT(ISNUMBER(I9))),AND(K9<>"",NOT(ISNUMBER(K9)))),"",IF(AND(OR(I9<>"",K9<>""),L9<>"Actual Recorded"),"Update status to Actual Recorded",IF(AND(L9="Actual Recorded",I9="",K9=""),"Actual status needs an actual entry",IF(L9="Reschedule Required","Rescheduling status selected","Status entry accepted")))))) | Q9: =IF(OR(B9="",NOT(ISNUMBER(H9)),NOT(ISNUMBER(I9))),"",IFERROR(I9-H9,"")) | R9: =IF(OR(B9="",NOT(ISNUMBER(J9)),NOT(ISNUMBER(K9))),"",IFERROR(K9-J9,"")) | S9: =IF(B9="","",IF(OR(M9="Reschedule required: action after required date",M9="Reschedule required: action outside reporting period",N9="Reschedule required",L9="Reschedule Required"),"Open","")) | T9: =IF(OR(B9="",S9<>"Open"),"",IF(M9="Reschedule required: action after required date","Planned action date is after required date; ","")&IF(M9="Reschedule required: action outside reporting period","Planned action date is outside reporting period; ","")&IF(N9="Reschedule required","Planned run time exceeds available resource time; ","")&IF(L9="Reschedule Required","Status is marked Reschedule Required","")) | U9: =IF(OR(B9="",NOT(ISNUMBER(E9))),"",IFERROR(E9+(ROW()-8)/100000,""))
A10: =IF(B10="","","MPS-"&TEXT(ROW()-8,"000")) | B10: FG-200 | C10: RUN-260902-B | D10: Production Planner | E10: 46274 | F10: 46274 | G10: 10 | H10: 10 | J10: 80 | L10: Ready for Review | M10: =IF(OR(B10="",NOT(ISNUMBER(E10)),NOT(ISNUMBER(F10)),NOT(ISNUMBER($B$2)),NOT(ISNUMBER($E$2))),"",IF($E$2<$B$2,"",IF(E10>F10,"Reschedule required: action after required date",IF(OR(E10<$B$2,E10>$E$2),"Reschedule required: action outside reporting period","Date sequence is acceptable")))) | N10: =IF(OR(B10="",NOT(ISNUMBER(G10)),NOT(ISNUMBER(H10))),"",IF(H10<=G10,"Within available resource time","Reschedule required")) | O10: =IF(B10="","",IF(AND(I10="",K10=""),"",IF(OR(AND(I10<>"",NOT(ISNUMBER(I10))),AND(K10<>"",NOT(ISNUMBER(K10)))),"",IF(OR(AND(I10<>"",NOT(ISNUMBER(H10))),AND(K10<>"",NOT(ISNUMBER(J10)))),"Actual entry needs a planned value",IF(AND(OR(I10="",I10=H10),OR(K10="",K10=J10)),"Actual entries match plan","Actual entries differ from plan"))))) | P10: =IF(B10="","",IF(L10="","Select a status",IF(OR(AND(I10<>"",NOT(ISNUMBER(I10))),AND(K10<>"",NOT(ISNUMBER(K10)))),"",IF(AND(OR(I10<>"",K10<>""),L10<>"Actual Recorded"),"Update status to Actual Recorded",IF(AND(L10="Actual Recorded",I10="",K10=""),"Actual status needs an actual entry",IF(L10="Reschedule Required","Rescheduling status selected","Status entry accepted")))))) | Q10: =IF(OR(B10="",NOT(ISNUMBER(H10)),NOT(ISNUMBER(I10))),"",IFERROR(I10-H10,"")) | R10: =IF(OR(B10="",NOT(ISNUMBER(J10)),NOT(ISNUMBER(K10))),"",IFERROR(K10-J10,"")) | S10: =IF(B10="","",IF(OR(M10="Reschedule required: action after required date",M10="Reschedule required: action outside reporting period",N10="Reschedule required",L10="Reschedule Required"),"Open","")) | T10: =IF(OR(B10="",S10<>"Open"),"",IF(M10="Reschedule required: action after required date","Planned action date is after required date; ","")&IF(M10="Reschedule required: action outside reporting period","Planned action date is outside reporting period; ","")&IF(N10="Reschedule required","Planned run time exceeds available resource time; ","")&IF(L10="Reschedule Required","Status is marked Reschedule Required","")) | U10: =IF(OR(B10="",NOT(ISNUMBER(E10))),"",IFERROR(E10+(ROW()-8)/100000,""))
A11: =IF(B11="","","MPS-"&TEXT(ROW()-8,"000")) | B11: FG-300 | C11: RUN-260903-C | D11: Production Planner | E11: 46279 | F11: 46277 | G11: 14 | H11: 10 | J11: 150 | L11: Draft | M11: =IF(OR(B11="",NOT(ISNUMBER(E11)),NOT(ISNUMBER(F11)),NOT(ISNUMBER($B$2)),NOT(ISNUMBER($E$2))),"",IF($E$2<$B$2,"",IF(E11>F11,"Reschedule required: action after required date",IF(OR(E11<$B$2,E11>$E$2),"Reschedule required: action outside reporting period","Date sequence is acceptable")))) | N11: =IF(OR(B11="",NOT(ISNUMBER(G11)),NOT(ISNUMBER(H11))),"",IF(H11<=G11,"Within available resource time","Reschedule required")) | O11: =IF(B11="","",IF(AND(I11="",K11=""),"",IF(OR(AND(I11<>"",NOT(ISNUMBER(I11))),AND(K11<>"",NOT(ISNUMBER(K11)))),"",IF(OR(AND(I11<>"",NOT(ISNUMBER(H11))),AND(K11<>"",NOT(ISNUMBER(J11)))),"Actual entry needs a planned value",IF(AND(OR(I11="",I11=H11),OR(K11="",K11=J11)),"Actual entries match plan","Actual entries differ from plan"))))) | P11: =IF(B11="","",IF(L11="","Select a status",IF(OR(AND(I11<>"",NOT(ISNUMBER(I11))),AND(K11<>"",NOT(ISNUMBER(K11)))),"",IF(AND(OR(I11<>"",K11<>""),L11<>"Actual Recorded"),"Update status to Actual Recorded",IF(AND(L11="Actual Recorded",I11="",K11=""),"Actual status needs an actual entry",IF(L11="Reschedule Required","Rescheduling status selected","Status entry accepted")))))) | Q11: =IF(OR(B11="",NOT(ISNUMBER(H11)),NOT(ISNUMBER(I11))),"",IFERROR(I11-H11,"")) | R11: =IF(OR(B11="",NOT(ISNUMBER(J11)),NOT(ISNUMBER(K11))),"",IFERROR(K11-J11,"")) | S11: =IF(B11="","",IF(OR(M11="Reschedule required: action after required date",M11="Reschedule required: action outside reporting period",N11="Reschedule required",L11="Reschedule Required"),"Open","")) | T11: =IF(OR(B11="",S11<>"Open"),"",IF(M11="Reschedule required: action after required date","Planned action date is after required date; ","")&IF(M11="Reschedule required: action outside reporting period","Planned action date is outside reporting period; ","")&IF(N11="Reschedule required","Planned run time exceeds available resource time; ","")&IF(L11="Reschedule Required","Status is marked Reschedule Required","")) | U11: =IF(OR(B11="",NOT(ISNUMBER(E11))),"",IFERROR(E11+(ROW()-8)/100000,""))
A12: =IF(B12="","","MPS-"&TEXT(ROW()-8,"000")) | B12: FG-400 | C12: RUN-260904-D | D12: Production Planner | E12: 46276 | F12: 46278 | G12: 6 | H12: 8 | J12: 75 | L12: Planned | M12: =IF(OR(B12="",NOT(ISNUMBER(E12)),NOT(ISNUMBER(F12)),NOT(ISNUMBER($B$2)),NOT(ISNUMBER($E$2))),"",IF($E$2<$B$2,"",IF(E12>F12,"Reschedule required: action after required date",IF(OR(E12<$B$2,E12>$E$2),"Reschedule required: action outside reporting period","Date sequence is acceptable")))) | N12: =IF(OR(B12="",NOT(ISNUMBER(G12)),NOT(ISNUMBER(H12))),"",IF(H12<=G12,"Within available resource time","Reschedule required")) | O12: =IF(B12="","",IF(AND(I12="",K12=""),"",IF(OR(AND(I12<>"",NOT(ISNUMBER(I12))),AND(K12<>"",NOT(ISNUMBER(K12)))),"",IF(OR(AND(I12<>"",NOT(ISNUMBER(H12))),AND(K12<>"",NOT(ISNUMBER(J12)))),"Actual entry needs a planned value",IF(AND(OR(I12="",I12=H12),OR(K12="",K12=J12)),"Actual entries match plan","Actual entries differ from plan"))))) | P12: =IF(B12="","",IF(L12="","Select a status",IF(OR(AND(I12<>"",NOT(ISNUMBER(I12))),AND(K12<>"",NOT(ISNUMBER(K12)))),"",IF(AND(OR(I12<>"",K12<>""),L12<>"Actual Recorded"),"Update status to Actual Recorded",IF(AND(L12="Actual Recorded",I12="",K12=""),"Actual status needs an actual entry",IF(L12="Reschedule Required","Rescheduling status selected","Status entry accepted")))))) | Q12: =IF(OR(B12="",NOT(ISNUMBER(H12)),NOT(ISNUMBER(I12))),"",IFERROR(I12-H12,"")) | R12: =IF(OR(B12="",NOT(ISNUMBER(J12)),NOT(ISNUMBER(K12))),"",IFERROR(K12-J12,"")) | S12: =IF(B12="","",IF(OR(M12="Reschedule required: action after required date",M12="Reschedule required: action outside reporting period",N12="Reschedule required",L12="Reschedule Required"),"Open","")) | T12: =IF(OR(B12="",S12<>"Open"),"",IF(M12="Reschedule required: action after required date","Planned action date is after required date; ","")&IF(M12="Reschedule required: action outside reporting period","Planned action date is outside reporting period; ","")&IF(N12="Reschedule required","Planned run time exceeds available resource time; ","")&IF(L12="Reschedule Required","Status is marked Reschedule Required","")) | U12: =IF(OR(B12="",NOT(ISNUMBER(E12))),"",IFERROR(E12+(ROW()-8)/100000,""))
A13: =IF(B13="","","MPS-"&TEXT(ROW()-8,"000")) | B13: FG-500 | C13: RUN-260905-E | D13: Shop-Floor Supervisor | E13: 46281 | F13: 46283 | G13: 8 | H13: 8 | I13: 9 | J13: 120 | K13: 115 | L13: Actual Recorded | M13: =IF(OR(B13="",NOT(ISNUMBER(E13)),NOT(ISNUMBER(F13)),NOT(ISNUMBER($B$2)),NOT(ISNUMBER($E$2))),"",IF($E$2<$B$2,"",IF(E13>F13,"Reschedule required: action after required date",IF(OR(E13<$B$2,E13>$E$2),"Reschedule required: action outside reporting period","Date sequence is acceptable")))) | N13: =IF(OR(B13="",NOT(ISNUMBER(G13)),NOT(ISNUMBER(H13))),"",IF(H13<=G13,"Within available resource time","Reschedule required")) | O13: =IF(B13="","",IF(AND(I13="",K13=""),"",IF(OR(AND(I13<>"",NOT(ISNUMBER(I13))),AND(K13<>"",NOT(ISNUMBER(K13)))),"",IF(OR(AND(I13<>"",NOT(ISNUMBER(H13))),AND(K13<>"",NOT(ISNUMBER(J13)))),"Actual entry needs a planned value",IF(AND(OR(I13="",I13=H13),OR(K13="",K13=J13)),"Actual entries match plan","Actual entries differ from plan"))))) | P13: =IF(B13="","",IF(L13="","Select a status",IF(OR(AND(I13<>"",NOT(ISNUMBER(I13))),AND(K13<>"",NOT(ISNUMBER(K13)))),"",IF(AND(OR(I13<>"",K13<>""),L13<>"Actual Recorded"),"Update status to Actual Recorded",IF(AND(L13="Actual Recorded",I13="",K13=""),"Actual status needs an actual entry",IF(L13="Reschedule Required","Rescheduling status selected","Status entry accepted")))))) | Q13: =IF(OR(B13="",NOT(ISNUMBER(H13)),NOT(ISNUMBER(I13))),"",IFERROR(I13-H13,"")) | R13: =IF(OR(B13="",NOT(ISNUMBER(J13)),NOT(ISNUMBER(K13))),"",IFERROR(K13-J13,"")) | S13: =IF(B13="","",IF(OR(M13="Reschedule required: action after required date",M13="Reschedule required: action outside reporting period",N13="Reschedule required",L13="Reschedule Required"),"Open","")) | T13: =IF(OR(B13="",S13<>"Open"),"",IF(M13="Reschedule required: action after required date","Planned action date is after required date; ","")&IF(M13="Reschedule required: action outside reporting period","Planned action date is outside reporting period; ","")&IF(N13="Reschedule required","Planned run time exceeds available resource time; ","")&IF(L13="Reschedule Required","Status is marked Reschedule Required","")) | U13: =IF(OR(B13="",NOT(ISNUMBER(E13))),"",IFERROR(E13+(ROW()-8)/100000,""))
A14: =IF(B14="","","MPS-"&TEXT(ROW()-8,"000")) | B14: FG-600 | C14: RUN-260906-F | D14: Shop-Floor Supervisor | E14: 46282 | F14: 46282 | G14: 12 | H14: 10 | I14: 10 | J14: 200 | K14: 200 | L14: Actual Recorded | M14: =IF(OR(B14="",NOT(ISNUMBER(E14)),NOT(ISNUMBER(F14)),NOT(ISNUMBER($B$2)),NOT(ISNUMBER($E$2))),"",IF($E$2<$B$2,"",IF(E14>F14,"Reschedule required: action after required date",IF(OR(E14<$B$2,E14>$E$2),"Reschedule required: action outside reporting period","Date sequence is acceptable")))) | N14: =IF(OR(B14="",NOT(ISNUMBER(G14)),NOT(ISNUMBER(H14))),"",IF(H14<=G14,"Within available resource time","Reschedule required")) | O14: =IF(B14="","",IF(AND(I14="",K14=""),"",IF(OR(AND(I14<>"",NOT(ISNUMBER(I14))),AND(K14<>"",NOT(ISNUMBER(K14)))),"",IF(OR(AND(I14<>"",NOT(ISNUMBER(H14))),AND(K14<>"",NOT(ISNUMBER(J14)))),"Actual entry needs a planned value",IF(AND(OR(I14="",I14=H14),OR(K14="",K14=J14)),"Actual entries match plan","Actual entries differ from plan"))))) | P14: =IF(B14="","",IF(L14="","Select a status",IF(OR(AND(I14<>"",NOT(ISNUMBER(I14))),AND(K14<>"",NOT(ISNUMBER(K14)))),"",IF(AND(OR(I14<>"",K14<>""),L14<>"Actual Recorded"),"Update status to Actual Recorded",IF(AND(L14="Actual Recorded",I14="",K14=""),"Actual status needs an actual entry",IF(L14="Reschedule Required","Rescheduling status selected","Status entry accepted")))))) | Q14: =IF(OR(B14="",NOT(ISNUMBER(H14)),NOT(ISNUMBER(I14))),"",IFERROR(I14-H14,"")) | R14: =IF(OR(B14="",NOT(ISNUMBER(J14)),NOT(ISNUMBER(K14))),"",IFERROR(K14-J14,"")) | S14: =IF(B14="","",IF(OR(M14="Reschedule required: action after required date",M14="Reschedule required: action outside reporting period",N14="Reschedule required",L14="Reschedule Required"),"Open","")) | T14: =IF(OR(B14="",S14<>"Open"),"",IF(M14="Reschedule required: action after required date","Planned action date is after required date; ","")&IF(M14="Reschedule required: action outside reporting period","Planned action date is outside reporting period; ","")&IF(N14="Reschedule required","Planned run time exceeds available resource time; ","")&IF(L14="Reschedule Required","Status is marked Reschedule Required","")) | U14: =IF(OR(B14="",NOT(ISNUMBER(E14))),"",IFERROR(E14+(ROW()-8)/100000,""))
A15: =IF(B15="","","MPS-"&TEXT(ROW()-8,"000")) | B15: FG-700 | C15: RUN-260907-G | D15: Production Planner | E15: 46282 | F15: 46284 | G15: 10 | H15: 8 | J15: 90 | L15: Reschedule Required | M15: =IF(OR(B15="",NOT(ISNUMBER(E15)),NOT(ISNUMBER(F15)),NOT(ISNUMBER($B$2)),NOT(ISNUMBER($E$2))),"",IF($E$2<$B$2,"",IF(E15>F15,"Reschedule required: action after required date",IF(OR(E15<$B$2,E15>$E$2),"Reschedule required: action outside reporting period","Date sequence is acceptable")))) | N15: =IF(OR(B15="",NOT(ISNUMBER(G15)),NOT(ISNUMBER(H15))),"",IF(H15<=G15,"Within available resource time","Reschedule required")) | O15: =IF(B15="","",IF(AND(I15="",K15=""),"",IF(OR(AND(I15<>"",NOT(ISNUMBER(I15))),AND(K15<>"",NOT(ISNUMBER(K15)))),"",IF(OR(AND(I15<>"",NOT(ISNUMBER(H15))),AND(K15<>"",NOT(ISNUMBER(J15)))),"Actual entry needs a planned value",IF(AND(OR(I15="",I15=H15),OR(K15="",K15=J15)),"Actual entries match plan","Actual entries differ from plan"))))) | P15: =IF(B15="","",IF(L15="","Select a status",IF(OR(AND(I15<>"",NOT(ISNUMBER(I15))),AND(K15<>"",NOT(ISNUMBER(K15)))),"",IF(AND(OR(I15<>"",K15<>""),L15<>"Actual Recorded"),"Update status to Actual Recorded",IF(AND(L15="Actual Recorded",I15="",K15=""),"Actual status needs an actual entry",IF(L15="Reschedule Required","Rescheduling status selected","Status entry accepted")))))) | Q15: =IF(OR(B15="",NOT(ISNUMBER(H15)),NOT(ISNUMBER(I15))),"",IFERROR(I15-H15,"")) | R15: =IF(OR(B15="",NOT(ISNUMBER(J15)),NOT(ISNUMBER(K15))),"",IFERROR(K15-J15,"")) | S15: =IF(B15="","",IF(OR(M15="Reschedule required: action after required date",M15="Reschedule required: action outside reporting period",N15="Reschedule required",L15="Reschedule Required"),"Open","")) | T15: =IF(OR(B15="",S15<>"Open"),"",IF(M15="Reschedule required: action after required date","Planned action date is after required date; ","")&IF(M15="Reschedule required: action outside reporting period","Planned action date is outside reporting period; ","")&IF(N15="Reschedule required","Planned run time exceeds available resource time; ","")&IF(L15="Reschedule Required","Status is marked Reschedule Required","")) | U15: =IF(OR(B15="",NOT(ISNUMBER(E15))),"",IFERROR(E15+(ROW()-8)/100000,""))
A16: =IF(B16="","","MPS-"&TEXT(ROW()-8,"000")) | B16: FG-800 | C16: RUN-260908-H | D16: Production Planner | E16: 46285 | F16: 46288 | G16: 9 | H16: 7 | J16: 60 | L16: Planned | M16: =IF(OR(B16="",NOT(ISNUMBER(E16)),NOT(ISNUMBER(F16)),NOT(ISNUMBER($B$2)),NOT(ISNUMBER($E$2))),"",IF($E$2<$B$2,"",IF(E16>F16,"Reschedule required: action after required date",IF(OR(E16<$B$2,E16>$E$2),"Reschedule required: action outside reporting period","Date sequence is acceptable")))) | N16: =IF(OR(B16="",NOT(ISNUMBER(G16)),NOT(ISNUMBER(H16))),"",IF(H16<=G16,"Within available resource time","Reschedule required")) | O16: =IF(B16="","",IF(AND(I16="",K16=""),"",IF(OR(AND(I16<>"",NOT(ISNUMBER(I16))),AND(K16<>"",NOT(ISNUMBER(K16)))),"",IF(OR(AND(I16<>"",NOT(ISNUMBER(H16))),AND(K16<>"",NOT(ISNUMBER(J16)))),"Actual entry needs a planned value",IF(AND(OR(I16="",I16=H16),OR(K16="",K16=J16)),"Actual entries match plan","Actual entries differ from plan"))))) | P16: =IF(B16="","",IF(L16="","Select a status",IF(OR(AND(I16<>"",NOT(ISNUMBER(I16))),AND(K16<>"",NOT(ISNUMBER(K16)))),"",IF(AND(OR(I16<>"",K16<>""),L16<>"Actual Recorded"),"Update status to Actual Recorded",IF(AND(L16="Actual Recorded",I16="",K16=""),"Actual status needs an actual entry",IF(L16="Reschedule Required","Rescheduling status selected","Status entry accepted")))))) | Q16: =IF(OR(B16="",NOT(ISNUMBER(H16)),NOT(ISNUMBER(I16))),"",IFERROR(I16-H16,"")) | R16: =IF(OR(B16="",NOT(ISNUMBER(J16)),NOT(ISNUMBER(K16))),"",IFERROR(K16-J16,"")) | S16: =IF(B16="","",IF(OR(M16="Reschedule required: action after required date",M16="Reschedule required: action outside reporting period",N16="Reschedule required",L16="Reschedule Required"),"Open","")) | T16: =IF(OR(B16="",S16<>"Open"),"",IF(M16="Reschedule required: action after required date","Planned action date is after required date; ","")&IF(M16="Reschedule required: action outside reporting period","Planned action date is outside reporting period; ","")&IF(N16="Reschedule required","Planned run time exceeds available resource time; ","")&IF(L16="Reschedule Required","Status is marked Reschedule Required","")) | U16: =IF(OR(B16="",NOT(ISNUMBER(E16))),"",IFERROR(E16+(ROW()-8)/100000,""))
A17: =IF(B17="","","MPS-"&TEXT(ROW()-8,"000")) | B17: FG-900 | C17: RUN-260909-I | D17: Production Planner | E17: 46296 | F17: 46298 | G17: 10 | H17: 6 | J17: 110 | L17: Ready for Review | M17: =IF(OR(B17="",NOT(ISNUMBER(E17)),NOT(ISNUMBER(F17)),NOT(ISNUMBER($B$2)),NOT(ISNUMBER($E$2))),"",IF($E$2<$B$2,"",IF(E17>F17,"Reschedule required: action after required date",IF(OR(E17<$B$2,E17>$E$2),"Reschedule required: action outside reporting period","Date sequence is acceptable")))) | N17: =IF(OR(B17="",NOT(ISNUMBER(G17)),NOT(ISNUMBER(H17))),"",IF(H17<=G17,"Within available resource time","Reschedule required")) | O17: =IF(B17="","",IF(AND(I17="",K17=""),"",IF(OR(AND(I17<>"",NOT(ISNUMBER(I17))),AND(K17<>"",NOT(ISNUMBER(K17)))),"",IF(OR(AND(I17<>"",NOT(ISNUMBER(H17))),AND(K17<>"",NOT(ISNUMBER(J17)))),"Actual entry needs a planned value",IF(AND(OR(I17="",I17=H17),OR(K17="",K17=J17)),"Actual entries match plan","Actual entries differ from plan"))))) | P17: =IF(B17="","",IF(L17="","Select a status",IF(OR(AND(I17<>"",NOT(ISNUMBER(I17))),AND(K17<>"",NOT(ISNUMBER(K17)))),"",IF(AND(OR(I17<>"",K17<>""),L17<>"Actual Recorded"),"Update status to Actual Recorded",IF(AND(L17="Actual Recorded",I17="",K17=""),"Actual status needs an actual entry",IF(L17="Reschedule Required","Rescheduling status selected","Status entry accepted")))))) | Q17: =IF(OR(B17="",NOT(ISNUMBER(H17)),NOT(ISNUMBER(I17))),"",IFERROR(I17-H17,"")) | R17: =IF(OR(B17="",NOT(ISNUMBER(J17)),NOT(ISNUMBER(K17))),"",IFERROR(K17-J17,"")) | S17: =IF(B17="","",IF(OR(M17="Reschedule required: action after required date",M17="Reschedule required: action outside reporting period",N17="Reschedule required",L17="Reschedule Required"),"Open","")) | T17: =IF(OR(B17="",S17<>"Open"),"",IF(M17="Reschedule required: action after required date","Planned action date is after required date; ","")&IF(M17="Reschedule required: action outside reporting period","Planned action date is outside reporting period; ","")&IF(N17="Reschedule required","Planned run time exceeds available resource time; ","")&IF(L17="Reschedule Required","Status is marked Reschedule Required","")) | U17: =IF(OR(B17="",NOT(ISNUMBER(E17))),"",IFERROR(E17+(ROW()-8)/100000,""))
A18: =IF(B18="","","MPS-"&TEXT(ROW()-8,"000")) | B18: FG-1000 | C18: RUN-260910-J | D18: Production Planner | E18: 46287 | F18: 46289 | G18: 6 | H18: 6 | J18: 60 | L18: Planned | M18: =IF(OR(B18="",NOT(ISNUMBER(E18)),NOT(ISNUMBER(F18)),NOT(ISNUMBER($B$2)),NOT(ISNUMBER($E$2))),"",IF($E$2<$B$2,"",IF(E18>F18,"Reschedule required: action after required date",IF(OR(E18<$B$2,E18>$E$2),"Reschedule required: action outside reporting period","Date sequence is acceptable")))) | N18: =IF(OR(B18="",NOT(ISNUMBER(G18)),NOT(ISNUMBER(H18))),"",IF(H18<=G18,"Within available resource time","Reschedule required")) | O18: =IF(B18="","",IF(AND(I18="",K18=""),"",IF(OR(AND(I18<>"",NOT(ISNUMBER(I18))),AND(K18<>"",NOT(ISNUMBER(K18)))),"",IF(OR(AND(I18<>"",NOT(ISNUMBER(H18))),AND(K18<>"",NOT(ISNUMBER(J18)))),"Actual entry needs a planned value",IF(AND(OR(I18="",I18=H18),OR(K18="",K18=J18)),"Actual entries match plan","Actual entries differ from plan"))))) | P18: =IF(B18="","",IF(L18="","Select a status",IF(OR(AND(I18<>"",NOT(ISNUMBER(I18))),AND(K18<>"",NOT(ISNUMBER(K18)))),"",IF(AND(OR(I18<>"",K18<>""),L18<>"Actual Recorded"),"Update status to Actual Recorded",IF(AND(L18="Actual Recorded",I18="",K18=""),"Actual status needs an actual entry",IF(L18="Reschedule Required","Rescheduling status selected","Status entry accepted")))))) | Q18: =IF(OR(B18="",NOT(ISNUMBER(H18)),NOT(ISNUMBER(I18))),"",IFERROR(I18-H18,"")) | R18: =IF(OR(B18="",NOT(ISNUMBER(J18)),NOT(ISNUMBER(K18))),"",IFERROR(K18-J18,"")) | S18: =IF(B18="","",IF(OR(M18="Reschedule required: action after required date",M18="Reschedule required: action outside reporting period",N18="Reschedule required",L18="Reschedule Required"),"Open","")) | T18: =IF(OR(B18="",S18<>"Open"),"",IF(M18="Reschedule required: action after required date","Planned action date is after required date; ","")&IF(M18="Reschedule required: action outside reporting period","Planned action date is outside reporting period; ","")&IF(N18="Reschedule required","Planned run time exceeds available resource time; ","")&IF(L18="Reschedule Required","Status is marked Reschedule Required","")) | U18: =IF(OR(B18="",NOT(ISNUMBER(E18))),"",IFERROR(E18+(ROW()-8)/100000,""))
A19: =IF(B19="","","MPS-"&TEXT(ROW()-8,"000")) | M19: =IF(OR(B19="",NOT(ISNUMBER(E19)),NOT(ISNUMBER(F19)),NOT(ISNUMBER($B$2)),NOT(ISNUMBER($E$2))),"",IF($E$2<$B$2,"",IF(E19>F19,"Reschedule required: action after required date",IF(OR(E19<$B$2,E19>$E$2),"Reschedule required: action outside reporting period","Date sequence is acceptable")))) | N19: =IF(OR(B19="",NOT(ISNUMBER(G19)),NOT(ISNUMBER(H19))),"",IF(H19<=G19,"Within available resource time","Reschedule required")) | O19: =IF(B19="","",IF(AND(I19="",K19=""),"",IF(OR(AND(I19<>"",NOT(ISNUMBER(I19))),AND(K19<>"",NOT(ISNUMBER(K19)))),"",IF(OR(AND(I19<>"",NOT(ISNUMBER(H19))),AND(K19<>"",NOT(ISNUMBER(J19)))),"Actual entry needs a planned value",IF(AND(OR(I19="",I19=H19),OR(K19="",K19=J19)),"Actual entries match plan","Actual entries differ from plan"))))) | P19: =IF(B19="","",IF(L19="","Select a status",IF(OR(AND(I19<>"",NOT(ISNUMBER(I19))),AND(K19<>"",NOT(ISNUMBER(K19)))),"",IF(AND(OR(I19<>"",K19<>""),L19<>"Actual Recorded"),"Update status to Actual Recorded",IF(AND(L19="Actual Recorded",I19="",K19=""),"Actual status needs an actual entry",IF(L19="Reschedule Required","Rescheduling status selected","Status entry accepted")))))) | Q19: =IF(OR(B19="",NOT(ISNUMBER(H19)),NOT(ISNUMBER(I19))),"",IFERROR(I19-H19,"")) | R19: =IF(OR(B19="",NOT(ISNUMBER(J19)),NOT(ISNUMBER(K19))),"",IFERROR(K19-J19,"")) | S19: =IF(B19="","",IF(OR(M19="Reschedule required: action after required date",M19="Reschedule required: action outside reporting period",N19="Reschedule required",L19="Reschedule Required"),"Open","")) | T19: =IF(OR(B19="",S19<>"Open"),"",IF(M19="Reschedule required: action after required date","Planned action date is after required date; ","")&IF(M19="Reschedule required: action outside reporting period","Planned action date is outside reporting period; ","")&IF(N19="Reschedule required","Planned run time exceeds available resource time; ","")&IF(L19="Reschedule Required","Status is marked Reschedule Required","")) | U19: =IF(OR(B19="",NOT(ISNUMBER(E19))),"",IFERROR(E19+(ROW()-8)/100000,""))
A20: =IF(B20="","","MPS-"&TEXT(ROW()-8,"000")) | M20: =IF(OR(B20="",NOT(ISNUMBER(E20)),NOT(ISNUMBER(F20)),NOT(ISNUMBER($B$2)),NOT(ISNUMBER($E$2))),"",IF($E$2<$B$2,"",IF(E20>F20,"Reschedule required: action after required date",IF(OR(E20<$B$2,E20>$E$2),"Reschedule required: action outside reporting period","Date sequence is acceptable")))) | N20: =IF(OR(B20="",NOT(ISNUMBER(G20)),NOT(ISNUMBER(H20))),"",IF(H20<=G20,"Within available resource time","Reschedule required")) | O20: =IF(B20="","",IF(AND(I20="",K20=""),"",IF(OR(AND(I20<>"",NOT(ISNUMBER(I20))),AND(K20<>"",NOT(ISNUMBER(K20)))),"",IF(OR(AND(I20<>"",NOT(ISNUMBER(H20))),AND(K20<>"",NOT(ISNUMBER(J20)))),"Actual entry needs a planned value",IF(AND(OR(I20="",I20=H20),OR(K20="",K20=J20)),"Actual entries match plan","Actual entries differ from plan"))))) | P20: =IF(B20="","",IF(L20="","Select a status",IF(OR(AND(I20<>"",NOT(ISNUMBER(I20))),AND(K20<>"",NOT(ISNUMBER(K20)))),"",IF(AND(OR(I20<>"",K20<>""),L20<>"Actual Recorded"),"Update status to Actual Recorded",IF(AND(L20="Actual Recorded",I20="",K20=""),"Actual status needs an actual entry",IF(L20="Reschedule Required","Rescheduling status selected","Status entry accepted")))))) | Q20: =IF(OR(B20="",NOT(ISNUMBER(H20)),NOT(ISNUMBER(I20))),"",IFERROR(I20-H20,"")) | R20: =IF(OR(B20="",NOT(ISNUMBER(J20)),NOT(ISNUMBER(K20))),"",IFERROR(K20-J20,"")) | S20: =IF(B20="","",IF(OR(M20="Reschedule required: action after required date",M20="Reschedule required: action outside reporting period",N20="Reschedule required",L20="Reschedule Required"),"Open","")) | T20: =IF(OR(B20="",S20<>"Open"),"",IF(M20="Reschedule required: action after required date","Planned action date is after required date; ","")&IF(M20="Reschedule required: action outside reporting period","Planned action date is outside reporting period; ","")&IF(N20="Reschedule required","Planned run time exceeds available resource time; ","")&IF(L20="Reschedule Required","Status is marked Reschedule Required","")) | U20: =IF(OR(B20="",NOT(ISNUMBER(E20))),"",IFERROR(E20+(ROW()-8)/100000,""))
A21: =IF(B21="","","MPS-"&TEXT(ROW()-8,"000")) | M21: =IF(OR(B21="",NOT(ISNUMBER(E21)),NOT(ISNUMBER(F21)),NOT(ISNUMBER($B$2)),NOT(ISNUMBER($E$2))),"",IF($E$2<$B$2,"",IF(E21>F21,"Reschedule required: action after required date",IF(OR(E21<$B$2,E21>$E$2),"Reschedule required: action outside reporting period","Date sequence is acceptable")))) | N21: =IF(OR(B21="",NOT(ISNUMBER(G21)),NOT(ISNUMBER(H21))),"",IF(H21<=G21,"Within available resource time","Reschedule required")) | O21: =IF(B21="","",IF(AND(I21="",K21=""),"",IF(OR(AND(I21<>"",NOT(ISNUMBER(I21))),AND(K21<>"",NOT(ISNUMBER(K21)))),"",IF(OR(AND(I21<>"",NOT(ISNUMBER(H21))),AND(K21<>"",NOT(ISNUMBER(J21)))),"Actual entry needs a planned value",IF(AND(OR(I21="",I21=H21),OR(K21="",K21=J21)),"Actual entries match plan","Actual entries differ from plan"))))) | P21: =IF(B21="","",IF(L21="","Select a status",IF(OR(AND(I21<>"",NOT(ISNUMBER(I21))),AND(K21<>"",NOT(ISNUMBER(K21)))),"",IF(AND(OR(I21<>"",K21<>""),L21<>"Actual Recorded"),"Update status to Actual Recorded",IF(AND(L21="Actual Recorded",I21="",K21=""),"Actual status needs an actual entry",IF(L21="Reschedule Required","Rescheduling status selected","Status entry accepted")))))) | Q21: =IF(OR(B21="",NOT(ISNUMBER(H21)),NOT(ISNUMBER(I21))),"",IFERROR(I21-H21,"")) | R21: =IF(OR(B21="",NOT(ISNUMBER(J21)),NOT(ISNUMBER(K21))),"",IFERROR(K21-J21,"")) | S21: =IF(B21="","",IF(OR(M21="Reschedule required: action after required date",M21="Reschedule required: action outside reporting period",N21="Reschedule required",L21="Reschedule Required"),"Open","")) | T21: =IF(OR(B21="",S21<>"Open"),"",IF(M21="Reschedule required: action after required date","Planned action date is after required date; ","")&IF(M21="Reschedule required: action outside reporting period","Planned action date is outside reporting period; ","")&IF(N21="Reschedule required","Planned run time exceeds available resource time; ","")&IF(L21="Reschedule Required","Status is marked Reschedule Required","")) | U21: =IF(OR(B21="",NOT(ISNUMBER(E21))),"",IFERROR(E21+(ROW()-8)/100000,""))
A22: =IF(B22="","","MPS-"&TEXT(ROW()-8,"000")) | M22: =IF(OR(B22="",NOT(ISNUMBER(E22)),NOT(ISNUMBER(F22)),NOT(ISNUMBER($B$2)),NOT(ISNUMBER($E$2))),"",IF($E$2<$B$2,"",IF(E22>F22,"Reschedule required: action after required date",IF(OR(E22<$B$2,E22>$E$2),"Reschedule required: action outside reporting period","Date sequence is acceptable")))) | N22: =IF(OR(B22="",NOT(ISNUMBER(G22)),NOT(ISNUMBER(H22))),"",IF(H22<=G22,"Within available resource time","Reschedule required")) | O22: =IF(B22="","",IF(AND(I22="",K22=""),"",IF(OR(AND(I22<>"",NOT(ISNUMBER(I22))),AND(K22<>"",NOT(ISNUMBER(K22)))),"",IF(OR(AND(I22<>"",NOT(ISNUMBER(H22))),AND(K22<>"",NOT(ISNUMBER(J22)))),"Actual entry needs a planned value",IF(AND(OR(I22="",I22=H22),OR(K22="",K22=J22)),"Actual entries match plan","Actual entries differ from plan"))))) | P22: =IF(B22="","",IF(L22="","Select a status",IF(OR(AND(I22<>"",NOT(ISNUMBER(I22))),AND(K22<>"",NOT(ISNUMBER(K22)))),"",IF(AND(OR(I22<>"",K22<>""),L22<>"Actual Recorded"),"Update status to Actual Recorded",IF(AND(L22="Actual Recorded",I22="",K22=""),"Actual status needs an actual entry",IF(L22="Reschedule Required","Rescheduling status selected","Status entry accepted")))))) | Q22: =IF(OR(B22="",NOT(ISNUMBER(H22)),NOT(ISNUMBER(I22))),"",IFERROR(I22-H22,"")) | R22: =IF(OR(B22="",NOT(ISNUMBER(J22)),NOT(ISNUMBER(K22))),"",IFERROR(K22-J22,"")) | S22: =IF(B22="","",IF(OR(M22="Reschedule required: action after required date",M22="Reschedule required: action outside reporting period",N22="Reschedule required",L22="Reschedule Required"),"Open","")) | T22: =IF(OR(B22="",S22<>"Open"),"",IF(M22="Reschedule required: action after required date","Planned action date is after required date; ","")&IF(M22="Reschedule required: action outside reporting period","Planned action date is outside reporting period; ","")&IF(N22="Reschedule required","Planned run time exceeds available resource time; ","")&IF(L22="Reschedule Required","Status is marked Reschedule Required","")) | U22: =IF(OR(B22="",NOT(ISNUMBER(E22))),"",IFERROR(E22+(ROW()-8)/100000,""))
A23: =IF(B23="","","MPS-"&TEXT(ROW()-8,"000")) | M23: =IF(OR(B23="",NOT(ISNUMBER(E23)),NOT(ISNUMBER(F23)),NOT(ISNUMBER($B$2)),NOT(ISNUMBER($E$2))),"",IF($E$2<$B$2,"",IF(E23>F23,"Reschedule required: action after required date",IF(OR(E23<$B$2,E23>$E$2),"Reschedule required: action outside reporting period","Date sequence is acceptable")))) | N23: =IF(OR(B23="",NOT(ISNUMBER(G23)),NOT(ISNUMBER(H23))),"",IF(H23<=G23,"Within available resource time","Reschedule required")) | O23: =IF(B23="","",IF(AND(I23="",K23=""),"",IF(OR(AND(I23<>"",NOT(ISNUMBER(I23))),AND(K23<>"",NOT(ISNUMBER(K23)))),"",IF(OR(AND(I23<>"",NOT(ISNUMBER(H23))),AND(K23<>"",NOT(ISNUMBER(J23)))),"Actual entry needs a planned value",IF(AND(OR(I23="",I23=H23),OR(K23="",K23=J23)),"Actual entries match plan","Actual entries differ from plan"))))) | P23: =IF(B23="","",IF(L23="","Select a status",IF(OR(AND(I23<>"",NOT(ISNUMBER(I23))),AND(K23<>"",NOT(ISNUMBER(K23)))),"",IF(AND(OR(I23<>"",K23<>""),L23<>"Actual Recorded"),"Update status to Actual Recorded",IF(AND(L23="Actual Recorded",I23="",K23=""),"Actual status needs an actual entry",IF(L23="Reschedule Required","Rescheduling status selected","Status entry accepted")))))) | Q23: =IF(OR(B23="",NOT(ISNUMBER(H23)),NOT(ISNUMBER(I23))),"",IFERROR(I23-H23,"")) | R23: =IF(OR(B23="",NOT(ISNUMBER(J23)),NOT(ISNUMBER(K23))),"",IFERROR(K23-J23,"")) | S23: =IF(B23="","",IF(OR(M23="Reschedule required: action after required date",M23="Reschedule required: action outside reporting period",N23="Reschedule required",L23="Reschedule Required"),"Open","")) | T23: =IF(OR(B23="",S23<>"Open"),"",IF(M23="Reschedule required: action after required date","Planned action date is after required date; ","")&IF(M23="Reschedule required: action outside reporting period","Planned action date is outside reporting period; ","")&IF(N23="Reschedule required","Planned run time exceeds available resource time; ","")&IF(L23="Reschedule Required","Status is marked Reschedule Required","")) | U23: =IF(OR(B23="",NOT(ISNUMBER(E23))),"",IFERROR(E23+(ROW()-8)/100000,""))
A24: =IF(B24="","","MPS-"&TEXT(ROW()-8,"000")) | M24: =IF(OR(B24="",NOT(ISNUMBER(E24)),NOT(ISNUMBER(F24)),NOT(ISNUMBER($B$2)),NOT(ISNUMBER($E$2))),"",IF($E$2<$B$2,"",IF(E24>F24,"Reschedule required: action after required date",IF(OR(E24<$B$2,E24>$E$2),"Reschedule required: action outside reporting period","Date sequence is acceptable")))) | N24: =IF(OR(B24="",NOT(ISNUMBER(G24)),NOT(ISNUMBER(H24))),"",IF(H24<=G24,"Within available resource time","Reschedule required")) | O24: =IF(B24="","",IF(AND(I24="",K24=""),"",IF(OR(AND(I24<>"",NOT(ISNUMBER(I24))),AND(K24<>"",NOT(ISNUMBER(K24)))),"",IF(OR(AND(I24<>"",NOT(ISNUMBER(H24))),AND(K24<>"",NOT(ISNUMBER(J24)))),"Actual entry needs a planned value",IF(AND(OR(I24="",I24=H24),OR(K24="",K24=J24)),"Actual entries match plan","Actual entries differ from plan"))))) | P24: =IF(B24="","",IF(L24="","Select a status",IF(OR(AND(I24<>"",NOT(ISNUMBER(I24))),AND(K24<>"",NOT(ISNUMBER(K24)))),"",IF(AND(OR(I24<>"",K24<>""),L24<>"Actual Recorded"),"Update status to Actual Recorded",IF(AND(L24="Actual Recorded",I24="",K24=""),"Actual status needs an actual entry",IF(L24="Reschedule Required","Rescheduling status selected","Status entry accepted")))))) | Q24: =IF(OR(B24="",NOT(ISNUMBER(H24)),NOT(ISNUMBER(I24))),"",IFERROR(I24-H24,"")) | R24: =IF(OR(B24="",NOT(ISNUMBER(J24)),NOT(ISNUMBER(K24))),"",IFERROR(K24-J24,"")) | S24: =IF(B24="","",IF(OR(M24="Reschedule required: action after required date",M24="Reschedule required: action outside reporting period",N24="Reschedule required",L24="Reschedule Required"),"Open","")) | T24: =IF(OR(B24="",S24<>"Open"),"",IF(M24="Reschedule required: action after required date","Planned action date is after required date; ","")&IF(M24="Reschedule required: action outside reporting period","Planned action date is outside reporting period; ","")&IF(N24="Reschedule required","Planned run time exceeds available resource time; ","")&IF(L24="Reschedule Required","Status is marked Reschedule Required","")) | U24: =IF(OR(B24="",NOT(ISNUMBER(E24))),"",IFERROR(E24+(ROW()-8)/100000,""))
A25: =IF(B25="","","MPS-"&TEXT(ROW()-8,"000")) | M25: =IF(OR(B25="",NOT(ISNUMBER(E25)),NOT(ISNUMBER(F25)),NOT(ISNUMBER($B$2)),NOT(ISNUMBER($E$2))),"",IF($E$2<$B$2,"",IF(E25>F25,"Reschedule required: action after required date",IF(OR(E25<$B$2,E25>$E$2),"Reschedule required: action outside reporting period","Date sequence is acceptable")))) | N25: =IF(OR(B25="",NOT(ISNUMBER(G25)),NOT(ISNUMBER(H25))),"",IF(H25<=G25,"Within available resource time","Reschedule required")) | O25: =IF(B25="","",IF(AND(I25="",K25=""),"",IF(OR(AND(I25<>"",NOT(ISNUMBER(I25))),AND(K25<>"",NOT(ISNUMBER(K25)))),"",IF(OR(AND(I25<>"",NOT(ISNUMBER(H25))),AND(K25<>"",NOT(ISNUMBER(J25)))),"Actual entry needs a planned value",IF(AND(OR(I25="",I25=H25),OR(K25="",K25=J25)),"Actual entries match plan","Actual entries differ from plan"))))) | P25: =IF(B25="","",IF(L25="","Select a status",IF(OR(AND(I25<>"",NOT(ISNUMBER(I25))),AND(K25<>"",NOT(ISNUMBER(K25)))),"",IF(AND(OR(I25<>"",K25<>""),L25<>"Actual Recorded"),"Update status to Actual Recorded",IF(AND(L25="Actual Recorded",I25="",K25=""),"Actual status needs an actual entry",IF(L25="Reschedule Required","Rescheduling status selected","Status entry accepted")))))) | Q25: =IF(OR(B25="",NOT(ISNUMBER(H25)),NOT(ISNUMBER(I25))),"",IFERROR(I25-H25,"")) | R25: =IF(OR(B25="",NOT(ISNUMBER(J25)),NOT(ISNUMBER(K25))),"",IFERROR(K25-J25,"")) | S25: =IF(B25="","",IF(OR(M25="Reschedule required: action after required date",M25="Reschedule required: action outside reporting period",N25="Reschedule required",L25="Reschedule Required"),"Open","")) | T25: =IF(OR(B25="",S25<>"Open"),"",IF(M25="Reschedule required: action after required date","Planned action date is after required date; ","")&IF(M25="Reschedule required: action outside reporting period","Planned action date is outside reporting period; ","")&IF(N25="Reschedule required","Planned run time exceeds available resource time; ","")&IF(L25="Reschedule Required","Status is marked Reschedule Required","")) | U25: =IF(OR(B25="",NOT(ISNUMBER(E25))),"",IFERROR(E25+(ROW()-8)/100000,""))
A26: =IF(B26="","","MPS-"&TEXT(ROW()-8,"000")) | M26: =IF(OR(B26="",NOT(ISNUMBER(E26)),NOT(ISNUMBER(F26)),NOT(ISNUMBER($B$2)),NOT(ISNUMBER($E$2))),"",IF($E$2<$B$2,"",IF(E26>F26,"Reschedule required: action after required date",IF(OR(E26<$B$2,E26>$E$2),"Reschedule required: action outside reporting period","Date sequence is acceptable")))) | N26: =IF(OR(B26="",NOT(ISNUMBER(G26)),NOT(ISNUMBER(H26))),"",IF(H26<=G26,"Within available resource time","Reschedule required")) | O26: =IF(B26="","",IF(AND(I26="",K26=""),"",IF(OR(AND(I26<>"",NOT(ISNUMBER(I26))),AND(K26<>"",NOT(ISNUMBER(K26)))),"",IF(OR(AND(I26<>"",NOT(ISNUMBER(H26))),AND(K26<>"",NOT(ISNUMBER(J26)))),"Actual entry needs a planned value",IF(AND(OR(I26="",I26=H26),OR(K26="",K26=J26)),"Actual entries match plan","Actual entries differ from plan"))))) | P26: =IF(B26="","",IF(L26="","Select a status",IF(OR(AND(I26<>"",NOT(ISNUMBER(I26))),AND(K26<>"",NOT(ISNUMBER(K26)))),"",IF(AND(OR(I26<>"",K26<>""),L26<>"Actual Recorded"),"Update status to Actual Recorded",IF(AND(L26="Actual Recorded",I26="",K26=""),"Actual status needs an actual entry",IF(L26="Reschedule Required","Rescheduling status selected","Status entry accepted")))))) | Q26: =IF(OR(B26="",NOT(ISNUMBER(H26)),NOT(ISNUMBER(I26))),"",IFERROR(I26-H26,"")) | R26: =IF(OR(B26="",NOT(ISNUMBER(J26)),NOT(ISNUMBER(K26))),"",IFERROR(K26-J26,"")) | S26: =IF(B26="","",IF(OR(M26="Reschedule required: action after required date",M26="Reschedule required: action outside reporting period",N26="Reschedule required",L26="Reschedule Required"),"Open","")) | T26: =IF(OR(B26="",S26<>"Open"),"",IF(M26="Reschedule required: action after required date","Planned action date is after required date; ","")&IF(M26="Reschedule required: action outside reporting period","Planned action date is outside reporting period; ","")&IF(N26="Reschedule required","Planned run time exceeds available resource time; ","")&IF(L26="Reschedule Required","Status is marked Reschedule Required","")) | U26: =IF(OR(B26="",NOT(ISNUMBER(E26))),"",IFERROR(E26+(ROW()-8)/100000,""))
A27: =IF(B27="","","MPS-"&TEXT(ROW()-8,"000")) | M27: =IF(OR(B27="",NOT(ISNUMBER(E27)),NOT(ISNUMBER(F27)),NOT(ISNUMBER($B$2)),NOT(ISNUMBER($E$2))),"",IF($E$2<$B$2,"",IF(E27>F27,"Reschedule required: action after required date",IF(OR(E27<$B$2,E27>$E$2),"Reschedule required: action outside reporting period","Date sequence is acceptable")))) | N27: =IF(OR(B27="",NOT(ISNUMBER(G27)),NOT(ISNUMBER(H27))),"",IF(H27<=G27,"Within available resource time","Reschedule required")) | O27: =IF(B27="","",IF(AND(I27="",K27=""),"",IF(OR(AND(I27<>"",NOT(ISNUMBER(I27))),AND(K27<>"",NOT(ISNUMBER(K27)))),"",IF(OR(AND(I27<>"",NOT(ISNUMBER(H27))),AND(K27<>"",NOT(ISNUMBER(J27)))),"Actual entry needs a planned value",IF(AND(OR(I27="",I27=H27),OR(K27="",K27=J27)),"Actual entries match plan","Actual entries differ from plan"))))) | P27: =IF(B27="","",IF(L27="","Select a status",IF(OR(AND(I27<>"",NOT(ISNUMBER(I27))),AND(K27<>"",NOT(ISNUMBER(K27)))),"",IF(AND(OR(I27<>"",K27<>""),L27<>"Actual Recorded"),"Update status to Actual Recorded",IF(AND(L27="Actual Recorded",I27="",K27=""),"Actual status needs an actual entry",IF(L27="Reschedule Required","Rescheduling status selected","Status entry accepted")))))) | Q27: =IF(OR(B27="",NOT(ISNUMBER(H27)),NOT(ISNUMBER(I27))),"",IFERROR(I27-H27,"")) | R27: =IF(OR(B27="",NOT(ISNUMBER(J27)),NOT(ISNUMBER(K27))),"",IFERROR(K27-J27,"")) | S27: =IF(B27="","",IF(OR(M27="Reschedule required: action after required date",M27="Reschedule required: action outside reporting period",N27="Reschedule required",L27="Reschedule Required"),"Open","")) | T27: =IF(OR(B27="",S27<>"Open"),"",IF(M27="Reschedule required: action after required date","Planned action date is after required date; ","")&IF(M27="Reschedule required: action outside reporting period","Planned action date is outside reporting period; ","")&IF(N27="Reschedule required","Planned run time exceeds available resource time; ","")&IF(L27="Reschedule Required","Status is marked Reschedule Required","")) | U27: =IF(OR(B27="",NOT(ISNUMBER(E27))),"",IFERROR(E27+(ROW()-8)/100000,""))
A28: =IF(B28="","","MPS-"&TEXT(ROW()-8,"000")) | M28: =IF(OR(B28="",NOT(ISNUMBER(E28)),NOT(ISNUMBER(F28)),NOT(ISNUMBER($B$2)),NOT(ISNUMBER($E$2))),"",IF($E$2<$B$2,"",IF(E28>F28,"Reschedule required: action after required date",IF(OR(E28<$B$2,E28>$E$2),"Reschedule required: action outside reporting period","Date sequence is acceptable")))) | N28: =IF(OR(B28="",NOT(ISNUMBER(G28)),NOT(ISNUMBER(H28))),"",IF(H28<=G28,"Within available resource time","Reschedule required")) | O28: =IF(B28="","",IF(AND(I28="",K28=""),"",IF(OR(AND(I28<>"",NOT(ISNUMBER(I28))),AND(K28<>"",NOT(ISNUMBER(K28)))),"",IF(OR(AND(I28<>"",NOT(ISNUMBER(H28))),AND(K28<>"",NOT(ISNUMBER(J28)))),"Actual entry needs a planned value",IF(AND(OR(I28="",I28=H28),OR(K28="",K28=J28)),"Actual entries match plan","Actual entries differ from plan"))))) | P28: =IF(B28="","",IF(L28="","Select a status",IF(OR(AND(I28<>"",NOT(ISNUMBER(I28))),AND(K28<>"",NOT(ISNUMBER(K28)))),"",IF(AND(OR(I28<>"",K28<>""),L28<>"Actual Recorded"),"Update status to Actual Recorded",IF(AND(L28="Actual Recorded",I28="",K28=""),"Actual status needs an actual entry",IF(L28="Reschedule Required","Rescheduling status selected","Status entry accepted")))))) | Q28: =IF(OR(B28="",NOT(ISNUMBER(H28)),NOT(ISNUMBER(I28))),"",IFERROR(I28-H28,"")) | R28: =IF(OR(B28="",NOT(ISNUMBER(J28)),NOT(ISNUMBER(K28))),"",IFERROR(K28-J28,"")) | S28: =IF(B28="","",IF(OR(M28="Reschedule required: action after required date",M28="Reschedule required: action outside reporting period",N28="Reschedule required",L28="Reschedule Required"),"Open","")) | T28: =IF(OR(B28="",S28<>"Open"),"",IF(M28="Reschedule required: action after required date","Planned action date is after required date; ","")&IF(M28="Reschedule required: action outside reporting period","Planned action date is outside reporting period; ","")&IF(N28="Reschedule required","Planned run time exceeds available resource time; ","")&IF(L28="Reschedule Required","Status is marked Reschedule Required","")) | U28: =IF(OR(B28="",NOT(ISNUMBER(E28))),"",IFERROR(E28+(ROW()-8)/100000,""))
A29: =IF(B29="","","MPS-"&TEXT(ROW()-8,"000")) | M29: =IF(OR(B29="",NOT(ISNUMBER(E29)),NOT(ISNUMBER(F29)),NOT(ISNUMBER($B$2)),NOT(ISNUMBER($E$2))),"",IF($E$2<$B$2,"",IF(E29>F29,"Reschedule required: action after required date",IF(OR(E29<$B$2,E29>$E$2),"Reschedule required: action outside reporting period","Date sequence is acceptable")))) | N29: =IF(OR(B29="",NOT(ISNUMBER(G29)),NOT(ISNUMBER(H29))),"",IF(H29<=G29,"Within available resource time","Reschedule required")) | O29: =IF(B29="","",IF(AND(I29="",K29=""),"",IF(OR(AND(I29<>"",NOT(ISNUMBER(I29))),AND(K29<>"",NOT(ISNUMBER(K29)))),"",IF(OR(AND(I29<>"",NOT(ISNUMBER(H29))),AND(K29<>"",NOT(ISNUMBER(J29)))),"Actual entry needs a planned value",IF(AND(OR(I29="",I29=H29),OR(K29="",K29=J29)),"Actual entries match plan","Actual entries differ from plan"))))) | P29: =IF(B29="","",IF(L29="","Select a status",IF(OR(AND(I29<>"",NOT(ISNUMBER(I29))),AND(K29<>"",NOT(ISNUMBER(K29)))),"",IF(AND(OR(I29<>"",K29<>""),L29<>"Actual Recorded"),"Update status to Actual Recorded",IF(AND(L29="Actual Recorded",I29="",K29=""),"Actual status needs an actual entry",IF(L29="Reschedule Required","Rescheduling status selected","Status entry accepted")))))) | Q29: =IF(OR(B29="",NOT(ISNUMBER(H29)),NOT(ISNUMBER(I29))),"",IFERROR(I29-H29,"")) | R29: =IF(OR(B29="",NOT(ISNUMBER(J29)),NOT(ISNUMBER(K29))),"",IFERROR(K29-J29,"")) | S29: =IF(B29="","",IF(OR(M29="Reschedule required: action after required date",M29="Reschedule required: action outside reporting period",N29="Reschedule required",L29="Reschedule Required"),"Open","")) | T29: =IF(OR(B29="",S29<>"Open"),"",IF(M29="Reschedule required: action after required date","Planned action date is after required date; ","")&IF(M29="Reschedule required: action outside reporting period","Planned action date is outside reporting period; ","")&IF(N29="Reschedule required","Planned run time exceeds available resource time; ","")&IF(L29="Reschedule Required","Status is marked Reschedule Required","")) | U29: =IF(OR(B29="",NOT(ISNUMBER(E29))),"",IFERROR(E29+(ROW()-8)/100000,""))
A30: =IF(B30="","","MPS-"&TEXT(ROW()-8,"000")) | M30: =IF(OR(B30="",NOT(ISNUMBER(E30)),NOT(ISNUMBER(F30)),NOT(ISNUMBER($B$2)),NOT(ISNUMBER($E$2))),"",IF($E$2<$B$2,"",IF(E30>F30,"Reschedule required: action after required date",IF(OR(E30<$B$2,E30>$E$2),"Reschedule required: action outside reporting period","Date sequence is acceptable")))) | N30: =IF(OR(B30="",NOT(ISNUMBER(G30)),NOT(ISNUMBER(H30))),"",IF(H30<=G30,"Within available resource time","Reschedule required")) | O30: =IF(B30="","",IF(AND(I30="",K30=""),"",IF(OR(AND(I30<>"",NOT(ISNUMBER(I30))),AND(K30<>"",NOT(ISNUMBER(K30)))),"",IF(OR(AND(I30<>"",NOT(ISNUMBER(H30))),AND(K30<>"",NOT(ISNUMBER(J30)))),"Actual entry needs a planned value",IF(AND(OR(I30="",I30=H30),OR(K30="",K30=J30)),"Actual entries match plan","Actual entries differ from plan"))))) | P30: =IF(B30="","",IF(L30="","Select a status",IF(OR(AND(I30<>"",NOT(ISNUMBER(I30))),AND(K30<>"",NOT(ISNUMBER(K30)))),"",IF(AND(OR(I30<>"",K30<>""),L30<>"Actual Recorded"),"Update status to Actual Recorded",IF(AND(L30="Actual Recorded",I30="",K30=""),"Actual status needs an actual entry",IF(L30="Reschedule Required","Rescheduling status selected","Status entry accepted")))))) | Q30: =IF(OR(B30="",NOT(ISNUMBER(H30)),NOT(ISNUMBER(I30))),"",IFERROR(I30-H30,"")) | R30: =IF(OR(B30="",NOT(ISNUMBER(J30)),NOT(ISNUMBER(K30))),"",IFERROR(K30-J30,"")) | S30: =IF(B30="","",IF(OR(M30="Reschedule required: action after required date",M30="Reschedule required: action outside reporting period",N30="Reschedule required",L30="Reschedule Required"),"Open","")) | T30: =IF(OR(B30="",S30<>"Open"),"",IF(M30="Reschedule required: action after required date","Planned action date is after required date; ","")&IF(M30="Reschedule required: action outside reporting period","Planned action date is outside reporting period; ","")&IF(N30="Reschedule required","Planned run time exceeds available resource time; ","")&IF(L30="Reschedule Required","Status is marked Reschedule Required","")) | U30: =IF(OR(B30="",NOT(ISNUMBER(E30))),"",IFERROR(E30+(ROW()-8)/100000,""))
... A108: =IF(B108="","","MPS-"&TEXT(ROW()-8,"000")) | M108: =IF(OR(B108="",NOT(ISNUMBER(E108)),NOT(ISNUMBER(F108)),NOT(ISNUMBER($B$2)),NOT(ISNUMBER($E$2))),"",IF($E$2<$B$2,"",IF(E108>F108,"Reschedule required: action after required date",IF(OR(E108<$B$2,E108>$E$2),"Reschedule required: action outside reporting period","Date sequence is acceptable")))) | N108: =IF(OR(B108="",NOT(ISNUMBER(G108)),NOT(ISNUMBER(H108))),"",IF(H108<=G108,"Within available resource time","Reschedule required")) | O108: =IF(B108="","",IF(AND(I108="",K108=""),"",IF(OR(AND(I108<>"",NOT(ISNUMBER(I108))),AND(K108<>"",NOT(ISNUMBER(K108)))),"",IF(OR(AND(I108<>"",NOT(ISNUMBER(H108))),AND(K108<>"",NOT(ISNUMBER(J108)))),"Actual entry needs a planned value",IF(AND(OR(I108="",I108=H108),OR(K108="",K108=J108)),"Actual entries match plan","Actual entries differ from plan"))))) | P108: =IF(B108="","",IF(L108="","Select a status",IF(OR(AND(I108<>"",NOT(ISNUMBER(I108))),AND(K108<>"",NOT(ISNUMBER(K108)))),"",IF(AND(OR(I108<>"",K108<>""),L108<>"Actual Recorded"),"Update status to Actual Recorded",IF(AND(L108="Actual Recorded",I108="",K108=""),"Actual status needs an actual entry",IF(L108="Reschedule Required","Rescheduling status selected","Status entry accepted")))))) | Q108: =IF(OR(B108="",NOT(ISNUMBER(H108)),NOT(ISNUMBER(I108))),"",IFERROR(I108-H108,"")) | R108: =IF(OR(B108="",NOT(ISNUMBER(J108)),NOT(ISNUMBER(K108))),"",IFERROR(K108-J108,"")) | S108: =IF(B108="","",IF(OR(M108="Reschedule required: action after required date",M108="Reschedule required: action outside reporting period",N108="Reschedule required",L108="Reschedule Required"),"Open","")) | T108: =IF(OR(B108="",S108<>"Open"),"",IF(M108="Reschedule required: action after required date","Planned action date is after required date; ","")&IF(M108="Reschedule required: action outside reporting period","Planned action date is outside reporting period; ","")&IF(N108="Reschedule required","Planned run time exceeds available resource time; ","")&IF(L108="Reschedule Required","Status is marked Reschedule Required","")) | U108: =IF(OR(B108="",NOT(ISNUMBER(E108))),"",IFERROR(E108+(ROW()-8)/100000,""))

Sheet Action Plan
A1: Dated Action Plan and Execution Register
A2: This dated action plan and execution register sorts schedule lines with planned action dates. It highlights exceptions requiring rescheduling without creating a work-order or resource-loaded production schedule.
A3: Schedule lines shown from MPS Plan examples are fictional planning demonstrations only and are not factory history or actual performance.
W4: Open Exception List — Exceptions Requiring Rescheduling
A8: Date Sort Key Helper | B8: MPS Line ID | C8: Action Date | D8: Finished Products Identifier | E8: Work Order or Run ID | F8: Owner or Responsible Role | G8: Required Date | H8: Status | I8: Available Resources Time (hours) | J8: Planned Run Time (hours) | K8: Actual Run Time (hours) | L8: Planned Quantity (units) | M8: Actual Quantity (units) | N8: Run Time Variance (hours) | O8: Quantity Variance (units) | P8: Date Sequencing and Due-Date Check | Q8: Capacity or Due-Date Check | R8: Planned-versus-Actual Check | S8: Status Progression Check | T8: Action or Exception Note | V8: Source Row Helper | W8: Action Date | X8: Finished Products Identifier | Y8: Work Order or Run ID | Z8: Owner or Responsible Role | AA8: Required Date | AB8: Exception Detail | AC8: Date Sequencing and Due-Date Check | AD8: Capacity or Due-Date Check | AE8: Status
