Workbook

Sheet Dashboard
A1: Production Forecast
A2: Production Forecast Excel Template dashboard for reviewing product demand status, execution register activity, and open exceptions before production release.
A3: Quantities and times are shown only in their entered units. This workbook does not convert or total unlike units.
A5: Total Demand Records | C5: Planned | E5: In Progress | G5: Complete | I5: Open Exceptions | K5: No Exception
B6: =IFERROR(SUMPRODUCT(--('Execution Register'!$A$6:$A$105<>"")),0) | D6: =IFERROR(SUMPRODUCT(--('Execution Register'!$M$6:$M$105="Planned")),0) | F6: =IFERROR(SUMPRODUCT(--('Execution Register'!$M$6:$M$105="In Progress")),0) | H6: =IFERROR(SUMPRODUCT(--('Execution Register'!$M$6:$M$105="Complete")),0) | J6: =IFERROR(SUMPRODUCT(--(LEFT('Execution Register'!$N$6:$N$105,6)="Open -")),0) | L6: =IFERROR(SUMPRODUCT(--('Execution Register'!$N$6:$N$105="No exception")),0)
A8: Open Exception List
A9: Only records with an exception status beginning with “Open -” appear below.
A10: Product Demand Identifier | B10: Reporting Period | C10: Owner or Responsible Role | D10: Work Order or Run ID | E10: Status Progression | F10: Exception Status | G10: Planned Quantity | H10: Quantity Unit | I10: Actual Quantity | J10: Quantity Variance | K10: Planned Time | L10: Time Unit | M10: Actual Time | N10: Time Variance | O10: Exception Source Row
A11: =IFERROR(IF(OR($O11="",INDEX('Execution Register'!$A$6:$A$105,$O11-5)=""),"",INDEX('Execution Register'!$A$6:$A$105,$O11-5)),"") | B11: =IFERROR(IF(OR($O11="",INDEX('Execution Register'!$B$6:$B$105,$O11-5)=""),"",INDEX('Execution Register'!$B$6:$B$105,$O11-5)),"") | C11: =IFERROR(IF(OR($O11="",INDEX('Execution Register'!$C$6:$C$105,$O11-5)=""),"",INDEX('Execution Register'!$C$6:$C$105,$O11-5)),"") | D11: =IFERROR(IF(OR($O11="",INDEX('Execution Register'!$D$6:$D$105,$O11-5)=""),"",INDEX('Execution Register'!$D$6:$D$105,$O11-5)),"") | E11: =IFERROR(IF(OR($O11="",INDEX('Execution Register'!$M$6:$M$105,$O11-5)=""),"",INDEX('Execution Register'!$M$6:$M$105,$O11-5)),"") | F11: =IFERROR(IF(OR($O11="",INDEX('Execution Register'!$N$6:$N$105,$O11-5)=""),"",INDEX('Execution Register'!$N$6:$N$105,$O11-5)),"") | G11: =IFERROR(IF(OR($O11="",INDEX('Execution Register'!$E$6:$E$105,$O11-5)=""),"",INDEX('Execution Register'!$E$6:$E$105,$O11-5)),"") | H11: =IFERROR(IF(OR($O11="",INDEX('Execution Register'!$F$6:$F$105,$O11-5)=""),"",INDEX('Execution Register'!$F$6:$F$105,$O11-5)),"") | I11: =IFERROR(IF(OR($O11="",INDEX('Execution Register'!$G$6:$G$105,$O11-5)=""),"",INDEX('Execution Register'!$G$6:$G$105,$O11-5)),"") | J11: =IFERROR(IF(OR($O11="",INDEX('Execution Register'!$H$6:$H$105,$O11-5)=""),"",INDEX('Execution Register'!$H$6:$H$105,$O11-5)),"") | K11: =IFERROR(IF(OR($O11="",INDEX('Execution Register'!$I$6:$I$105,$O11-5)=""),"",INDEX('Execution Register'!$I$6:$I$105,$O11-5)),"") | L11: =IFERROR(IF(OR($O11="",INDEX('Execution Register'!$J$6:$J$105,$O11-5)=""),"",INDEX('Execution Register'!$J$6:$J$105,$O11-5)),"") | M11: =IFERROR(IF(OR($O11="",INDEX('Execution Register'!$K$6:$K$105,$O11-5)=""),"",INDEX('Execution Register'!$K$6:$K$105,$O11-5)),"") | N11: =IFERROR(IF(OR($O11="",INDEX('Execution Register'!$L$6:$L$105,$O11-5)=""),"",INDEX('Execution Register'!$L$6:$L$105,$O11-5)),"") | O11: =IFERROR(AGGREGATE(15,6,ROW('Execution Register'!$A$6:$A$105)/(LEFT('Execution Register'!$N$6:$N$105,6)="Open -"),1),"")
A12: =IFERROR(IF(OR($O12="",INDEX('Execution Register'!$A$6:$A$105,$O12-5)=""),"",INDEX('Execution Register'!$A$6:$A$105,$O12-5)),"") | B12: =IFERROR(IF(OR($O12="",INDEX('Execution Register'!$B$6:$B$105,$O12-5)=""),"",INDEX('Execution Register'!$B$6:$B$105,$O12-5)),"") | C12: =IFERROR(IF(OR($O12="",INDEX('Execution Register'!$C$6:$C$105,$O12-5)=""),"",INDEX('Execution Register'!$C$6:$C$105,$O12-5)),"") | D12: =IFERROR(IF(OR($O12="",INDEX('Execution Register'!$D$6:$D$105,$O12-5)=""),"",INDEX('Execution Register'!$D$6:$D$105,$O12-5)),"") | E12: =IFERROR(IF(OR($O12="",INDEX('Execution Register'!$M$6:$M$105,$O12-5)=""),"",INDEX('Execution Register'!$M$6:$M$105,$O12-5)),"") | F12: =IFERROR(IF(OR($O12="",INDEX('Execution Register'!$N$6:$N$105,$O12-5)=""),"",INDEX('Execution Register'!$N$6:$N$105,$O12-5)),"") | G12: =IFERROR(IF(OR($O12="",INDEX('Execution Register'!$E$6:$E$105,$O12-5)=""),"",INDEX('Execution Register'!$E$6:$E$105,$O12-5)),"") | H12: =IFERROR(IF(OR($O12="",INDEX('Execution Register'!$F$6:$F$105,$O12-5)=""),"",INDEX('Execution Register'!$F$6:$F$105,$O12-5)),"") | I12: =IFERROR(IF(OR($O12="",INDEX('Execution Register'!$G$6:$G$105,$O12-5)=""),"",INDEX('Execution Register'!$G$6:$G$105,$O12-5)),"") | J12: =IFERROR(IF(OR($O12="",INDEX('Execution Register'!$H$6:$H$105,$O12-5)=""),"",INDEX('Execution Register'!$H$6:$H$105,$O12-5)),"") | K12: =IFERROR(IF(OR($O12="",INDEX('Execution Register'!$I$6:$I$105,$O12-5)=""),"",INDEX('Execution Register'!$I$6:$I$105,$O12-5)),"") | L12: =IFERROR(IF(OR($O12="",INDEX('Execution Register'!$J$6:$J$105,$O12-5)=""),"",INDEX('Execution Register'!$J$6:$J$105,$O12-5)),"") | M12: =IFERROR(IF(OR($O12="",INDEX('Execution Register'!$K$6:$K$105,$O12-5)=""),"",INDEX('Execution Register'!$K$6:$K$105,$O12-5)),"") | N12: =IFERROR(IF(OR($O12="",INDEX('Execution Register'!$L$6:$L$105,$O12-5)=""),"",INDEX('Execution Register'!$L$6:$L$105,$O12-5)),"") | O12: =IFERROR(AGGREGATE(15,6,ROW('Execution Register'!$A$6:$A$105)/(LEFT('Execution Register'!$N$6:$N$105,6)="Open -"),2),"")
A13: =IFERROR(IF(OR($O13="",INDEX('Execution Register'!$A$6:$A$105,$O13-5)=""),"",INDEX('Execution Register'!$A$6:$A$105,$O13-5)),"") | B13: =IFERROR(IF(OR($O13="",INDEX('Execution Register'!$B$6:$B$105,$O13-5)=""),"",INDEX('Execution Register'!$B$6:$B$105,$O13-5)),"") | C13: =IFERROR(IF(OR($O13="",INDEX('Execution Register'!$C$6:$C$105,$O13-5)=""),"",INDEX('Execution Register'!$C$6:$C$105,$O13-5)),"") | D13: =IFERROR(IF(OR($O13="",INDEX('Execution Register'!$D$6:$D$105,$O13-5)=""),"",INDEX('Execution Register'!$D$6:$D$105,$O13-5)),"") | E13: =IFERROR(IF(OR($O13="",INDEX('Execution Register'!$M$6:$M$105,$O13-5)=""),"",INDEX('Execution Register'!$M$6:$M$105,$O13-5)),"") | F13: =IFERROR(IF(OR($O13="",INDEX('Execution Register'!$N$6:$N$105,$O13-5)=""),"",INDEX('Execution Register'!$N$6:$N$105,$O13-5)),"") | G13: =IFERROR(IF(OR($O13="",INDEX('Execution Register'!$E$6:$E$105,$O13-5)=""),"",INDEX('Execution Register'!$E$6:$E$105,$O13-5)),"") | H13: =IFERROR(IF(OR($O13="",INDEX('Execution Register'!$F$6:$F$105,$O13-5)=""),"",INDEX('Execution Register'!$F$6:$F$105,$O13-5)),"") | I13: =IFERROR(IF(OR($O13="",INDEX('Execution Register'!$G$6:$G$105,$O13-5)=""),"",INDEX('Execution Register'!$G$6:$G$105,$O13-5)),"") | J13: =IFERROR(IF(OR($O13="",INDEX('Execution Register'!$H$6:$H$105,$O13-5)=""),"",INDEX('Execution Register'!$H$6:$H$105,$O13-5)),"") | K13: =IFERROR(IF(OR($O13="",INDEX('Execution Register'!$I$6:$I$105,$O13-5)=""),"",INDEX('Execution Register'!$I$6:$I$105,$O13-5)),"") | L13: =IFERROR(IF(OR($O13="",INDEX('Execution Register'!$J$6:$J$105,$O13-5)=""),"",INDEX('Execution Register'!$J$6:$J$105,$O13-5)),"") | M13: =IFERROR(IF(OR($O13="",INDEX('Execution Register'!$K$6:$K$105,$O13-5)=""),"",INDEX('Execution Register'!$K$6:$K$105,$O13-5)),"") | N13: =IFERROR(IF(OR($O13="",INDEX('Execution Register'!$L$6:$L$105,$O13-5)=""),"",INDEX('Execution Register'!$L$6:$L$105,$O13-5)),"") | O13: =IFERROR(AGGREGATE(15,6,ROW('Execution Register'!$A$6:$A$105)/(LEFT('Execution Register'!$N$6:$N$105,6)="Open -"),3),"")
A14: =IFERROR(IF(OR($O14="",INDEX('Execution Register'!$A$6:$A$105,$O14-5)=""),"",INDEX('Execution Register'!$A$6:$A$105,$O14-5)),"") | B14: =IFERROR(IF(OR($O14="",INDEX('Execution Register'!$B$6:$B$105,$O14-5)=""),"",INDEX('Execution Register'!$B$6:$B$105,$O14-5)),"") | C14: =IFERROR(IF(OR($O14="",INDEX('Execution Register'!$C$6:$C$105,$O14-5)=""),"",INDEX('Execution Register'!$C$6:$C$105,$O14-5)),"") | D14: =IFERROR(IF(OR($O14="",INDEX('Execution Register'!$D$6:$D$105,$O14-5)=""),"",INDEX('Execution Register'!$D$6:$D$105,$O14-5)),"") | E14: =IFERROR(IF(OR($O14="",INDEX('Execution Register'!$M$6:$M$105,$O14-5)=""),"",INDEX('Execution Register'!$M$6:$M$105,$O14-5)),"") | F14: =IFERROR(IF(OR($O14="",INDEX('Execution Register'!$N$6:$N$105,$O14-5)=""),"",INDEX('Execution Register'!$N$6:$N$105,$O14-5)),"") | G14: =IFERROR(IF(OR($O14="",INDEX('Execution Register'!$E$6:$E$105,$O14-5)=""),"",INDEX('Execution Register'!$E$6:$E$105,$O14-5)),"") | H14: =IFERROR(IF(OR($O14="",INDEX('Execution Register'!$F$6:$F$105,$O14-5)=""),"",INDEX('Execution Register'!$F$6:$F$105,$O14-5)),"") | I14: =IFERROR(IF(OR($O14="",INDEX('Execution Register'!$G$6:$G$105,$O14-5)=""),"",INDEX('Execution Register'!$G$6:$G$105,$O14-5)),"") | J14: =IFERROR(IF(OR($O14="",INDEX('Execution Register'!$H$6:$H$105,$O14-5)=""),"",INDEX('Execution Register'!$H$6:$H$105,$O14-5)),"") | K14: =IFERROR(IF(OR($O14="",INDEX('Execution Register'!$I$6:$I$105,$O14-5)=""),"",INDEX('Execution Register'!$I$6:$I$105,$O14-5)),"") | L14: =IFERROR(IF(OR($O14="",INDEX('Execution Register'!$J$6:$J$105,$O14-5)=""),"",INDEX('Execution Register'!$J$6:$J$105,$O14-5)),"") | M14: =IFERROR(IF(OR($O14="",INDEX('Execution Register'!$K$6:$K$105,$O14-5)=""),"",INDEX('Execution Register'!$K$6:$K$105,$O14-5)),"") | N14: =IFERROR(IF(OR($O14="",INDEX('Execution Register'!$L$6:$L$105,$O14-5)=""),"",INDEX('Execution Register'!$L$6:$L$105,$O14-5)),"") | O14: =IFERROR(AGGREGATE(15,6,ROW('Execution Register'!$A$6:$A$105)/(LEFT('Execution Register'!$N$6:$N$105,6)="Open -"),4),"")
A15: =IFERROR(IF(OR($O15="",INDEX('Execution Register'!$A$6:$A$105,$O15-5)=""),"",INDEX('Execution Register'!$A$6:$A$105,$O15-5)),"") | B15: =IFERROR(IF(OR($O15="",INDEX('Execution Register'!$B$6:$B$105,$O15-5)=""),"",INDEX('Execution Register'!$B$6:$B$105,$O15-5)),"") | C15: =IFERROR(IF(OR($O15="",INDEX('Execution Register'!$C$6:$C$105,$O15-5)=""),"",INDEX('Execution Register'!$C$6:$C$105,$O15-5)),"") | D15: =IFERROR(IF(OR($O15="",INDEX('Execution Register'!$D$6:$D$105,$O15-5)=""),"",INDEX('Execution Register'!$D$6:$D$105,$O15-5)),"") | E15: =IFERROR(IF(OR($O15="",INDEX('Execution Register'!$M$6:$M$105,$O15-5)=""),"",INDEX('Execution Register'!$M$6:$M$105,$O15-5)),"") | F15: =IFERROR(IF(OR($O15="",INDEX('Execution Register'!$N$6:$N$105,$O15-5)=""),"",INDEX('Execution Register'!$N$6:$N$105,$O15-5)),"") | G15: =IFERROR(IF(OR($O15="",INDEX('Execution Register'!$E$6:$E$105,$O15-5)=""),"",INDEX('Execution Register'!$E$6:$E$105,$O15-5)),"") | H15: =IFERROR(IF(OR($O15="",INDEX('Execution Register'!$F$6:$F$105,$O15-5)=""),"",INDEX('Execution Register'!$F$6:$F$105,$O15-5)),"") | I15: =IFERROR(IF(OR($O15="",INDEX('Execution Register'!$G$6:$G$105,$O15-5)=""),"",INDEX('Execution Register'!$G$6:$G$105,$O15-5)),"") | J15: =IFERROR(IF(OR($O15="",INDEX('Execution Register'!$H$6:$H$105,$O15-5)=""),"",INDEX('Execution Register'!$H$6:$H$105,$O15-5)),"") | K15: =IFERROR(IF(OR($O15="",INDEX('Execution Register'!$I$6:$I$105,$O15-5)=""),"",INDEX('Execution Register'!$I$6:$I$105,$O15-5)),"") | L15: =IFERROR(IF(OR($O15="",INDEX('Execution Register'!$J$6:$J$105,$O15-5)=""),"",INDEX('Execution Register'!$J$6:$J$105,$O15-5)),"") | M15: =IFERROR(IF(OR($O15="",INDEX('Execution Register'!$K$6:$K$105,$O15-5)=""),"",INDEX('Execution Register'!$K$6:$K$105,$O15-5)),"") | N15: =IFERROR(IF(OR($O15="",INDEX('Execution Register'!$L$6:$L$105,$O15-5)=""),"",INDEX('Execution Register'!$L$6:$L$105,$O15-5)),"") | O15: =IFERROR(AGGREGATE(15,6,ROW('Execution Register'!$A$6:$A$105)/(LEFT('Execution Register'!$N$6:$N$105,6)="Open -"),5),"")
A16: =IFERROR(IF(OR($O16="",INDEX('Execution Register'!$A$6:$A$105,$O16-5)=""),"",INDEX('Execution Register'!$A$6:$A$105,$O16-5)),"") | B16: =IFERROR(IF(OR($O16="",INDEX('Execution Register'!$B$6:$B$105,$O16-5)=""),"",INDEX('Execution Register'!$B$6:$B$105,$O16-5)),"") | C16: =IFERROR(IF(OR($O16="",INDEX('Execution Register'!$C$6:$C$105,$O16-5)=""),"",INDEX('Execution Register'!$C$6:$C$105,$O16-5)),"") | D16: =IFERROR(IF(OR($O16="",INDEX('Execution Register'!$D$6:$D$105,$O16-5)=""),"",INDEX('Execution Register'!$D$6:$D$105,$O16-5)),"") | E16: =IFERROR(IF(OR($O16="",INDEX('Execution Register'!$M$6:$M$105,$O16-5)=""),"",INDEX('Execution Register'!$M$6:$M$105,$O16-5)),"") | F16: =IFERROR(IF(OR($O16="",INDEX('Execution Register'!$N$6:$N$105,$O16-5)=""),"",INDEX('Execution Register'!$N$6:$N$105,$O16-5)),"") | G16: =IFERROR(IF(OR($O16="",INDEX('Execution Register'!$E$6:$E$105,$O16-5)=""),"",INDEX('Execution Register'!$E$6:$E$105,$O16-5)),"") | H16: =IFERROR(IF(OR($O16="",INDEX('Execution Register'!$F$6:$F$105,$O16-5)=""),"",INDEX('Execution Register'!$F$6:$F$105,$O16-5)),"") | I16: =IFERROR(IF(OR($O16="",INDEX('Execution Register'!$G$6:$G$105,$O16-5)=""),"",INDEX('Execution Register'!$G$6:$G$105,$O16-5)),"") | J16: =IFERROR(IF(OR($O16="",INDEX('Execution Register'!$H$6:$H$105,$O16-5)=""),"",INDEX('Execution Register'!$H$6:$H$105,$O16-5)),"") | K16: =IFERROR(IF(OR($O16="",INDEX('Execution Register'!$I$6:$I$105,$O16-5)=""),"",INDEX('Execution Register'!$I$6:$I$105,$O16-5)),"") | L16: =IFERROR(IF(OR($O16="",INDEX('Execution Register'!$J$6:$J$105,$O16-5)=""),"",INDEX('Execution Register'!$J$6:$J$105,$O16-5)),"") | M16: =IFERROR(IF(OR($O16="",INDEX('Execution Register'!$K$6:$K$105,$O16-5)=""),"",INDEX('Execution Register'!$K$6:$K$105,$O16-5)),"") | N16: =IFERROR(IF(OR($O16="",INDEX('Execution Register'!$L$6:$L$105,$O16-5)=""),"",INDEX('Execution Register'!$L$6:$L$105,$O16-5)),"") | O16: =IFERROR(AGGREGATE(15,6,ROW('Execution Register'!$A$6:$A$105)/(LEFT('Execution Register'!$N$6:$N$105,6)="Open -"),6),"")
A17: =IFERROR(IF(OR($O17="",INDEX('Execution Register'!$A$6:$A$105,$O17-5)=""),"",INDEX('Execution Register'!$A$6:$A$105,$O17-5)),"") | B17: =IFERROR(IF(OR($O17="",INDEX('Execution Register'!$B$6:$B$105,$O17-5)=""),"",INDEX('Execution Register'!$B$6:$B$105,$O17-5)),"") | C17: =IFERROR(IF(OR($O17="",INDEX('Execution Register'!$C$6:$C$105,$O17-5)=""),"",INDEX('Execution Register'!$C$6:$C$105,$O17-5)),"") | D17: =IFERROR(IF(OR($O17="",INDEX('Execution Register'!$D$6:$D$105,$O17-5)=""),"",INDEX('Execution Register'!$D$6:$D$105,$O17-5)),"") | E17: =IFERROR(IF(OR($O17="",INDEX('Execution Register'!$M$6:$M$105,$O17-5)=""),"",INDEX('Execution Register'!$M$6:$M$105,$O17-5)),"") | F17: =IFERROR(IF(OR($O17="",INDEX('Execution Register'!$N$6:$N$105,$O17-5)=""),"",INDEX('Execution Register'!$N$6:$N$105,$O17-5)),"") | G17: =IFERROR(IF(OR($O17="",INDEX('Execution Register'!$E$6:$E$105,$O17-5)=""),"",INDEX('Execution Register'!$E$6:$E$105,$O17-5)),"") | H17: =IFERROR(IF(OR($O17="",INDEX('Execution Register'!$F$6:$F$105,$O17-5)=""),"",INDEX('Execution Register'!$F$6:$F$105,$O17-5)),"") | I17: =IFERROR(IF(OR($O17="",INDEX('Execution Register'!$G$6:$G$105,$O17-5)=""),"",INDEX('Execution Register'!$G$6:$G$105,$O17-5)),"") | J17: =IFERROR(IF(OR($O17="",INDEX('Execution Register'!$H$6:$H$105,$O17-5)=""),"",INDEX('Execution Register'!$H$6:$H$105,$O17-5)),"") | K17: =IFERROR(IF(OR($O17="",INDEX('Execution Register'!$I$6:$I$105,$O17-5)=""),"",INDEX('Execution Register'!$I$6:$I$105,$O17-5)),"") | L17: =IFERROR(IF(OR($O17="",INDEX('Execution Register'!$J$6:$J$105,$O17-5)=""),"",INDEX('Execution Register'!$J$6:$J$105,$O17-5)),"") | M17: =IFERROR(IF(OR($O17="",INDEX('Execution Register'!$K$6:$K$105,$O17-5)=""),"",INDEX('Execution Register'!$K$6:$K$105,$O17-5)),"") | N17: =IFERROR(IF(OR($O17="",INDEX('Execution Register'!$L$6:$L$105,$O17-5)=""),"",INDEX('Execution Register'!$L$6:$L$105,$O17-5)),"") | O17: =IFERROR(AGGREGATE(15,6,ROW('Execution Register'!$A$6:$A$105)/(LEFT('Execution Register'!$N$6:$N$105,6)="Open -"),7),"")
A18: =IFERROR(IF(OR($O18="",INDEX('Execution Register'!$A$6:$A$105,$O18-5)=""),"",INDEX('Execution Register'!$A$6:$A$105,$O18-5)),"") | B18: =IFERROR(IF(OR($O18="",INDEX('Execution Register'!$B$6:$B$105,$O18-5)=""),"",INDEX('Execution Register'!$B$6:$B$105,$O18-5)),"") | C18: =IFERROR(IF(OR($O18="",INDEX('Execution Register'!$C$6:$C$105,$O18-5)=""),"",INDEX('Execution Register'!$C$6:$C$105,$O18-5)),"") | D18: =IFERROR(IF(OR($O18="",INDEX('Execution Register'!$D$6:$D$105,$O18-5)=""),"",INDEX('Execution Register'!$D$6:$D$105,$O18-5)),"") | E18: =IFERROR(IF(OR($O18="",INDEX('Execution Register'!$M$6:$M$105,$O18-5)=""),"",INDEX('Execution Register'!$M$6:$M$105,$O18-5)),"") | F18: =IFERROR(IF(OR($O18="",INDEX('Execution Register'!$N$6:$N$105,$O18-5)=""),"",INDEX('Execution Register'!$N$6:$N$105,$O18-5)),"") | G18: =IFERROR(IF(OR($O18="",INDEX('Execution Register'!$E$6:$E$105,$O18-5)=""),"",INDEX('Execution Register'!$E$6:$E$105,$O18-5)),"") | H18: =IFERROR(IF(OR($O18="",INDEX('Execution Register'!$F$6:$F$105,$O18-5)=""),"",INDEX('Execution Register'!$F$6:$F$105,$O18-5)),"") | I18: =IFERROR(IF(OR($O18="",INDEX('Execution Register'!$G$6:$G$105,$O18-5)=""),"",INDEX('Execution Register'!$G$6:$G$105,$O18-5)),"") | J18: =IFERROR(IF(OR($O18="",INDEX('Execution Register'!$H$6:$H$105,$O18-5)=""),"",INDEX('Execution Register'!$H$6:$H$105,$O18-5)),"") | K18: =IFERROR(IF(OR($O18="",INDEX('Execution Register'!$I$6:$I$105,$O18-5)=""),"",INDEX('Execution Register'!$I$6:$I$105,$O18-5)),"") | L18: =IFERROR(IF(OR($O18="",INDEX('Execution Register'!$J$6:$J$105,$O18-5)=""),"",INDEX('Execution Register'!$J$6:$J$105,$O18-5)),"") | M18: =IFERROR(IF(OR($O18="",INDEX('Execution Register'!$K$6:$K$105,$O18-5)=""),"",INDEX('Execution Register'!$K$6:$K$105,$O18-5)),"") | N18: =IFERROR(IF(OR($O18="",INDEX('Execution Register'!$L$6:$L$105,$O18-5)=""),"",INDEX('Execution Register'!$L$6:$L$105,$O18-5)),"") | O18: =IFERROR(AGGREGATE(15,6,ROW('Execution Register'!$A$6:$A$105)/(LEFT('Execution Register'!$N$6:$N$105,6)="Open -"),8),"")
A19: =IFERROR(IF(OR($O19="",INDEX('Execution Register'!$A$6:$A$105,$O19-5)=""),"",INDEX('Execution Register'!$A$6:$A$105,$O19-5)),"") | B19: =IFERROR(IF(OR($O19="",INDEX('Execution Register'!$B$6:$B$105,$O19-5)=""),"",INDEX('Execution Register'!$B$6:$B$105,$O19-5)),"") | C19: =IFERROR(IF(OR($O19="",INDEX('Execution Register'!$C$6:$C$105,$O19-5)=""),"",INDEX('Execution Register'!$C$6:$C$105,$O19-5)),"") | D19: =IFERROR(IF(OR($O19="",INDEX('Execution Register'!$D$6:$D$105,$O19-5)=""),"",INDEX('Execution Register'!$D$6:$D$105,$O19-5)),"") | E19: =IFERROR(IF(OR($O19="",INDEX('Execution Register'!$M$6:$M$105,$O19-5)=""),"",INDEX('Execution Register'!$M$6:$M$105,$O19-5)),"") | F19: =IFERROR(IF(OR($O19="",INDEX('Execution Register'!$N$6:$N$105,$O19-5)=""),"",INDEX('Execution Register'!$N$6:$N$105,$O19-5)),"") | G19: =IFERROR(IF(OR($O19="",INDEX('Execution Register'!$E$6:$E$105,$O19-5)=""),"",INDEX('Execution Register'!$E$6:$E$105,$O19-5)),"") | H19: =IFERROR(IF(OR($O19="",INDEX('Execution Register'!$F$6:$F$105,$O19-5)=""),"",INDEX('Execution Register'!$F$6:$F$105,$O19-5)),"") | I19: =IFERROR(IF(OR($O19="",INDEX('Execution Register'!$G$6:$G$105,$O19-5)=""),"",INDEX('Execution Register'!$G$6:$G$105,$O19-5)),"") | J19: =IFERROR(IF(OR($O19="",INDEX('Execution Register'!$H$6:$H$105,$O19-5)=""),"",INDEX('Execution Register'!$H$6:$H$105,$O19-5)),"") | K19: =IFERROR(IF(OR($O19="",INDEX('Execution Register'!$I$6:$I$105,$O19-5)=""),"",INDEX('Execution Register'!$I$6:$I$105,$O19-5)),"") | L19: =IFERROR(IF(OR($O19="",INDEX('Execution Register'!$J$6:$J$105,$O19-5)=""),"",INDEX('Execution Register'!$J$6:$J$105,$O19-5)),"") | M19: =IFERROR(IF(OR($O19="",INDEX('Execution Register'!$K$6:$K$105,$O19-5)=""),"",INDEX('Execution Register'!$K$6:$K$105,$O19-5)),"") | N19: =IFERROR(IF(OR($O19="",INDEX('Execution Register'!$L$6:$L$105,$O19-5)=""),"",INDEX('Execution Register'!$L$6:$L$105,$O19-5)),"") | O19: =IFERROR(AGGREGATE(15,6,ROW('Execution Register'!$A$6:$A$105)/(LEFT('Execution Register'!$N$6:$N$105,6)="Open -"),9),"")
A20: =IFERROR(IF(OR($O20="",INDEX('Execution Register'!$A$6:$A$105,$O20-5)=""),"",INDEX('Execution Register'!$A$6:$A$105,$O20-5)),"") | B20: =IFERROR(IF(OR($O20="",INDEX('Execution Register'!$B$6:$B$105,$O20-5)=""),"",INDEX('Execution Register'!$B$6:$B$105,$O20-5)),"") | C20: =IFERROR(IF(OR($O20="",INDEX('Execution Register'!$C$6:$C$105,$O20-5)=""),"",INDEX('Execution Register'!$C$6:$C$105,$O20-5)),"") | D20: =IFERROR(IF(OR($O20="",INDEX('Execution Register'!$D$6:$D$105,$O20-5)=""),"",INDEX('Execution Register'!$D$6:$D$105,$O20-5)),"") | E20: =IFERROR(IF(OR($O20="",INDEX('Execution Register'!$M$6:$M$105,$O20-5)=""),"",INDEX('Execution Register'!$M$6:$M$105,$O20-5)),"") | F20: =IFERROR(IF(OR($O20="",INDEX('Execution Register'!$N$6:$N$105,$O20-5)=""),"",INDEX('Execution Register'!$N$6:$N$105,$O20-5)),"") | G20: =IFERROR(IF(OR($O20="",INDEX('Execution Register'!$E$6:$E$105,$O20-5)=""),"",INDEX('Execution Register'!$E$6:$E$105,$O20-5)),"") | H20: =IFERROR(IF(OR($O20="",INDEX('Execution Register'!$F$6:$F$105,$O20-5)=""),"",INDEX('Execution Register'!$F$6:$F$105,$O20-5)),"") | I20: =IFERROR(IF(OR($O20="",INDEX('Execution Register'!$G$6:$G$105,$O20-5)=""),"",INDEX('Execution Register'!$G$6:$G$105,$O20-5)),"") | J20: =IFERROR(IF(OR($O20="",INDEX('Execution Register'!$H$6:$H$105,$O20-5)=""),"",INDEX('Execution Register'!$H$6:$H$105,$O20-5)),"") | K20: =IFERROR(IF(OR($O20="",INDEX('Execution Register'!$I$6:$I$105,$O20-5)=""),"",INDEX('Execution Register'!$I$6:$I$105,$O20-5)),"") | L20: =IFERROR(IF(OR($O20="",INDEX('Execution Register'!$J$6:$J$105,$O20-5)=""),"",INDEX('Execution Register'!$J$6:$J$105,$O20-5)),"") | M20: =IFERROR(IF(OR($O20="",INDEX('Execution Register'!$K$6:$K$105,$O20-5)=""),"",INDEX('Execution Register'!$K$6:$K$105,$O20-5)),"") | N20: =IFERROR(IF(OR($O20="",INDEX('Execution Register'!$L$6:$L$105,$O20-5)=""),"",INDEX('Execution Register'!$L$6:$L$105,$O20-5)),"") | O20: =IFERROR(AGGREGATE(15,6,ROW('Execution Register'!$A$6:$A$105)/(LEFT('Execution Register'!$N$6:$N$105,6)="Open -"),10),"")
A21: =IFERROR(IF(OR($O21="",INDEX('Execution Register'!$A$6:$A$105,$O21-5)=""),"",INDEX('Execution Register'!$A$6:$A$105,$O21-5)),"") | B21: =IFERROR(IF(OR($O21="",INDEX('Execution Register'!$B$6:$B$105,$O21-5)=""),"",INDEX('Execution Register'!$B$6:$B$105,$O21-5)),"") | C21: =IFERROR(IF(OR($O21="",INDEX('Execution Register'!$C$6:$C$105,$O21-5)=""),"",INDEX('Execution Register'!$C$6:$C$105,$O21-5)),"") | D21: =IFERROR(IF(OR($O21="",INDEX('Execution Register'!$D$6:$D$105,$O21-5)=""),"",INDEX('Execution Register'!$D$6:$D$105,$O21-5)),"") | E21: =IFERROR(IF(OR($O21="",INDEX('Execution Register'!$M$6:$M$105,$O21-5)=""),"",INDEX('Execution Register'!$M$6:$M$105,$O21-5)),"") | F21: =IFERROR(IF(OR($O21="",INDEX('Execution Register'!$N$6:$N$105,$O21-5)=""),"",INDEX('Execution Register'!$N$6:$N$105,$O21-5)),"") | G21: =IFERROR(IF(OR($O21="",INDEX('Execution Register'!$E$6:$E$105,$O21-5)=""),"",INDEX('Execution Register'!$E$6:$E$105,$O21-5)),"") | H21: =IFERROR(IF(OR($O21="",INDEX('Execution Register'!$F$6:$F$105,$O21-5)=""),"",INDEX('Execution Register'!$F$6:$F$105,$O21-5)),"") | I21: =IFERROR(IF(OR($O21="",INDEX('Execution Register'!$G$6:$G$105,$O21-5)=""),"",INDEX('Execution Register'!$G$6:$G$105,$O21-5)),"") | J21: =IFERROR(IF(OR($O21="",INDEX('Execution Register'!$H$6:$H$105,$O21-5)=""),"",INDEX('Execution Register'!$H$6:$H$105,$O21-5)),"") | K21: =IFERROR(IF(OR($O21="",INDEX('Execution Register'!$I$6:$I$105,$O21-5)=""),"",INDEX('Execution Register'!$I$6:$I$105,$O21-5)),"") | L21: =IFERROR(IF(OR($O21="",INDEX('Execution Register'!$J$6:$J$105,$O21-5)=""),"",INDEX('Execution Register'!$J$6:$J$105,$O21-5)),"") | M21: =IFERROR(IF(OR($O21="",INDEX('Execution Register'!$K$6:$K$105,$O21-5)=""),"",INDEX('Execution Register'!$K$6:$K$105,$O21-5)),"") | N21: =IFERROR(IF(OR($O21="",INDEX('Execution Register'!$L$6:$L$105,$O21-5)=""),"",INDEX('Execution Register'!$L$6:$L$105,$O21-5)),"") | O21: =IFERROR(AGGREGATE(15,6,ROW('Execution Register'!$A$6:$A$105)/(LEFT('Execution Register'!$N$6:$N$105,6)="Open -"),11),"")
A22: =IFERROR(IF(OR($O22="",INDEX('Execution Register'!$A$6:$A$105,$O22-5)=""),"",INDEX('Execution Register'!$A$6:$A$105,$O22-5)),"") | B22: =IFERROR(IF(OR($O22="",INDEX('Execution Register'!$B$6:$B$105,$O22-5)=""),"",INDEX('Execution Register'!$B$6:$B$105,$O22-5)),"") | C22: =IFERROR(IF(OR($O22="",INDEX('Execution Register'!$C$6:$C$105,$O22-5)=""),"",INDEX('Execution Register'!$C$6:$C$105,$O22-5)),"") | D22: =IFERROR(IF(OR($O22="",INDEX('Execution Register'!$D$6:$D$105,$O22-5)=""),"",INDEX('Execution Register'!$D$6:$D$105,$O22-5)),"") | E22: =IFERROR(IF(OR($O22="",INDEX('Execution Register'!$M$6:$M$105,$O22-5)=""),"",INDEX('Execution Register'!$M$6:$M$105,$O22-5)),"") | F22: =IFERROR(IF(OR($O22="",INDEX('Execution Register'!$N$6:$N$105,$O22-5)=""),"",INDEX('Execution Register'!$N$6:$N$105,$O22-5)),"") | G22: =IFERROR(IF(OR($O22="",INDEX('Execution Register'!$E$6:$E$105,$O22-5)=""),"",INDEX('Execution Register'!$E$6:$E$105,$O22-5)),"") | H22: =IFERROR(IF(OR($O22="",INDEX('Execution Register'!$F$6:$F$105,$O22-5)=""),"",INDEX('Execution Register'!$F$6:$F$105,$O22-5)),"") | I22: =IFERROR(IF(OR($O22="",INDEX('Execution Register'!$G$6:$G$105,$O22-5)=""),"",INDEX('Execution Register'!$G$6:$G$105,$O22-5)),"") | J22: =IFERROR(IF(OR($O22="",INDEX('Execution Register'!$H$6:$H$105,$O22-5)=""),"",INDEX('Execution Register'!$H$6:$H$105,$O22-5)),"") | K22: =IFERROR(IF(OR($O22="",INDEX('Execution Register'!$I$6:$I$105,$O22-5)=""),"",INDEX('Execution Register'!$I$6:$I$105,$O22-5)),"") | L22: =IFERROR(IF(OR($O22="",INDEX('Execution Register'!$J$6:$J$105,$O22-5)=""),"",INDEX('Execution Register'!$J$6:$J$105,$O22-5)),"") | M22: =IFERROR(IF(OR($O22="",INDEX('Execution Register'!$K$6:$K$105,$O22-5)=""),"",INDEX('Execution Register'!$K$6:$K$105,$O22-5)),"") | N22: =IFERROR(IF(OR($O22="",INDEX('Execution Register'!$L$6:$L$105,$O22-5)=""),"",INDEX('Execution Register'!$L$6:$L$105,$O22-5)),"") | O22: =IFERROR(AGGREGATE(15,6,ROW('Execution Register'!$A$6:$A$105)/(LEFT('Execution Register'!$N$6:$N$105,6)="Open -"),12),"")
A23: =IFERROR(IF(OR($O23="",INDEX('Execution Register'!$A$6:$A$105,$O23-5)=""),"",INDEX('Execution Register'!$A$6:$A$105,$O23-5)),"") | B23: =IFERROR(IF(OR($O23="",INDEX('Execution Register'!$B$6:$B$105,$O23-5)=""),"",INDEX('Execution Register'!$B$6:$B$105,$O23-5)),"") | C23: =IFERROR(IF(OR($O23="",INDEX('Execution Register'!$C$6:$C$105,$O23-5)=""),"",INDEX('Execution Register'!$C$6:$C$105,$O23-5)),"") | D23: =IFERROR(IF(OR($O23="",INDEX('Execution Register'!$D$6:$D$105,$O23-5)=""),"",INDEX('Execution Register'!$D$6:$D$105,$O23-5)),"") | E23: =IFERROR(IF(OR($O23="",INDEX('Execution Register'!$M$6:$M$105,$O23-5)=""),"",INDEX('Execution Register'!$M$6:$M$105,$O23-5)),"") | F23: =IFERROR(IF(OR($O23="",INDEX('Execution Register'!$N$6:$N$105,$O23-5)=""),"",INDEX('Execution Register'!$N$6:$N$105,$O23-5)),"") | G23: =IFERROR(IF(OR($O23="",INDEX('Execution Register'!$E$6:$E$105,$O23-5)=""),"",INDEX('Execution Register'!$E$6:$E$105,$O23-5)),"") | H23: =IFERROR(IF(OR($O23="",INDEX('Execution Register'!$F$6:$F$105,$O23-5)=""),"",INDEX('Execution Register'!$F$6:$F$105,$O23-5)),"") | I23: =IFERROR(IF(OR($O23="",INDEX('Execution Register'!$G$6:$G$105,$O23-5)=""),"",INDEX('Execution Register'!$G$6:$G$105,$O23-5)),"") | J23: =IFERROR(IF(OR($O23="",INDEX('Execution Register'!$H$6:$H$105,$O23-5)=""),"",INDEX('Execution Register'!$H$6:$H$105,$O23-5)),"") | K23: =IFERROR(IF(OR($O23="",INDEX('Execution Register'!$I$6:$I$105,$O23-5)=""),"",INDEX('Execution Register'!$I$6:$I$105,$O23-5)),"") | L23: =IFERROR(IF(OR($O23="",INDEX('Execution Register'!$J$6:$J$105,$O23-5)=""),"",INDEX('Execution Register'!$J$6:$J$105,$O23-5)),"") | M23: =IFERROR(IF(OR($O23="",INDEX('Execution Register'!$K$6:$K$105,$O23-5)=""),"",INDEX('Execution Register'!$K$6:$K$105,$O23-5)),"") | N23: =IFERROR(IF(OR($O23="",INDEX('Execution Register'!$L$6:$L$105,$O23-5)=""),"",INDEX('Execution Register'!$L$6:$L$105,$O23-5)),"") | O23: =IFERROR(AGGREGATE(15,6,ROW('Execution Register'!$A$6:$A$105)/(LEFT('Execution Register'!$N$6:$N$105,6)="Open -"),13),"")
A24: =IFERROR(IF(OR($O24="",INDEX('Execution Register'!$A$6:$A$105,$O24-5)=""),"",INDEX('Execution Register'!$A$6:$A$105,$O24-5)),"") | B24: =IFERROR(IF(OR($O24="",INDEX('Execution Register'!$B$6:$B$105,$O24-5)=""),"",INDEX('Execution Register'!$B$6:$B$105,$O24-5)),"") | C24: =IFERROR(IF(OR($O24="",INDEX('Execution Register'!$C$6:$C$105,$O24-5)=""),"",INDEX('Execution Register'!$C$6:$C$105,$O24-5)),"") | D24: =IFERROR(IF(OR($O24="",INDEX('Execution Register'!$D$6:$D$105,$O24-5)=""),"",INDEX('Execution Register'!$D$6:$D$105,$O24-5)),"") | E24: =IFERROR(IF(OR($O24="",INDEX('Execution Register'!$M$6:$M$105,$O24-5)=""),"",INDEX('Execution Register'!$M$6:$M$105,$O24-5)),"") | F24: =IFERROR(IF(OR($O24="",INDEX('Execution Register'!$N$6:$N$105,$O24-5)=""),"",INDEX('Execution Register'!$N$6:$N$105,$O24-5)),"") | G24: =IFERROR(IF(OR($O24="",INDEX('Execution Register'!$E$6:$E$105,$O24-5)=""),"",INDEX('Execution Register'!$E$6:$E$105,$O24-5)),"") | H24: =IFERROR(IF(OR($O24="",INDEX('Execution Register'!$F$6:$F$105,$O24-5)=""),"",INDEX('Execution Register'!$F$6:$F$105,$O24-5)),"") | I24: =IFERROR(IF(OR($O24="",INDEX('Execution Register'!$G$6:$G$105,$O24-5)=""),"",INDEX('Execution Register'!$G$6:$G$105,$O24-5)),"") | J24: =IFERROR(IF(OR($O24="",INDEX('Execution Register'!$H$6:$H$105,$O24-5)=""),"",INDEX('Execution Register'!$H$6:$H$105,$O24-5)),"") | K24: =IFERROR(IF(OR($O24="",INDEX('Execution Register'!$I$6:$I$105,$O24-5)=""),"",INDEX('Execution Register'!$I$6:$I$105,$O24-5)),"") | L24: =IFERROR(IF(OR($O24="",INDEX('Execution Register'!$J$6:$J$105,$O24-5)=""),"",INDEX('Execution Register'!$J$6:$J$105,$O24-5)),"") | M24: =IFERROR(IF(OR($O24="",INDEX('Execution Register'!$K$6:$K$105,$O24-5)=""),"",INDEX('Execution Register'!$K$6:$K$105,$O24-5)),"") | N24: =IFERROR(IF(OR($O24="",INDEX('Execution Register'!$L$6:$L$105,$O24-5)=""),"",INDEX('Execution Register'!$L$6:$L$105,$O24-5)),"") | O24: =IFERROR(AGGREGATE(15,6,ROW('Execution Register'!$A$6:$A$105)/(LEFT('Execution Register'!$N$6:$N$105,6)="Open -"),14),"")
A25: =IFERROR(IF(OR($O25="",INDEX('Execution Register'!$A$6:$A$105,$O25-5)=""),"",INDEX('Execution Register'!$A$6:$A$105,$O25-5)),"") | B25: =IFERROR(IF(OR($O25="",INDEX('Execution Register'!$B$6:$B$105,$O25-5)=""),"",INDEX('Execution Register'!$B$6:$B$105,$O25-5)),"") | C25: =IFERROR(IF(OR($O25="",INDEX('Execution Register'!$C$6:$C$105,$O25-5)=""),"",INDEX('Execution Register'!$C$6:$C$105,$O25-5)),"") | D25: =IFERROR(IF(OR($O25="",INDEX('Execution Register'!$D$6:$D$105,$O25-5)=""),"",INDEX('Execution Register'!$D$6:$D$105,$O25-5)),"") | E25: =IFERROR(IF(OR($O25="",INDEX('Execution Register'!$M$6:$M$105,$O25-5)=""),"",INDEX('Execution Register'!$M$6:$M$105,$O25-5)),"") | F25: =IFERROR(IF(OR($O25="",INDEX('Execution Register'!$N$6:$N$105,$O25-5)=""),"",INDEX('Execution Register'!$N$6:$N$105,$O25-5)),"") | G25: =IFERROR(IF(OR($O25="",INDEX('Execution Register'!$E$6:$E$105,$O25-5)=""),"",INDEX('Execution Register'!$E$6:$E$105,$O25-5)),"") | H25: =IFERROR(IF(OR($O25="",INDEX('Execution Register'!$F$6:$F$105,$O25-5)=""),"",INDEX('Execution Register'!$F$6:$F$105,$O25-5)),"") | I25: =IFERROR(IF(OR($O25="",INDEX('Execution Register'!$G$6:$G$105,$O25-5)=""),"",INDEX('Execution Register'!$G$6:$G$105,$O25-5)),"") | J25: =IFERROR(IF(OR($O25="",INDEX('Execution Register'!$H$6:$H$105,$O25-5)=""),"",INDEX('Execution Register'!$H$6:$H$105,$O25-5)),"") | K25: =IFERROR(IF(OR($O25="",INDEX('Execution Register'!$I$6:$I$105,$O25-5)=""),"",INDEX('Execution Register'!$I$6:$I$105,$O25-5)),"") | L25: =IFERROR(IF(OR($O25="",INDEX('Execution Register'!$J$6:$J$105,$O25-5)=""),"",INDEX('Execution Register'!$J$6:$J$105,$O25-5)),"") | M25: =IFERROR(IF(OR($O25="",INDEX('Execution Register'!$K$6:$K$105,$O25-5)=""),"",INDEX('Execution Register'!$K$6:$K$105,$O25-5)),"") | N25: =IFERROR(IF(OR($O25="",INDEX('Execution Register'!$L$6:$L$105,$O25-5)=""),"",INDEX('Execution Register'!$L$6:$L$105,$O25-5)),"") | O25: =IFERROR(AGGREGATE(15,6,ROW('Execution Register'!$A$6:$A$105)/(LEFT('Execution Register'!$N$6:$N$105,6)="Open -"),15),"")
A26: =IFERROR(IF(OR($O26="",INDEX('Execution Register'!$A$6:$A$105,$O26-5)=""),"",INDEX('Execution Register'!$A$6:$A$105,$O26-5)),"") | B26: =IFERROR(IF(OR($O26="",INDEX('Execution Register'!$B$6:$B$105,$O26-5)=""),"",INDEX('Execution Register'!$B$6:$B$105,$O26-5)),"") | C26: =IFERROR(IF(OR($O26="",INDEX('Execution Register'!$C$6:$C$105,$O26-5)=""),"",INDEX('Execution Register'!$C$6:$C$105,$O26-5)),"") | D26: =IFERROR(IF(OR($O26="",INDEX('Execution Register'!$D$6:$D$105,$O26-5)=""),"",INDEX('Execution Register'!$D$6:$D$105,$O26-5)),"") | E26: =IFERROR(IF(OR($O26="",INDEX('Execution Register'!$M$6:$M$105,$O26-5)=""),"",INDEX('Execution Register'!$M$6:$M$105,$O26-5)),"") | F26: =IFERROR(IF(OR($O26="",INDEX('Execution Register'!$N$6:$N$105,$O26-5)=""),"",INDEX('Execution Register'!$N$6:$N$105,$O26-5)),"") | G26: =IFERROR(IF(OR($O26="",INDEX('Execution Register'!$E$6:$E$105,$O26-5)=""),"",INDEX('Execution Register'!$E$6:$E$105,$O26-5)),"") | H26: =IFERROR(IF(OR($O26="",INDEX('Execution Register'!$F$6:$F$105,$O26-5)=""),"",INDEX('Execution Register'!$F$6:$F$105,$O26-5)),"") | I26: =IFERROR(IF(OR($O26="",INDEX('Execution Register'!$G$6:$G$105,$O26-5)=""),"",INDEX('Execution Register'!$G$6:$G$105,$O26-5)),"") | J26: =IFERROR(IF(OR($O26="",INDEX('Execution Register'!$H$6:$H$105,$O26-5)=""),"",INDEX('Execution Register'!$H$6:$H$105,$O26-5)),"") | K26: =IFERROR(IF(OR($O26="",INDEX('Execution Register'!$I$6:$I$105,$O26-5)=""),"",INDEX('Execution Register'!$I$6:$I$105,$O26-5)),"") | L26: =IFERROR(IF(OR($O26="",INDEX('Execution Register'!$J$6:$J$105,$O26-5)=""),"",INDEX('Execution Register'!$J$6:$J$105,$O26-5)),"") | M26: =IFERROR(IF(OR($O26="",INDEX('Execution Register'!$K$6:$K$105,$O26-5)=""),"",INDEX('Execution Register'!$K$6:$K$105,$O26-5)),"") | N26: =IFERROR(IF(OR($O26="",INDEX('Execution Register'!$L$6:$L$105,$O26-5)=""),"",INDEX('Execution Register'!$L$6:$L$105,$O26-5)),"") | O26: =IFERROR(AGGREGATE(15,6,ROW('Execution Register'!$A$6:$A$105)/(LEFT('Execution Register'!$N$6:$N$105,6)="Open -"),16),"")
A27: =IFERROR(IF(OR($O27="",INDEX('Execution Register'!$A$6:$A$105,$O27-5)=""),"",INDEX('Execution Register'!$A$6:$A$105,$O27-5)),"") | B27: =IFERROR(IF(OR($O27="",INDEX('Execution Register'!$B$6:$B$105,$O27-5)=""),"",INDEX('Execution Register'!$B$6:$B$105,$O27-5)),"") | C27: =IFERROR(IF(OR($O27="",INDEX('Execution Register'!$C$6:$C$105,$O27-5)=""),"",INDEX('Execution Register'!$C$6:$C$105,$O27-5)),"") | D27: =IFERROR(IF(OR($O27="",INDEX('Execution Register'!$D$6:$D$105,$O27-5)=""),"",INDEX('Execution Register'!$D$6:$D$105,$O27-5)),"") | E27: =IFERROR(IF(OR($O27="",INDEX('Execution Register'!$M$6:$M$105,$O27-5)=""),"",INDEX('Execution Register'!$M$6:$M$105,$O27-5)),"") | F27: =IFERROR(IF(OR($O27="",INDEX('Execution Register'!$N$6:$N$105,$O27-5)=""),"",INDEX('Execution Register'!$N$6:$N$105,$O27-5)),"") | G27: =IFERROR(IF(OR($O27="",INDEX('Execution Register'!$E$6:$E$105,$O27-5)=""),"",INDEX('Execution Register'!$E$6:$E$105,$O27-5)),"") | H27: =IFERROR(IF(OR($O27="",INDEX('Execution Register'!$F$6:$F$105,$O27-5)=""),"",INDEX('Execution Register'!$F$6:$F$105,$O27-5)),"") | I27: =IFERROR(IF(OR($O27="",INDEX('Execution Register'!$G$6:$G$105,$O27-5)=""),"",INDEX('Execution Register'!$G$6:$G$105,$O27-5)),"") | J27: =IFERROR(IF(OR($O27="",INDEX('Execution Register'!$H$6:$H$105,$O27-5)=""),"",INDEX('Execution Register'!$H$6:$H$105,$O27-5)),"") | K27: =IFERROR(IF(OR($O27="",INDEX('Execution Register'!$I$6:$I$105,$O27-5)=""),"",INDEX('Execution Register'!$I$6:$I$105,$O27-5)),"") | L27: =IFERROR(IF(OR($O27="",INDEX('Execution Register'!$J$6:$J$105,$O27-5)=""),"",INDEX('Execution Register'!$J$6:$J$105,$O27-5)),"") | M27: =IFERROR(IF(OR($O27="",INDEX('Execution Register'!$K$6:$K$105,$O27-5)=""),"",INDEX('Execution Register'!$K$6:$K$105,$O27-5)),"") | N27: =IFERROR(IF(OR($O27="",INDEX('Execution Register'!$L$6:$L$105,$O27-5)=""),"",INDEX('Execution Register'!$L$6:$L$105,$O27-5)),"") | O27: =IFERROR(AGGREGATE(15,6,ROW('Execution Register'!$A$6:$A$105)/(LEFT('Execution Register'!$N$6:$N$105,6)="Open -"),17),"")
A28: =IFERROR(IF(OR($O28="",INDEX('Execution Register'!$A$6:$A$105,$O28-5)=""),"",INDEX('Execution Register'!$A$6:$A$105,$O28-5)),"") | B28: =IFERROR(IF(OR($O28="",INDEX('Execution Register'!$B$6:$B$105,$O28-5)=""),"",INDEX('Execution Register'!$B$6:$B$105,$O28-5)),"") | C28: =IFERROR(IF(OR($O28="",INDEX('Execution Register'!$C$6:$C$105,$O28-5)=""),"",INDEX('Execution Register'!$C$6:$C$105,$O28-5)),"") | D28: =IFERROR(IF(OR($O28="",INDEX('Execution Register'!$D$6:$D$105,$O28-5)=""),"",INDEX('Execution Register'!$D$6:$D$105,$O28-5)),"") | E28: =IFERROR(IF(OR($O28="",INDEX('Execution Register'!$M$6:$M$105,$O28-5)=""),"",INDEX('Execution Register'!$M$6:$M$105,$O28-5)),"") | F28: =IFERROR(IF(OR($O28="",INDEX('Execution Register'!$N$6:$N$105,$O28-5)=""),"",INDEX('Execution Register'!$N$6:$N$105,$O28-5)),"") | G28: =IFERROR(IF(OR($O28="",INDEX('Execution Register'!$E$6:$E$105,$O28-5)=""),"",INDEX('Execution Register'!$E$6:$E$105,$O28-5)),"") | H28: =IFERROR(IF(OR($O28="",INDEX('Execution Register'!$F$6:$F$105,$O28-5)=""),"",INDEX('Execution Register'!$F$6:$F$105,$O28-5)),"") | I28: =IFERROR(IF(OR($O28="",INDEX('Execution Register'!$G$6:$G$105,$O28-5)=""),"",INDEX('Execution Register'!$G$6:$G$105,$O28-5)),"") | J28: =IFERROR(IF(OR($O28="",INDEX('Execution Register'!$H$6:$H$105,$O28-5)=""),"",INDEX('Execution Register'!$H$6:$H$105,$O28-5)),"") | K28: =IFERROR(IF(OR($O28="",INDEX('Execution Register'!$I$6:$I$105,$O28-5)=""),"",INDEX('Execution Register'!$I$6:$I$105,$O28-5)),"") | L28: =IFERROR(IF(OR($O28="",INDEX('Execution Register'!$J$6:$J$105,$O28-5)=""),"",INDEX('Execution Register'!$J$6:$J$105,$O28-5)),"") | M28: =IFERROR(IF(OR($O28="",INDEX('Execution Register'!$K$6:$K$105,$O28-5)=""),"",INDEX('Execution Register'!$K$6:$K$105,$O28-5)),"") | N28: =IFERROR(IF(OR($O28="",INDEX('Execution Register'!$L$6:$L$105,$O28-5)=""),"",INDEX('Execution Register'!$L$6:$L$105,$O28-5)),"") | O28: =IFERROR(AGGREGATE(15,6,ROW('Execution Register'!$A$6:$A$105)/(LEFT('Execution Register'!$N$6:$N$105,6)="Open -"),18),"")
A29: =IFERROR(IF(OR($O29="",INDEX('Execution Register'!$A$6:$A$105,$O29-5)=""),"",INDEX('Execution Register'!$A$6:$A$105,$O29-5)),"") | B29: =IFERROR(IF(OR($O29="",INDEX('Execution Register'!$B$6:$B$105,$O29-5)=""),"",INDEX('Execution Register'!$B$6:$B$105,$O29-5)),"") | C29: =IFERROR(IF(OR($O29="",INDEX('Execution Register'!$C$6:$C$105,$O29-5)=""),"",INDEX('Execution Register'!$C$6:$C$105,$O29-5)),"") | D29: =IFERROR(IF(OR($O29="",INDEX('Execution Register'!$D$6:$D$105,$O29-5)=""),"",INDEX('Execution Register'!$D$6:$D$105,$O29-5)),"") | E29: =IFERROR(IF(OR($O29="",INDEX('Execution Register'!$M$6:$M$105,$O29-5)=""),"",INDEX('Execution Register'!$M$6:$M$105,$O29-5)),"") | F29: =IFERROR(IF(OR($O29="",INDEX('Execution Register'!$N$6:$N$105,$O29-5)=""),"",INDEX('Execution Register'!$N$6:$N$105,$O29-5)),"") | G29: =IFERROR(IF(OR($O29="",INDEX('Execution Register'!$E$6:$E$105,$O29-5)=""),"",INDEX('Execution Register'!$E$6:$E$105,$O29-5)),"") | H29: =IFERROR(IF(OR($O29="",INDEX('Execution Register'!$F$6:$F$105,$O29-5)=""),"",INDEX('Execution Register'!$F$6:$F$105,$O29-5)),"") | I29: =IFERROR(IF(OR($O29="",INDEX('Execution Register'!$G$6:$G$105,$O29-5)=""),"",INDEX('Execution Register'!$G$6:$G$105,$O29-5)),"") | J29: =IFERROR(IF(OR($O29="",INDEX('Execution Register'!$H$6:$H$105,$O29-5)=""),"",INDEX('Execution Register'!$H$6:$H$105,$O29-5)),"") | K29: =IFERROR(IF(OR($O29="",INDEX('Execution Register'!$I$6:$I$105,$O29-5)=""),"",INDEX('Execution Register'!$I$6:$I$105,$O29-5)),"") | L29: =IFERROR(IF(OR($O29="",INDEX('Execution Register'!$J$6:$J$105,$O29-5)=""),"",INDEX('Execution Register'!$J$6:$J$105,$O29-5)),"") | M29: =IFERROR(IF(OR($O29="",INDEX('Execution Register'!$K$6:$K$105,$O29-5)=""),"",INDEX('Execution Register'!$K$6:$K$105,$O29-5)),"") | N29: =IFERROR(IF(OR($O29="",INDEX('Execution Register'!$L$6:$L$105,$O29-5)=""),"",INDEX('Execution Register'!$L$6:$L$105,$O29-5)),"") | O29: =IFERROR(AGGREGATE(15,6,ROW('Execution Register'!$A$6:$A$105)/(LEFT('Execution Register'!$N$6:$N$105,6)="Open -"),19),"")
A30: =IFERROR(IF(OR($O30="",INDEX('Execution Register'!$A$6:$A$105,$O30-5)=""),"",INDEX('Execution Register'!$A$6:$A$105,$O30-5)),"") | B30: =IFERROR(IF(OR($O30="",INDEX('Execution Register'!$B$6:$B$105,$O30-5)=""),"",INDEX('Execution Register'!$B$6:$B$105,$O30-5)),"") | C30: =IFERROR(IF(OR($O30="",INDEX('Execution Register'!$C$6:$C$105,$O30-5)=""),"",INDEX('Execution Register'!$C$6:$C$105,$O30-5)),"") | D30: =IFERROR(IF(OR($O30="",INDEX('Execution Register'!$D$6:$D$105,$O30-5)=""),"",INDEX('Execution Register'!$D$6:$D$105,$O30-5)),"") | E30: =IFERROR(IF(OR($O30="",INDEX('Execution Register'!$M$6:$M$105,$O30-5)=""),"",INDEX('Execution Register'!$M$6:$M$105,$O30-5)),"") | F30: =IFERROR(IF(OR($O30="",INDEX('Execution Register'!$N$6:$N$105,$O30-5)=""),"",INDEX('Execution Register'!$N$6:$N$105,$O30-5)),"") | G30: =IFERROR(IF(OR($O30="",INDEX('Execution Register'!$E$6:$E$105,$O30-5)=""),"",INDEX('Execution Register'!$E$6:$E$105,$O30-5)),"") | H30: =IFERROR(IF(OR($O30="",INDEX('Execution Register'!$F$6:$F$105,$O30-5)=""),"",INDEX('Execution Register'!$F$6:$F$105,$O30-5)),"") | I30: =IFERROR(IF(OR($O30="",INDEX('Execution Register'!$G$6:$G$105,$O30-5)=""),"",INDEX('Execution Register'!$G$6:$G$105,$O30-5)),"") | J30: =IFERROR(IF(OR($O30="",INDEX('Execution Register'!$H$6:$H$105,$O30-5)=""),"",INDEX('Execution Register'!$H$6:$H$105,$O30-5)),"") | K30: =IFERROR(IF(OR($O30="",INDEX('Execution Register'!$I$6:$I$105,$O30-5)=""),"",INDEX('Execution Register'!$I$6:$I$105,$O30-5)),"") | L30: =IFERROR(IF(OR($O30="",INDEX('Execution Register'!$J$6:$J$105,$O30-5)=""),"",INDEX('Execution Register'!$J$6:$J$105,$O30-5)),"") | M30: =IFERROR(IF(OR($O30="",INDEX('Execution Register'!$K$6:$K$105,$O30-5)=""),"",INDEX('Execution Register'!$K$6:$K$105,$O30-5)),"") | N30: =IFERROR(IF(OR($O30="",INDEX('Execution Register'!$L$6:$L$105,$O30-5)=""),"",INDEX('Execution Register'!$L$6:$L$105,$O30-5)),"") | O30: =IFERROR(AGGREGATE(15,6,ROW('Execution Register'!$A$6:$A$105)/(LEFT('Execution Register'!$N$6:$N$105,6)="Open -"),20),"")
A31: =IFERROR(IF(OR($O31="",INDEX('Execution Register'!$A$6:$A$105,$O31-5)=""),"",INDEX('Execution Register'!$A$6:$A$105,$O31-5)),"") | B31: =IFERROR(IF(OR($O31="",INDEX('Execution Register'!$B$6:$B$105,$O31-5)=""),"",INDEX('Execution Register'!$B$6:$B$105,$O31-5)),"") | C31: =IFERROR(IF(OR($O31="",INDEX('Execution Register'!$C$6:$C$105,$O31-5)=""),"",INDEX('Execution Register'!$C$6:$C$105,$O31-5)),"") | D31: =IFERROR(IF(OR($O31="",INDEX('Execution Register'!$D$6:$D$105,$O31-5)=""),"",INDEX('Execution Register'!$D$6:$D$105,$O31-5)),"") | E31: =IFERROR(IF(OR($O31="",INDEX('Execution Register'!$M$6:$M$105,$O31-5)=""),"",INDEX('Execution Register'!$M$6:$M$105,$O31-5)),"") | F31: =IFERROR(IF(OR($O31="",INDEX('Execution Register'!$N$6:$N$105,$O31-5)=""),"",INDEX('Execution Register'!$N$6:$N$105,$O31-5)),"") | G31: =IFERROR(IF(OR($O31="",INDEX('Execution Register'!$E$6:$E$105,$O31-5)=""),"",INDEX('Execution Register'!$E$6:$E$105,$O31-5)),"") | H31: =IFERROR(IF(OR($O31="",INDEX('Execution Register'!$F$6:$F$105,$O31-5)=""),"",INDEX('Execution Register'!$F$6:$F$105,$O31-5)),"") | I31: =IFERROR(IF(OR($O31="",INDEX('Execution Register'!$G$6:$G$105,$O31-5)=""),"",INDEX('Execution Register'!$G$6:$G$105,$O31-5)),"") | J31: =IFERROR(IF(OR($O31="",INDEX('Execution Register'!$H$6:$H$105,$O31-5)=""),"",INDEX('Execution Register'!$H$6:$H$105,$O31-5)),"") | K31: =IFERROR(IF(OR($O31="",INDEX('Execution Register'!$I$6:$I$105,$O31-5)=""),"",INDEX('Execution Register'!$I$6:$I$105,$O31-5)),"") | L31: =IFERROR(IF(OR($O31="",INDEX('Execution Register'!$J$6:$J$105,$O31-5)=""),"",INDEX('Execution Register'!$J$6:$J$105,$O31-5)),"") | M31: =IFERROR(IF(OR($O31="",INDEX('Execution Register'!$K$6:$K$105,$O31-5)=""),"",INDEX('Execution Register'!$K$6:$K$105,$O31-5)),"") | N31: =IFERROR(IF(OR($O31="",INDEX('Execution Register'!$L$6:$L$105,$O31-5)=""),"",INDEX('Execution Register'!$L$6:$L$105,$O31-5)),"") | O31: =IFERROR(AGGREGATE(15,6,ROW('Execution Register'!$A$6:$A$105)/(LEFT('Execution Register'!$N$6:$N$105,6)="Open -"),21),"")
A32: =IFERROR(IF(OR($O32="",INDEX('Execution Register'!$A$6:$A$105,$O32-5)=""),"",INDEX('Execution Register'!$A$6:$A$105,$O32-5)),"") | B32: =IFERROR(IF(OR($O32="",INDEX('Execution Register'!$B$6:$B$105,$O32-5)=""),"",INDEX('Execution Register'!$B$6:$B$105,$O32-5)),"") | C32: =IFERROR(IF(OR($O32="",INDEX('Execution Register'!$C$6:$C$105,$O32-5)=""),"",INDEX('Execution Register'!$C$6:$C$105,$O32-5)),"") | D32: =IFERROR(IF(OR($O32="",INDEX('Execution Register'!$D$6:$D$105,$O32-5)=""),"",INDEX('Execution Register'!$D$6:$D$105,$O32-5)),"") | E32: =IFERROR(IF(OR($O32="",INDEX('Execution Register'!$M$6:$M$105,$O32-5)=""),"",INDEX('Execution Register'!$M$6:$M$105,$O32-5)),"") | F32: =IFERROR(IF(OR($O32="",INDEX('Execution Register'!$N$6:$N$105,$O32-5)=""),"",INDEX('Execution Register'!$N$6:$N$105,$O32-5)),"") | G32: =IFERROR(IF(OR($O32="",INDEX('Execution Register'!$E$6:$E$105,$O32-5)=""),"",INDEX('Execution Register'!$E$6:$E$105,$O32-5)),"") | H32: =IFERROR(IF(OR($O32="",INDEX('Execution Register'!$F$6:$F$105,$O32-5)=""),"",INDEX('Execution Register'!$F$6:$F$105,$O32-5)),"") | I32: =IFERROR(IF(OR($O32="",INDEX('Execution Register'!$G$6:$G$105,$O32-5)=""),"",INDEX('Execution Register'!$G$6:$G$105,$O32-5)),"") | J32: =IFERROR(IF(OR($O32="",INDEX('Execution Register'!$H$6:$H$105,$O32-5)=""),"",INDEX('Execution Register'!$H$6:$H$105,$O32-5)),"") | K32: =IFERROR(IF(OR($O32="",INDEX('Execution Register'!$I$6:$I$105,$O32-5)=""),"",INDEX('Execution Register'!$I$6:$I$105,$O32-5)),"") | L32: =IFERROR(IF(OR($O32="",INDEX('Execution Register'!$J$6:$J$105,$O32-5)=""),"",INDEX('Execution Register'!$J$6:$J$105,$O32-5)),"") | M32: =IFERROR(IF(OR($O32="",INDEX('Execution Register'!$K$6:$K$105,$O32-5)=""),"",INDEX('Execution Register'!$K$6:$K$105,$O32-5)),"") | N32: =IFERROR(IF(OR($O32="",INDEX('Execution Register'!$L$6:$L$105,$O32-5)=""),"",INDEX('Execution Register'!$L$6:$L$105,$O32-5)),"") | O32: =IFERROR(AGGREGATE(15,6,ROW('Execution Register'!$A$6:$A$105)/(LEFT('Execution Register'!$N$6:$N$105,6)="Open -"),22),"")
A33: =IFERROR(IF(OR($O33="",INDEX('Execution Register'!$A$6:$A$105,$O33-5)=""),"",INDEX('Execution Register'!$A$6:$A$105,$O33-5)),"") | B33: =IFERROR(IF(OR($O33="",INDEX('Execution Register'!$B$6:$B$105,$O33-5)=""),"",INDEX('Execution Register'!$B$6:$B$105,$O33-5)),"") | C33: =IFERROR(IF(OR($O33="",INDEX('Execution Register'!$C$6:$C$105,$O33-5)=""),"",INDEX('Execution Register'!$C$6:$C$105,$O33-5)),"") | D33: =IFERROR(IF(OR($O33="",INDEX('Execution Register'!$D$6:$D$105,$O33-5)=""),"",INDEX('Execution Register'!$D$6:$D$105,$O33-5)),"") | E33: =IFERROR(IF(OR($O33="",INDEX('Execution Register'!$M$6:$M$105,$O33-5)=""),"",INDEX('Execution Register'!$M$6:$M$105,$O33-5)),"") | F33: =IFERROR(IF(OR($O33="",INDEX('Execution Register'!$N$6:$N$105,$O33-5)=""),"",INDEX('Execution Register'!$N$6:$N$105,$O33-5)),"") | G33: =IFERROR(IF(OR($O33="",INDEX('Execution Register'!$E$6:$E$105,$O33-5)=""),"",INDEX('Execution Register'!$E$6:$E$105,$O33-5)),"") | H33: =IFERROR(IF(OR($O33="",INDEX('Execution Register'!$F$6:$F$105,$O33-5)=""),"",INDEX('Execution Register'!$F$6:$F$105,$O33-5)),"") | I33: =IFERROR(IF(OR($O33="",INDEX('Execution Register'!$G$6:$G$105,$O33-5)=""),"",INDEX('Execution Register'!$G$6:$G$105,$O33-5)),"") | J33: =IFERROR(IF(OR($O33="",INDEX('Execution Register'!$H$6:$H$105,$O33-5)=""),"",INDEX('Execution Register'!$H$6:$H$105,$O33-5)),"") | K33: =IFERROR(IF(OR($O33="",INDEX('Execution Register'!$I$6:$I$105,$O33-5)=""),"",INDEX('Execution Register'!$I$6:$I$105,$O33-5)),"") | L33: =IFERROR(IF(OR($O33="",INDEX('Execution Register'!$J$6:$J$105,$O33-5)=""),"",INDEX('Execution Register'!$J$6:$J$105,$O33-5)),"") | M33: =IFERROR(IF(OR($O33="",INDEX('Execution Register'!$K$6:$K$105,$O33-5)=""),"",INDEX('Execution Register'!$K$6:$K$105,$O33-5)),"") | N33: =IFERROR(IF(OR($O33="",INDEX('Execution Register'!$L$6:$L$105,$O33-5)=""),"",INDEX('Execution Register'!$L$6:$L$105,$O33-5)),"") | O33: =IFERROR(AGGREGATE(15,6,ROW('Execution Register'!$A$6:$A$105)/(LEFT('Execution Register'!$N$6:$N$105,6)="Open -"),23),"")
A34: =IFERROR(IF(OR($O34="",INDEX('Execution Register'!$A$6:$A$105,$O34-5)=""),"",INDEX('Execution Register'!$A$6:$A$105,$O34-5)),"") | B34: =IFERROR(IF(OR($O34="",INDEX('Execution Register'!$B$6:$B$105,$O34-5)=""),"",INDEX('Execution Register'!$B$6:$B$105,$O34-5)),"") | C34: =IFERROR(IF(OR($O34="",INDEX('Execution Register'!$C$6:$C$105,$O34-5)=""),"",INDEX('Execution Register'!$C$6:$C$105,$O34-5)),"") | D34: =IFERROR(IF(OR($O34="",INDEX('Execution Register'!$D$6:$D$105,$O34-5)=""),"",INDEX('Execution Register'!$D$6:$D$105,$O34-5)),"") | E34: =IFERROR(IF(OR($O34="",INDEX('Execution Register'!$M$6:$M$105,$O34-5)=""),"",INDEX('Execution Register'!$M$6:$M$105,$O34-5)),"") | F34: =IFERROR(IF(OR($O34="",INDEX('Execution Register'!$N$6:$N$105,$O34-5)=""),"",INDEX('Execution Register'!$N$6:$N$105,$O34-5)),"") | G34: =IFERROR(IF(OR($O34="",INDEX('Execution Register'!$E$6:$E$105,$O34-5)=""),"",INDEX('Execution Register'!$E$6:$E$105,$O34-5)),"") | H34: =IFERROR(IF(OR($O34="",INDEX('Execution Register'!$F$6:$F$105,$O34-5)=""),"",INDEX('Execution Register'!$F$6:$F$105,$O34-5)),"") | I34: =IFERROR(IF(OR($O34="",INDEX('Execution Register'!$G$6:$G$105,$O34-5)=""),"",INDEX('Execution Register'!$G$6:$G$105,$O34-5)),"") | J34: =IFERROR(IF(OR($O34="",INDEX('Execution Register'!$H$6:$H$105,$O34-5)=""),"",INDEX('Execution Register'!$H$6:$H$105,$O34-5)),"") | K34: =IFERROR(IF(OR($O34="",INDEX('Execution Register'!$I$6:$I$105,$O34-5)=""),"",INDEX('Execution Register'!$I$6:$I$105,$O34-5)),"") | L34: =IFERROR(IF(OR($O34="",INDEX('Execution Register'!$J$6:$J$105,$O34-5)=""),"",INDEX('Execution Register'!$J$6:$J$105,$O34-5)),"") | M34: =IFERROR(IF(OR($O34="",INDEX('Execution Register'!$K$6:$K$105,$O34-5)=""),"",INDEX('Execution Register'!$K$6:$K$105,$O34-5)),"") | N34: =IFERROR(IF(OR($O34="",INDEX('Execution Register'!$L$6:$L$105,$O34-5)=""),"",INDEX('Execution Register'!$L$6:$L$105,$O34-5)),"") | O34: =IFERROR(AGGREGATE(15,6,ROW('Execution Register'!$A$6:$A$105)/(LEFT('Execution Register'!$N$6:$N$105,6)="Open -"),24),"")
A35: =IFERROR(IF(OR($O35="",INDEX('Execution Register'!$A$6:$A$105,$O35-5)=""),"",INDEX('Execution Register'!$A$6:$A$105,$O35-5)),"") | B35: =IFERROR(IF(OR($O35="",INDEX('Execution Register'!$B$6:$B$105,$O35-5)=""),"",INDEX('Execution Register'!$B$6:$B$105,$O35-5)),"") | C35: =IFERROR(IF(OR($O35="",INDEX('Execution Register'!$C$6:$C$105,$O35-5)=""),"",INDEX('Execution Register'!$C$6:$C$105,$O35-5)),"") | D35: =IFERROR(IF(OR($O35="",INDEX('Execution Register'!$D$6:$D$105,$O35-5)=""),"",INDEX('Execution Register'!$D$6:$D$105,$O35-5)),"") | E35: =IFERROR(IF(OR($O35="",INDEX('Execution Register'!$M$6:$M$105,$O35-5)=""),"",INDEX('Execution Register'!$M$6:$M$105,$O35-5)),"") | F35: =IFERROR(IF(OR($O35="",INDEX('Execution Register'!$N$6:$N$105,$O35-5)=""),"",INDEX('Execution Register'!$N$6:$N$105,$O35-5)),"") | G35: =IFERROR(IF(OR($O35="",INDEX('Execution Register'!$E$6:$E$105,$O35-5)=""),"",INDEX('Execution Register'!$E$6:$E$105,$O35-5)),"") | H35: =IFERROR(IF(OR($O35="",INDEX('Execution Register'!$F$6:$F$105,$O35-5)=""),"",INDEX('Execution Register'!$F$6:$F$105,$O35-5)),"") | I35: =IFERROR(IF(OR($O35="",INDEX('Execution Register'!$G$6:$G$105,$O35-5)=""),"",INDEX('Execution Register'!$G$6:$G$105,$O35-5)),"") | J35: =IFERROR(IF(OR($O35="",INDEX('Execution Register'!$H$6:$H$105,$O35-5)=""),"",INDEX('Execution Register'!$H$6:$H$105,$O35-5)),"") | K35: =IFERROR(IF(OR($O35="",INDEX('Execution Register'!$I$6:$I$105,$O35-5)=""),"",INDEX('Execution Register'!$I$6:$I$105,$O35-5)),"") | L35: =IFERROR(IF(OR($O35="",INDEX('Execution Register'!$J$6:$J$105,$O35-5)=""),"",INDEX('Execution Register'!$J$6:$J$105,$O35-5)),"") | M35: =IFERROR(IF(OR($O35="",INDEX('Execution Register'!$K$6:$K$105,$O35-5)=""),"",INDEX('Execution Register'!$K$6:$K$105,$O35-5)),"") | N35: =IFERROR(IF(OR($O35="",INDEX('Execution Register'!$L$6:$L$105,$O35-5)=""),"",INDEX('Execution Register'!$L$6:$L$105,$O35-5)),"") | O35: =IFERROR(AGGREGATE(15,6,ROW('Execution Register'!$A$6:$A$105)/(LEFT('Execution Register'!$N$6:$N$105,6)="Open -"),25),"")
A36: =IFERROR(IF(OR($O36="",INDEX('Execution Register'!$A$6:$A$105,$O36-5)=""),"",INDEX('Execution Register'!$A$6:$A$105,$O36-5)),"") | B36: =IFERROR(IF(OR($O36="",INDEX('Execution Register'!$B$6:$B$105,$O36-5)=""),"",INDEX('Execution Register'!$B$6:$B$105,$O36-5)),"") | C36: =IFERROR(IF(OR($O36="",INDEX('Execution Register'!$C$6:$C$105,$O36-5)=""),"",INDEX('Execution Register'!$C$6:$C$105,$O36-5)),"") | D36: =IFERROR(IF(OR($O36="",INDEX('Execution Register'!$D$6:$D$105,$O36-5)=""),"",INDEX('Execution Register'!$D$6:$D$105,$O36-5)),"") | E36: =IFERROR(IF(OR($O36="",INDEX('Execution Register'!$M$6:$M$105,$O36-5)=""),"",INDEX('Execution Register'!$M$6:$M$105,$O36-5)),"") | F36: =IFERROR(IF(OR($O36="",INDEX('Execution Register'!$N$6:$N$105,$O36-5)=""),"",INDEX('Execution Register'!$N$6:$N$105,$O36-5)),"") | G36: =IFERROR(IF(OR($O36="",INDEX('Execution Register'!$E$6:$E$105,$O36-5)=""),"",INDEX('Execution Register'!$E$6:$E$105,$O36-5)),"") | H36: =IFERROR(IF(OR($O36="",INDEX('Execution Register'!$F$6:$F$105,$O36-5)=""),"",INDEX('Execution Register'!$F$6:$F$105,$O36-5)),"") | I36: =IFERROR(IF(OR($O36="",INDEX('Execution Register'!$G$6:$G$105,$O36-5)=""),"",INDEX('Execution Register'!$G$6:$G$105,$O36-5)),"") | J36: =IFERROR(IF(OR($O36="",INDEX('Execution Register'!$H$6:$H$105,$O36-5)=""),"",INDEX('Execution Register'!$H$6:$H$105,$O36-5)),"") | K36: =IFERROR(IF(OR($O36="",INDEX('Execution Register'!$I$6:$I$105,$O36-5)=""),"",INDEX('Execution Register'!$I$6:$I$105,$O36-5)),"") | L36: =IFERROR(IF(OR($O36="",INDEX('Execution Register'!$J$6:$J$105,$O36-5)=""),"",INDEX('Execution Register'!$J$6:$J$105,$O36-5)),"") | M36: =IFERROR(IF(OR($O36="",INDEX('Execution Register'!$K$6:$K$105,$O36-5)=""),"",INDEX('Execution Register'!$K$6:$K$105,$O36-5)),"") | N36: =IFERROR(IF(OR($O36="",INDEX('Execution Register'!$L$6:$L$105,$O36-5)=""),"",INDEX('Execution Register'!$L$6:$L$105,$O36-5)),"") | O36: =IFERROR(AGGREGATE(15,6,ROW('Execution Register'!$A$6:$A$105)/(LEFT('Execution Register'!$N$6:$N$105,6)="Open -"),26),"")
A37: =IFERROR(IF(OR($O37="",INDEX('Execution Register'!$A$6:$A$105,$O37-5)=""),"",INDEX('Execution Register'!$A$6:$A$105,$O37-5)),"") | B37: =IFERROR(IF(OR($O37="",INDEX('Execution Register'!$B$6:$B$105,$O37-5)=""),"",INDEX('Execution Register'!$B$6:$B$105,$O37-5)),"") | C37: =IFERROR(IF(OR($O37="",INDEX('Execution Register'!$C$6:$C$105,$O37-5)=""),"",INDEX('Execution Register'!$C$6:$C$105,$O37-5)),"") | D37: =IFERROR(IF(OR($O37="",INDEX('Execution Register'!$D$6:$D$105,$O37-5)=""),"",INDEX('Execution Register'!$D$6:$D$105,$O37-5)),"") | E37: =IFERROR(IF(OR($O37="",INDEX('Execution Register'!$M$6:$M$105,$O37-5)=""),"",INDEX('Execution Register'!$M$6:$M$105,$O37-5)),"") | F37: =IFERROR(IF(OR($O37="",INDEX('Execution Register'!$N$6:$N$105,$O37-5)=""),"",INDEX('Execution Register'!$N$6:$N$105,$O37-5)),"") | G37: =IFERROR(IF(OR($O37="",INDEX('Execution Register'!$E$6:$E$105,$O37-5)=""),"",INDEX('Execution Register'!$E$6:$E$105,$O37-5)),"") | H37: =IFERROR(IF(OR($O37="",INDEX('Execution Register'!$F$6:$F$105,$O37-5)=""),"",INDEX('Execution Register'!$F$6:$F$105,$O37-5)),"") | I37: =IFERROR(IF(OR($O37="",INDEX('Execution Register'!$G$6:$G$105,$O37-5)=""),"",INDEX('Execution Register'!$G$6:$G$105,$O37-5)),"") | J37: =IFERROR(IF(OR($O37="",INDEX('Execution Register'!$H$6:$H$105,$O37-5)=""),"",INDEX('Execution Register'!$H$6:$H$105,$O37-5)),"") | K37: =IFERROR(IF(OR($O37="",INDEX('Execution Register'!$I$6:$I$105,$O37-5)=""),"",INDEX('Execution Register'!$I$6:$I$105,$O37-5)),"") | L37: =IFERROR(IF(OR($O37="",INDEX('Execution Register'!$J$6:$J$105,$O37-5)=""),"",INDEX('Execution Register'!$J$6:$J$105,$O37-5)),"") | M37: =IFERROR(IF(OR($O37="",INDEX('Execution Register'!$K$6:$K$105,$O37-5)=""),"",INDEX('Execution Register'!$K$6:$K$105,$O37-5)),"") | N37: =IFERROR(IF(OR($O37="",INDEX('Execution Register'!$L$6:$L$105,$O37-5)=""),"",INDEX('Execution Register'!$L$6:$L$105,$O37-5)),"") | O37: =IFERROR(AGGREGATE(15,6,ROW('Execution Register'!$A$6:$A$105)/(LEFT('Execution Register'!$N$6:$N$105,6)="Open -"),27),"")
A38: =IFERROR(IF(OR($O38="",INDEX('Execution Register'!$A$6:$A$105,$O38-5)=""),"",INDEX('Execution Register'!$A$6:$A$105,$O38-5)),"") | B38: =IFERROR(IF(OR($O38="",INDEX('Execution Register'!$B$6:$B$105,$O38-5)=""),"",INDEX('Execution Register'!$B$6:$B$105,$O38-5)),"") | C38: =IFERROR(IF(OR($O38="",INDEX('Execution Register'!$C$6:$C$105,$O38-5)=""),"",INDEX('Execution Register'!$C$6:$C$105,$O38-5)),"") | D38: =IFERROR(IF(OR($O38="",INDEX('Execution Register'!$D$6:$D$105,$O38-5)=""),"",INDEX('Execution Register'!$D$6:$D$105,$O38-5)),"") | E38: =IFERROR(IF(OR($O38="",INDEX('Execution Register'!$M$6:$M$105,$O38-5)=""),"",INDEX('Execution Register'!$M$6:$M$105,$O38-5)),"") | F38: =IFERROR(IF(OR($O38="",INDEX('Execution Register'!$N$6:$N$105,$O38-5)=""),"",INDEX('Execution Register'!$N$6:$N$105,$O38-5)),"") | G38: =IFERROR(IF(OR($O38="",INDEX('Execution Register'!$E$6:$E$105,$O38-5)=""),"",INDEX('Execution Register'!$E$6:$E$105,$O38-5)),"") | H38: =IFERROR(IF(OR($O38="",INDEX('Execution Register'!$F$6:$F$105,$O38-5)=""),"",INDEX('Execution Register'!$F$6:$F$105,$O38-5)),"") | I38: =IFERROR(IF(OR($O38="",INDEX('Execution Register'!$G$6:$G$105,$O38-5)=""),"",INDEX('Execution Register'!$G$6:$G$105,$O38-5)),"") | J38: =IFERROR(IF(OR($O38="",INDEX('Execution Register'!$H$6:$H$105,$O38-5)=""),"",INDEX('Execution Register'!$H$6:$H$105,$O38-5)),"") | K38: =IFERROR(IF(OR($O38="",INDEX('Execution Register'!$I$6:$I$105,$O38-5)=""),"",INDEX('Execution Register'!$I$6:$I$105,$O38-5)),"") | L38: =IFERROR(IF(OR($O38="",INDEX('Execution Register'!$J$6:$J$105,$O38-5)=""),"",INDEX('Execution Register'!$J$6:$J$105,$O38-5)),"") | M38: =IFERROR(IF(OR($O38="",INDEX('Execution Register'!$K$6:$K$105,$O38-5)=""),"",INDEX('Execution Register'!$K$6:$K$105,$O38-5)),"") | N38: =IFERROR(IF(OR($O38="",INDEX('Execution Register'!$L$6:$L$105,$O38-5)=""),"",INDEX('Execution Register'!$L$6:$L$105,$O38-5)),"") | O38: =IFERROR(AGGREGATE(15,6,ROW('Execution Register'!$A$6:$A$105)/(LEFT('Execution Register'!$N$6:$N$105,6)="Open -"),28),"")
