Workbook

Sheet Dashboard
A1: Production Forecast
A2: Production Forecast Excel Template dashboard for reviewing product demand status, execution register activity, and open exceptions before production release.
A3: Quantities and times are shown only in their entered units. This workbook does not convert or total unlike units.
A5: Total Demand Records | C5: Planned | E5: In Progress | G5: Complete | I5: Open Exceptions | K5: No Exception
B6: =IFERROR(SUMPRODUCT(--('Execution Register'!$A$6:$A$105<>"")),0) | D6: =IFERROR(SUMPRODUCT(--('Execution Register'!$M$6:$M$105="Planned")),0) | F6: =IFERROR(SUMPRODUCT(--('Execution Register'!$M$6:$M$105="In Progress")),0) | H6: =IFERROR(SUMPRODUCT(--('Execution Register'!$M$6:$M$105="Complete")),0) | J6: =IFERROR(SUMPRODUCT(--(LEFT('Execution Register'!$N$6:$N$105,6)="Open -")),0) | L6: =IFERROR(SUMPRODUCT(--('Execution Register'!$N$6:$N$105="No exception")),0)
A8: Open Exception List
A9: Only records with an exception status beginning with “Open -” appear below.
A10: Product Demand Identifier | B10: Reporting Period | C10: Owner or Responsible Role | D10: Work Order or Run ID | E10: Status Progression | F10: Exception Status | G10: Planned Quantity | H10: Quantity Unit | I10: Actual Quantity | J10: Quantity Variance | K10: Planned Time | L10: Time Unit | M10: Actual Time | N10: Time Variance | O10: Exception Source Row
A11: =IFERROR(IF(OR($O11="",INDEX('Execution Register'!$A$6:$A$105,$O11-5)=""),"",INDEX('Execution Register'!$A$6:$A$105,$O11-5)),"") | B11: =IFERROR(IF(OR($O11="",INDEX('Execution Register'!$B$6:$B$105,$O11-5)=""),"",INDEX('Execution Register'!$B$6:$B$105,$O11-5)),"") | C11: =IFERROR(IF(OR($O11="",INDEX('Execution Register'!$C$6:$C$105,$O11-5)=""),"",INDEX('Execution Register'!$C$6:$C$105,$O11-5)),"") | D11: =IFERROR(IF(OR($O11="",INDEX('Execution Register'!$D$6:$D$105,$O11-5)=""),"",INDEX('Execution Register'!$D$6:$D$105,$O11-5)),"") | E11: =IFERROR(IF(OR($O11="",INDEX('Execution Register'!$M$6:$M$105,$O11-5)=""),"",INDEX('Execution Register'!$M$6:$M$105,$O11-5)),"") | F11: =IFERROR(IF(OR($O11="",INDEX('Execution Register'!$N$6:$N$105,$O11-5)=""),"",INDEX('Execution Register'!$N$6:$N$105,$O11-5)),"") | G11: =IFERROR(IF(OR($O11="",INDEX('Execution Register'!$E$6:$E$105,$O11-5)=""),"",INDEX('Execution Register'!$E$6:$E$105,$O11-5)),"") | H11: =IFERROR(IF(OR($O11="",INDEX('Execution Register'!$F$6:$F$105,$O11-5)=""),"",INDEX('Execution Register'!$F$6:$F$105,$O11-5)),"") | I11: =IFERROR(IF(OR($O11="",INDEX('Execution Register'!$G$6:$G$105,$O11-5)=""),"",INDEX('Execution Register'!$G$6:$G$105,$O11-5)),"") | J11: =IFERROR(IF(OR($O11="",INDEX('Execution Register'!$H$6:$H$105,$O11-5)=""),"",INDEX('Execution Register'!$H$6:$H$105,$O11-5)),"") | K11: =IFERROR(IF(OR($O11="",INDEX('Execution Register'!$I$6:$I$105,$O11-5)=""),"",INDEX('Execution Register'!$I$6:$I$105,$O11-5)),"") | L11: =IFERROR(IF(OR($O11="",INDEX('Execution Register'!$J$6:$J$105,$O11-5)=""),"",INDEX('Execution Register'!$J$6:$J$105,$O11-5)),"") | M11: =IFERROR(IF(OR($O11="",INDEX('Execution Register'!$K$6:$K$105,$O11-5)=""),"",INDEX('Execution Register'!$K$6:$K$105,$O11-5)),"") | N11: =IFERROR(IF(OR($O11="",INDEX('Execution Register'!$L$6:$L$105,$O11-5)=""),"",INDEX('Execution Register'!$L$6:$L$105,$O11-5)),"") | O11: =IFERROR(AGGREGATE(15,6,ROW('Execution Register'!$A$6:$A$105)/(LEFT('Execution Register'!$N$6:$N$105,6)="Open -"),1),"")
A12: =IFERROR(IF(OR($O12="",INDEX('Execution Register'!$A$6:$A$105,$O12-5)=""),"",INDEX('Execution Register'!$A$6:$A$105,$O12-5)),"") | B12: =IFERROR(IF(OR($O12="",INDEX('Execution Register'!$B$6:$B$105,$O12-5)=""),"",INDEX('Execution Register'!$B$6:$B$105,$O12-5)),"") | C12: =IFERROR(IF(OR($O12="",INDEX('Execution Register'!$C$6:$C$105,$O12-5)=""),"",INDEX('Execution Register'!$C$6:$C$105,$O12-5)),"") | D12: =IFERROR(IF(OR($O12="",INDEX('Execution Register'!$D$6:$D$105,$O12-5)=""),"",INDEX('Execution Register'!$D$6:$D$105,$O12-5)),"") | E12: =IFERROR(IF(OR($O12="",INDEX('Execution Register'!$M$6:$M$105,$O12-5)=""),"",INDEX('Execution Register'!$M$6:$M$105,$O12-5)),"") | F12: =IFERROR(IF(OR($O12="",INDEX('Execution Register'!$N$6:$N$105,$O12-5)=""),"",INDEX('Execution Register'!$N$6:$N$105,$O12-5)),"") | G12: =IFERROR(IF(OR($O12="",INDEX('Execution Register'!$E$6:$E$105,$O12-5)=""),"",INDEX('Execution Register'!$E$6:$E$105,$O12-5)),"") | H12: =IFERROR(IF(OR($O12="",INDEX('Execution Register'!$F$6:$F$105,$O12-5)=""),"",INDEX('Execution Register'!$F$6:$F$105,$O12-5)),"") | I12: =IFERROR(IF(OR($O12="",INDEX('Execution Register'!$G$6:$G$105,$O12-5)=""),"",INDEX('Execution Register'!$G$6:$G$105,$O12-5)),"") | J12: =IFERROR(IF(OR($O12="",INDEX('Execution Register'!$H$6:$H$105,$O12-5)=""),"",INDEX('Execution Register'!$H$6:$H$105,$O12-5)),"") | K12: =IFERROR(IF(OR($O12="",INDEX('Execution Register'!$I$6:$I$105,$O12-5)=""),"",INDEX('Execution Register'!$I$6:$I$105,$O12-5)),"") | L12: =IFERROR(IF(OR($O12="",INDEX('Execution Register'!$J$6:$J$105,$O12-5)=""),"",INDEX('Execution Register'!$J$6:$J$105,$O12-5)),"") | M12: =IFERROR(IF(OR($O12="",INDEX('Execution Register'!$K$6:$K$105,$O12-5)=""),"",INDEX('Execution Register'!$K$6:$K$105,$O12-5)),"") | N12: =IFERROR(IF(OR($O12="",INDEX('Execution Register'!$L$6:$L$105,$O12-5)=""),"",INDEX('Execution Register'!$L$6:$L$105,$O12-5)),"") | O12: =IFERROR(AGGREGATE(15,6,ROW('Execution Register'!$A$6:$A$105)/(LEFT('Execution Register'!$N$6:$N$105,6)="Open -"),2),"")
A13: =IFERROR(IF(OR($O13="",INDEX('Execution Register'!$A$6:$A$105,$O13-5)=""),"",INDEX('Execution Register'!$A$6:$A$105,$O13-5)),"") | B13: =IFERROR(IF(OR($O13="",INDEX('Execution Register'!$B$6:$B$105,$O13-5)=""),"",INDEX('Execution Register'!$B$6:$B$105,$O13-5)),"") | C13: =IFERROR(IF(OR($O13="",INDEX('Execution Register'!$C$6:$C$105,$O13-5)=""),"",INDEX('Execution Register'!$C$6:$C$105,$O13-5)),"") | D13: =IFERROR(IF(OR($O13="",INDEX('Execution Register'!$D$6:$D$105,$O13-5)=""),"",INDEX('Execution Register'!$D$6:$D$105,$O13-5)),"") | E13: =IFERROR(IF(OR($O13="",INDEX('Execution Register'!$M$6:$M$105,$O13-5)=""),"",INDEX('Execution Register'!$M$6:$M$105,$O13-5)),"") | F13: =IFERROR(IF(OR($O13="",INDEX('Execution Register'!$N$6:$N$105,$O13-5)=""),"",INDEX('Execution Register'!$N$6:$N$105,$O13-5)),"") | G13: =IFERROR(IF(OR($O13="",INDEX('Execution Register'!$E$6:$E$105,$O13-5)=""),"",INDEX('Execution Register'!$E$6:$E$105,$O13-5)),"") | H13: =IFERROR(IF(OR($O13="",INDEX('Execution Register'!$F$6:$F$105,$O13-5)=""),"",INDEX('Execution Register'!$F$6:$F$105,$O13-5)),"") | I13: =IFERROR(IF(OR($O13="",INDEX('Execution Register'!$G$6:$G$105,$O13-5)=""),"",INDEX('Execution Register'!$G$6:$G$105,$O13-5)),"") | J13: =IFERROR(IF(OR($O13="",INDEX('Execution Register'!$H$6:$H$105,$O13-5)=""),"",INDEX('Execution Register'!$H$6:$H$105,$O13-5)),"") | K13: =IFERROR(IF(OR($O13="",INDEX('Execution Register'!$I$6:$I$105,$O13-5)=""),"",INDEX('Execution Register'!$I$6:$I$105,$O13-5)),"") | L13: =IFERROR(IF(OR($O13="",INDEX('Execution Register'!$J$6:$J$105,$O13-5)=""),"",INDEX('Execution Register'!$J$6:$J$105,$O13-5)),"") | M13: =IFERROR(IF(OR($O13="",INDEX('Execution Register'!$K$6:$K$105,$O13-5)=""),"",INDEX('Execution Register'!$K$6:$K$105,$O13-5)),"") | N13: =IFERROR(IF(OR($O13="",INDEX('Execution Register'!$L$6:$L$105,$O13-5)=""),"",INDEX('Execution Register'!$L$6:$L$105,$O13-5)),"") | O13: =IFERROR(AGGREGATE(15,6,ROW('Execution Register'!$A$6:$A$105)/(LEFT('Execution Register'!$N$6:$N$105,6)="Open -"),3),"")
A14: =IFERROR(IF(OR($O14="",INDEX('Execution Register'!$A$6:$A$105,$O14-5)=""),"",INDEX('Execution Register'!$A$6:$A$105,$O14-5)),"") | B14: =IFERROR(IF(OR($O14="",INDEX('Execution Register'!$B$6:$B$105,$O14-5)=""),"",INDEX('Execution Register'!$B$6:$B$105,$O14-5)),"") | C14: =IFERROR(IF(OR($O14="",INDEX('Execution Register'!$C$6:$C$105,$O14-5)=""),"",INDEX('Execution Register'!$C$6:$C$105,$O14-5)),"") | D14: =IFERROR(IF(OR($O14="",INDEX('Execution Register'!$D$6:$D$105,$O14-5)=""),"",INDEX('Execution Register'!$D$6:$D$105,$O14-5)),"") | E14: =IFERROR(IF(OR($O14="",INDEX('Execution Register'!$M$6:$M$105,$O14-5)=""),"",INDEX('Execution Register'!$M$6:$M$105,$O14-5)),"") | F14: =IFERROR(IF(OR($O14="",INDEX('Execution Register'!$N$6:$N$105,$O14-5)=""),"",INDEX('Execution Register'!$N$6:$N$105,$O14-5)),"") | G14: =IFERROR(IF(OR($O14="",INDEX('Execution Register'!$E$6:$E$105,$O14-5)=""),"",INDEX('Execution Register'!$E$6:$E$105,$O14-5)),"") | H14: =IFERROR(IF(OR($O14="",INDEX('Execution Register'!$F$6:$F$105,$O14-5)=""),"",INDEX('Execution Register'!$F$6:$F$105,$O14-5)),"") | I14: =IFERROR(IF(OR($O14="",INDEX('Execution Register'!$G$6:$G$105,$O14-5)=""),"",INDEX('Execution Register'!$G$6:$G$105,$O14-5)),"") | J14: =IFERROR(IF(OR($O14="",INDEX('Execution Register'!$H$6:$H$105,$O14-5)=""),"",INDEX('Execution Register'!$H$6:$H$105,$O14-5)),"") | K14: =IFERROR(IF(OR($O14="",INDEX('Execution Register'!$I$6:$I$105,$O14-5)=""),"",INDEX('Execution Register'!$I$6:$I$105,$O14-5)),"") | L14: =IFERROR(IF(OR($O14="",INDEX('Execution Register'!$J$6:$J$105,$O14-5)=""),"",INDEX('Execution Register'!$J$6:$J$105,$O14-5)),"") | M14: =IFERROR(IF(OR($O14="",INDEX('Execution Register'!$K$6:$K$105,$O14-5)=""),"",INDEX('Execution Register'!$K$6:$K$105,$O14-5)),"") | N14: =IFERROR(IF(OR($O14="",INDEX('Execution Register'!$L$6:$L$105,$O14-5)=""),"",INDEX('Execution Register'!$L$6:$L$105,$O14-5)),"") | O14: =IFERROR(AGGREGATE(15,6,ROW('Execution Register'!$A$6:$A$105)/(LEFT('Execution Register'!$N$6:$N$105,6)="Open -"),4),"")
A15: =IFERROR(IF(OR($O15="",INDEX('Execution Register'!$A$6:$A$105,$O15-5)=""),"",INDEX('Execution Register'!$A$6:$A$105,$O15-5)),"") | B15: =IFERROR(IF(OR($O15="",INDEX('Execution Register'!$B$6:$B$105,$O15-5)=""),"",INDEX('Execution Register'!$B$6:$B$105,$O15-5)),"") | C15: =IFERROR(IF(OR($O15="",INDEX('Execution Register'!$C$6:$C$105,$O15-5)=""),"",INDEX('Execution Register'!$C$6:$C$105,$O15-5)),"") | D15: =IFERROR(IF(OR($O15="",INDEX('Execution Register'!$D$6:$D$105,$O15-5)=""),"",INDEX('Execution Register'!$D$6:$D$105,$O15-5)),"") | E15: =IFERROR(IF(OR($O15="",INDEX('Execution Register'!$M$6:$M$105,$O15-5)=""),"",INDEX('Execution Register'!$M$6:$M$105,$O15-5)),"") | F15: =IFERROR(IF(OR($O15="",INDEX('Execution Register'!$N$6:$N$105,$O15-5)=""),"",INDEX('Execution Register'!$N$6:$N$105,$O15-5)),"") | G15: =IFERROR(IF(OR($O15="",INDEX('Execution Register'!$E$6:$E$105,$O15-5)=""),"",INDEX('Execution Register'!$E$6:$E$105,$O15-5)),"") | H15: =IFERROR(IF(OR($O15="",INDEX('Execution Register'!$F$6:$F$105,$O15-5)=""),"",INDEX('Execution Register'!$F$6:$F$105,$O15-5)),"") | I15: =IFERROR(IF(OR($O15="",INDEX('Execution Register'!$G$6:$G$105,$O15-5)=""),"",INDEX('Execution Register'!$G$6:$G$105,$O15-5)),"") | J15: =IFERROR(IF(OR($O15="",INDEX('Execution Register'!$H$6:$H$105,$O15-5)=""),"",INDEX('Execution Register'!$H$6:$H$105,$O15-5)),"") | K15: =IFERROR(IF(OR($O15="",INDEX('Execution Register'!$I$6:$I$105,$O15-5)=""),"",INDEX('Execution Register'!$I$6:$I$105,$O15-5)),"") | L15: =IFERROR(IF(OR($O15="",INDEX('Execution Register'!$J$6:$J$105,$O15-5)=""),"",INDEX('Execution Register'!$J$6:$J$105,$O15-5)),"") | M15: =IFERROR(IF(OR($O15="",INDEX('Execution Register'!$K$6:$K$105,$O15-5)=""),"",INDEX('Execution Register'!$K$6:$K$105,$O15-5)),"") | N15: =IFERROR(IF(OR($O15="",INDEX('Execution Register'!$L$6:$L$105,$O15-5)=""),"",INDEX('Execution Register'!$L$6:$L$105,$O15-5)),"") | O15: =IFERROR(AGGREGATE(15,6,ROW('Execution Register'!$A$6:$A$105)/(LEFT('Execution Register'!$N$6:$N$105,6)="Open -"),5),"")
A16: =IFERROR(IF(OR($O16="",INDEX('Execution Register'!$A$6:$A$105,$O16-5)=""),"",INDEX('Execution Register'!$A$6:$A$105,$O16-5)),"") | B16: =IFERROR(IF(OR($O16="",INDEX('Execution Register'!$B$6:$B$105,$O16-5)=""),"",INDEX('Execution Register'!$B$6:$B$105,$O16-5)),"") | C16: =IFERROR(IF(OR($O16="",INDEX('Execution Register'!$C$6:$C$105,$O16-5)=""),"",INDEX('Execution Register'!$C$6:$C$105,$O16-5)),"") | D16: =IFERROR(IF(OR($O16="",INDEX('Execution Register'!$D$6:$D$105,$O16-5)=""),"",INDEX('Execution Register'!$D$6:$D$105,$O16-5)),"") | E16: =IFERROR(IF(OR($O16="",INDEX('Execution Register'!$M$6:$M$105,$O16-5)=""),"",INDEX('Execution Register'!$M$6:$M$105,$O16-5)),"") | F16: =IFERROR(IF(OR($O16="",INDEX('Execution Register'!$N$6:$N$105,$O16-5)=""),"",INDEX('Execution Register'!$N$6:$N$105,$O16-5)),"") | G16: =IFERROR(IF(OR($O16="",INDEX('Execution Register'!$E$6:$E$105,$O16-5)=""),"",INDEX('Execution Register'!$E$6:$E$105,$O16-5)),"") | H16: =IFERROR(IF(OR($O16="",INDEX('Execution Register'!$F$6:$F$105,$O16-5)=""),"",INDEX('Execution Register'!$F$6:$F$105,$O16-5)),"") | I16: =IFERROR(IF(OR($O16="",INDEX('Execution Register'!$G$6:$G$105,$O16-5)=""),"",INDEX('Execution Register'!$G$6:$G$105,$O16-5)),"") | J16: =IFERROR(IF(OR($O16="",INDEX('Execution Register'!$H$6:$H$105,$O16-5)=""),"",INDEX('Execution Register'!$H$6:$H$105,$O16-5)),"") | K16: =IFERROR(IF(OR($O16="",INDEX('Execution Register'!$I$6:$I$105,$O16-5)=""),"",INDEX('Execution Register'!$I$6:$I$105,$O16-5)),"") | L16: =IFERROR(IF(OR($O16="",INDEX('Execution Register'!$J$6:$J$105,$O16-5)=""),"",INDEX('Execution Register'!$J$6:$J$105,$O16-5)),"") | M16: =IFERROR(IF(OR($O16="",INDEX('Execution Register'!$K$6:$K$105,$O16-5)=""),"",INDEX('Execution Register'!$K$6:$K$105,$O16-5)),"") | N16: =IFERROR(IF(OR($O16="",INDEX('Execution Register'!$L$6:$L$105,$O16-5)=""),"",INDEX('Execution Register'!$L$6:$L$105,$O16-5)),"") | O16: =IFERROR(AGGREGATE(15,6,ROW('Execution Register'!$A$6:$A$105)/(LEFT('Execution Register'!$N$6:$N$105,6)="Open -"),6),"")
A17: =IFERROR(IF(OR($O17="",INDEX('Execution Register'!$A$6:$A$105,$O17-5)=""),"",INDEX('Execution Register'!$A$6:$A$105,$O17-5)),"") | B17: =IFERROR(IF(OR($O17="",INDEX('Execution Register'!$B$6:$B$105,$O17-5)=""),"",INDEX('Execution Register'!$B$6:$B$105,$O17-5)),"") | C17: =IFERROR(IF(OR($O17="",INDEX('Execution Register'!$C$6:$C$105,$O17-5)=""),"",INDEX('Execution Register'!$C$6:$C$105,$O17-5)),"") | D17: =IFERROR(IF(OR($O17="",INDEX('Execution Register'!$D$6:$D$105,$O17-5)=""),"",INDEX('Execution Register'!$D$6:$D$105,$O17-5)),"") | E17: =IFERROR(IF(OR($O17="",INDEX('Execution Register'!$M$6:$M$105,$O17-5)=""),"",INDEX('Execution Register'!$M$6:$M$105,$O17-5)),"") | F17: =IFERROR(IF(OR($O17="",INDEX('Execution Register'!$N$6:$N$105,$O17-5)=""),"",INDEX('Execution Register'!$N$6:$N$105,$O17-5)),"") | G17: =IFERROR(IF(OR($O17="",INDEX('Execution Register'!$E$6:$E$105,$O17-5)=""),"",INDEX('Execution Register'!$E$6:$E$105,$O17-5)),"") | H17: =IFERROR(IF(OR($O17="",INDEX('Execution Register'!$F$6:$F$105,$O17-5)=""),"",INDEX('Execution Register'!$F$6:$F$105,$O17-5)),"") | I17: =IFERROR(IF(OR($O17="",INDEX('Execution Register'!$G$6:$G$105,$O17-5)=""),"",INDEX('Execution Register'!$G$6:$G$105,$O17-5)),"") | J17: =IFERROR(IF(OR($O17="",INDEX('Execution Register'!$H$6:$H$105,$O17-5)=""),"",INDEX('Execution Register'!$H$6:$H$105,$O17-5)),"") | K17: =IFERROR(IF(OR($O17="",INDEX('Execution Register'!$I$6:$I$105,$O17-5)=""),"",INDEX('Execution Register'!$I$6:$I$105,$O17-5)),"") | L17: =IFERROR(IF(OR($O17="",INDEX('Execution Register'!$J$6:$J$105,$O17-5)=""),"",INDEX('Execution Register'!$J$6:$J$105,$O17-5)),"") | M17: =IFERROR(IF(OR($O17="",INDEX('Execution Register'!$K$6:$K$105,$O17-5)=""),"",INDEX('Execution Register'!$K$6:$K$105,$O17-5)),"") | N17: =IFERROR(IF(OR($O17="",INDEX('Execution Register'!$L$6:$L$105,$O17-5)=""),"",INDEX('Execution Register'!$L$6:$L$105,$O17-5)),"") | O17: =IFERROR(AGGREGATE(15,6,ROW('Execution Register'!$A$6:$A$105)/(LEFT('Execution Register'!$N$6:$N$105,6)="Open -"),7),"")
A18: =IFERROR(IF(OR($O18="",INDEX('Execution Register'!$A$6:$A$105,$O18-5)=""),"",INDEX('Execution Register'!$A$6:$A$105,$O18-5)),"") | B18: =IFERROR(IF(OR($O18="",INDEX('Execution Register'!$B$6:$B$105,$O18-5)=""),"",INDEX('Execution Register'!$B$6:$B$105,$O18-5)),"") | C18: =IFERROR(IF(OR($O18="",INDEX('Execution Register'!$C$6:$C$105,$O18-5)=""),"",INDEX('Execution Register'!$C$6:$C$105,$O18-5)),"") | D18: =IFERROR(IF(OR($O18="",INDEX('Execution Register'!$D$6:$D$105,$O18-5)=""),"",INDEX('Execution Register'!$D$6:$D$105,$O18-5)),"") | E18: =IFERROR(IF(OR($O18="",INDEX('Execution Register'!$M$6:$M$105,$O18-5)=""),"",INDEX('Execution Register'!$M$6:$M$105,$O18-5)),"") | F18: =IFERROR(IF(OR($O18="",INDEX('Execution Register'!$N$6:$N$105,$O18-5)=""),"",INDEX('Execution Register'!$N$6:$N$105,$O18-5)),"") | G18: =IFERROR(IF(OR($O18="",INDEX('Execution Register'!$E$6:$E$105,$O18-5)=""),"",INDEX('Execution Register'!$E$6:$E$105,$O18-5)),"") | H18: =IFERROR(IF(OR($O18="",INDEX('Execution Register'!$F$6:$F$105,$O18-5)=""),"",INDEX('Execution Register'!$F$6:$F$105,$O18-5)),"") | I18: =IFERROR(IF(OR($O18="",INDEX('Execution Register'!$G$6:$G$105,$O18-5)=""),"",INDEX('Execution Register'!$G$6:$G$105,$O18-5)),"") | J18: =IFERROR(IF(OR($O18="",INDEX('Execution Register'!$H$6:$H$105,$O18-5)=""),"",INDEX('Execution Register'!$H$6:$H$105,$O18-5)),"") | K18: =IFERROR(IF(OR($O18="",INDEX('Execution Register'!$I$6:$I$105,$O18-5)=""),"",INDEX('Execution Register'!$I$6:$I$105,$O18-5)),"") | L18: =IFERROR(IF(OR($O18="",INDEX('Execution Register'!$J$6:$J$105,$O18-5)=""),"",INDEX('Execution Register'!$J$6:$J$105,$O18-5)),"") | M18: =IFERROR(IF(OR($O18="",INDEX('Execution Register'!$K$6:$K$105,$O18-5)=""),"",INDEX('Execution Register'!$K$6:$K$105,$O18-5)),"") | N18: =IFERROR(IF(OR($O18="",INDEX('Execution Register'!$L$6:$L$105,$O18-5)=""),"",INDEX('Execution Register'!$L$6:$L$105,$O18-5)),"") | O18: =IFERROR(AGGREGATE(15,6,ROW('Execution Register'!$A$6:$A$105)/(LEFT('Execution Register'!$N$6:$N$105,6)="Open -"),8),"")
A19: =IFERROR(IF(OR($O19="",INDEX('Execution Register'!$A$6:$A$105,$O19-5)=""),"",INDEX('Execution Register'!$A$6:$A$105,$O19-5)),"") | B19: =IFERROR(IF(OR($O19="",INDEX('Execution Register'!$B$6:$B$105,$O19-5)=""),"",INDEX('Execution Register'!$B$6:$B$105,$O19-5)),"") | C19: =IFERROR(IF(OR($O19="",INDEX('Execution Register'!$C$6:$C$105,$O19-5)=""),"",INDEX('Execution Register'!$C$6:$C$105,$O19-5)),"") | D19: =IFERROR(IF(OR($O19="",INDEX('Execution Register'!$D$6:$D$105,$O19-5)=""),"",INDEX('Execution Register'!$D$6:$D$105,$O19-5)),"") | E19: =IFERROR(IF(OR($O19="",INDEX('Execution Register'!$M$6:$M$105,$O19-5)=""),"",INDEX('Execution Register'!$M$6:$M$105,$O19-5)),"") | F19: =IFERROR(IF(OR($O19="",INDEX('Execution Register'!$N$6:$N$105,$O19-5)=""),"",INDEX('Execution Register'!$N$6:$N$105,$O19-5)),"") | G19: =IFERROR(IF(OR($O19="",INDEX('Execution Register'!$E$6:$E$105,$O19-5)=""),"",INDEX('Execution Register'!$E$6:$E$105,$O19-5)),"") | H19: =IFERROR(IF(OR($O19="",INDEX('Execution Register'!$F$6:$F$105,$O19-5)=""),"",INDEX('Execution Register'!$F$6:$F$105,$O19-5)),"") | I19: =IFERROR(IF(OR($O19="",INDEX('Execution Register'!$G$6:$G$105,$O19-5)=""),"",INDEX('Execution Register'!$G$6:$G$105,$O19-5)),"") | J19: =IFERROR(IF(OR($O19="",INDEX('Execution Register'!$H$6:$H$105,$O19-5)=""),"",INDEX('Execution Register'!$H$6:$H$105,$O19-5)),"") | K19: =IFERROR(IF(OR($O19="",INDEX('Execution Register'!$I$6:$I$105,$O19-5)=""),"",INDEX('Execution Register'!$I$6:$I$105,$O19-5)),"") | L19: =IFERROR(IF(OR($O19="",INDEX('Execution Register'!$J$6:$J$105,$O19-5)=""),"",INDEX('Execution Register'!$J$6:$J$105,$O19-5)),"") | M19: =IFERROR(IF(OR($O19="",INDEX('Execution Register'!$K$6:$K$105,$O19-5)=""),"",INDEX('Execution Register'!$K$6:$K$105,$O19-5)),"") | N19: =IFERROR(IF(OR($O19="",INDEX('Execution Register'!$L$6:$L$105,$O19-5)=""),"",INDEX('Execution Register'!$L$6:$L$105,$O19-5)),"") | O19: =IFERROR(AGGREGATE(15,6,ROW('Execution Register'!$A$6:$A$105)/(LEFT('Execution Register'!$N$6:$N$105,6)="Open -"),9),"")
A20: =IFERROR(IF(OR($O20="",INDEX('Execution Register'!$A$6:$A$105,$O20-5)=""),"",INDEX('Execution Register'!$A$6:$A$105,$O20-5)),"") | B20: =IFERROR(IF(OR($O20="",INDEX('Execution Register'!$B$6:$B$105,$O20-5)=""),"",INDEX('Execution Register'!$B$6:$B$105,$O20-5)),"") | C20: =IFERROR(IF(OR($O20="",INDEX('Execution Register'!$C$6:$C$105,$O20-5)=""),"",INDEX('Execution Register'!$C$6:$C$105,$O20-5)),"") | D20: =IFERROR(IF(OR($O20="",INDEX('Execution Register'!$D$6:$D$105,$O20-5)=""),"",INDEX('Execution Register'!$D$6:$D$105,$O20-5)),"") | E20: =IFERROR(IF(OR($O20="",INDEX('Execution Register'!$M$6:$M$105,$O20-5)=""),"",INDEX('Execution Register'!$M$6:$M$105,$O20-5)),"") | F20: =IFERROR(IF(OR($O20="",INDEX('Execution Register'!$N$6:$N$105,$O20-5)=""),"",INDEX('Execution Register'!$N$6:$N$105,$O20-5)),"") | G20: =IFERROR(IF(OR($O20="",INDEX('Execution Register'!$E$6:$E$105,$O20-5)=""),"",INDEX('Execution Register'!$E$6:$E$105,$O20-5)),"") | H20: =IFERROR(IF(OR($O20="",INDEX('Execution Register'!$F$6:$F$105,$O20-5)=""),"",INDEX('Execution Register'!$F$6:$F$105,$O20-5)),"") | I20: =IFERROR(IF(OR($O20="",INDEX('Execution Register'!$G$6:$G$105,$O20-5)=""),"",INDEX('Execution Register'!$G$6:$G$105,$O20-5)),"") | J20: =IFERROR(IF(OR($O20="",INDEX('Execution Register'!$H$6:$H$105,$O20-5)=""),"",INDEX('Execution Register'!$H$6:$H$105,$O20-5)),"") | K20: =IFERROR(IF(OR($O20="",INDEX('Execution Register'!$I$6:$I$105,$O20-5)=""),"",INDEX('Execution Register'!$I$6:$I$105,$O20-5)),"") | L20: =IFERROR(IF(OR($O20="",INDEX('Execution Register'!$J$6:$J$105,$O20-5)=""),"",INDEX('Execution Register'!$J$6:$J$105,$O20-5)),"") | M20: =IFERROR(IF(OR($O20="",INDEX('Execution Register'!$K$6:$K$105,$O20-5)=""),"",INDEX('Execution Register'!$K$6:$K$105,$O20-5)),"") | N20: =IFERROR(IF(OR($O20="",INDEX('Execution Register'!$L$6:$L$105,$O20-5)=""),"",INDEX('Execution Register'!$L$6:$L$105,$O20-5)),"") | O20: =IFERROR(AGGREGATE(15,6,ROW('Execution Register'!$A$6:$A$105)/(LEFT('Execution Register'!$N$6:$N$105,6)="Open -"),10),"")
A21: =IFERROR(IF(OR($O21="",INDEX('Execution Register'!$A$6:$A$105,$O21-5)=""),"",INDEX('Execution Register'!$A$6:$A$105,$O21-5)),"") | B21: =IFERROR(IF(OR($O21="",INDEX('Execution Register'!$B$6:$B$105,$O21-5)=""),"",INDEX('Execution Register'!$B$6:$B$105,$O21-5)),"") | C21: =IFERROR(IF(OR($O21="",INDEX('Execution Register'!$C$6:$C$105,$O21-5)=""),"",INDEX('Execution Register'!$C$6:$C$105,$O21-5)),"") | D21: =IFERROR(IF(OR($O21="",INDEX('Execution Register'!$D$6:$D$105,$O21-5)=""),"",INDEX('Execution Register'!$D$6:$D$105,$O21-5)),"") | E21: =IFERROR(IF(OR($O21="",INDEX('Execution Register'!$M$6:$M$105,$O21-5)=""),"",INDEX('Execution Register'!$M$6:$M$105,$O21-5)),"") | F21: =IFERROR(IF(OR($O21="",INDEX('Execution Register'!$N$6:$N$105,$O21-5)=""),"",INDEX('Execution Register'!$N$6:$N$105,$O21-5)),"") | G21: =IFERROR(IF(OR($O21="",INDEX('Execution Register'!$E$6:$E$105,$O21-5)=""),"",INDEX('Execution Register'!$E$6:$E$105,$O21-5)),"") | H21: =IFERROR(IF(OR($O21="",INDEX('Execution Register'!$F$6:$F$105,$O21-5)=""),"",INDEX('Execution Register'!$F$6:$F$105,$O21-5)),"") | I21: =IFERROR(IF(OR($O21="",INDEX('Execution Register'!$G$6:$G$105,$O21-5)=""),"",INDEX('Execution Register'!$G$6:$G$105,$O21-5)),"") | J21: =IFERROR(IF(OR($O21="",INDEX('Execution Register'!$H$6:$H$105,$O21-5)=""),"",INDEX('Execution Register'!$H$6:$H$105,$O21-5)),"") | K21: =IFERROR(IF(OR($O21="",INDEX('Execution Register'!$I$6:$I$105,$O21-5)=""),"",INDEX('Execution Register'!$I$6:$I$105,$O21-5)),"") | L21: =IFERROR(IF(OR($O21="",INDEX('Execution Register'!$J$6:$J$105,$O21-5)=""),"",INDEX('Execution Register'!$J$6:$J$105,$O21-5)),"") | M21: =IFERROR(IF(OR($O21="",INDEX('Execution Register'!$K$6:$K$105,$O21-5)=""),"",INDEX('Execution Register'!$K$6:$K$105,$O21-5)),"") | N21: =IFERROR(IF(OR($O21="",INDEX('Execution Register'!$L$6:$L$105,$O21-5)=""),"",INDEX('Execution Register'!$L$6:$L$105,$O21-5)),"") | O21: =IFERROR(AGGREGATE(15,6,ROW('Execution Register'!$A$6:$A$105)/(LEFT('Execution Register'!$N$6:$N$105,6)="Open -"),11),"")
A22: =IFERROR(IF(OR($O22="",INDEX('Execution Register'!$A$6:$A$105,$O22-5)=""),"",INDEX('Execution Register'!$A$6:$A$105,$O22-5)),"") | B22: =IFERROR(IF(OR($O22="",INDEX('Execution Register'!$B$6:$B$105,$O22-5)=""),"",INDEX('Execution Register'!$B$6:$B$105,$O22-5)),"") | C22: =IFERROR(IF(OR($O22="",INDEX('Execution Register'!$C$6:$C$105,$O22-5)=""),"",INDEX('Execution Register'!$C$6:$C$105,$O22-5)),"") | D22: =IFERROR(IF(OR($O22="",INDEX('Execution Register'!$D$6:$D$105,$O22-5)=""),"",INDEX('Execution Register'!$D$6:$D$105,$O22-5)),"") | E22: =IFERROR(IF(OR($O22="",INDEX('Execution Register'!$M$6:$M$105,$O22-5)=""),"",INDEX('Execution Register'!$M$6:$M$105,$O22-5)),"") | F22: =IFERROR(IF(OR($O22="",INDEX('Execution Register'!$N$6:$N$105,$O22-5)=""),"",INDEX('Execution Register'!$N$6:$N$105,$O22-5)),"") | G22: =IFERROR(IF(OR($O22="",INDEX('Execution Register'!$E$6:$E$105,$O22-5)=""),"",INDEX('Execution Register'!$E$6:$E$105,$O22-5)),"") | H22: =IFERROR(IF(OR($O22="",INDEX('Execution Register'!$F$6:$F$105,$O22-5)=""),"",INDEX('Execution Register'!$F$6:$F$105,$O22-5)),"") | I22: =IFERROR(IF(OR($O22="",INDEX('Execution Register'!$G$6:$G$105,$O22-5)=""),"",INDEX('Execution Register'!$G$6:$G$105,$O22-5)),"") | J22: =IFERROR(IF(OR($O22="",INDEX('Execution Register'!$H$6:$H$105,$O22-5)=""),"",INDEX('Execution Register'!$H$6:$H$105,$O22-5)),"") | K22: =IFERROR(IF(OR($O22="",INDEX('Execution Register'!$I$6:$I$105,$O22-5)=""),"",INDEX('Execution Register'!$I$6:$I$105,$O22-5)),"") | L22: =IFERROR(IF(OR($O22="",INDEX('Execution Register'!$J$6:$J$105,$O22-5)=""),"",INDEX('Execution Register'!$J$6:$J$105,$O22-5)),"") | M22: =IFERROR(IF(OR($O22="",INDEX('Execution Register'!$K$6:$K$105,$O22-5)=""),"",INDEX('Execution Register'!$K$6:$K$105,$O22-5)),"") | N22: =IFERROR(IF(OR($O22="",INDEX('Execution Register'!$L$6:$L$105,$O22-5)=""),"",INDEX('Execution Register'!$L$6:$L$105,$O22-5)),"") | O22: =IFERROR(AGGREGATE(15,6,ROW('Execution Register'!$A$6:$A$105)/(LEFT('Execution Register'!$N$6:$N$105,6)="Open -"),12),"")
A23: =IFERROR(IF(OR($O23="",INDEX('Execution Register'!$A$6:$A$105,$O23-5)=""),"",INDEX('Execution Register'!$A$6:$A$105,$O23-5)),"") | B23: =IFERROR(IF(OR($O23="",INDEX('Execution Register'!$B$6:$B$105,$O23-5)=""),"",INDEX('Execution Register'!$B$6:$B$105,$O23-5)),"") | C23: =IFERROR(IF(OR($O23="",INDEX('Execution Register'!$C$6:$C$105,$O23-5)=""),"",INDEX('Execution Register'!$C$6:$C$105,$O23-5)),"") | D23: =IFERROR(IF(OR($O23="",INDEX('Execution Register'!$D$6:$D$105,$O23-5)=""),"",INDEX('Execution Register'!$D$6:$D$105,$O23-5)),"") | E23: =IFERROR(IF(OR($O23="",INDEX('Execution Register'!$M$6:$M$105,$O23-5)=""),"",INDEX('Execution Register'!$M$6:$M$105,$O23-5)),"") | F23: =IFERROR(IF(OR($O23="",INDEX('Execution Register'!$N$6:$N$105,$O23-5)=""),"",INDEX('Execution Register'!$N$6:$N$105,$O23-5)),"") | G23: =IFERROR(IF(OR($O23="",INDEX('Execution Register'!$E$6:$E$105,$O23-5)=""),"",INDEX('Execution Register'!$E$6:$E$105,$O23-5)),"") | H23: =IFERROR(IF(OR($O23="",INDEX('Execution Register'!$F$6:$F$105,$O23-5)=""),"",INDEX('Execution Register'!$F$6:$F$105,$O23-5)),"") | I23: =IFERROR(IF(OR($O23="",INDEX('Execution Register'!$G$6:$G$105,$O23-5)=""),"",INDEX('Execution Register'!$G$6:$G$105,$O23-5)),"") | J23: =IFERROR(IF(OR($O23="",INDEX('Execution Register'!$H$6:$H$105,$O23-5)=""),"",INDEX('Execution Register'!$H$6:$H$105,$O23-5)),"") | K23: =IFERROR(IF(OR($O23="",INDEX('Execution Register'!$I$6:$I$105,$O23-5)=""),"",INDEX('Execution Register'!$I$6:$I$105,$O23-5)),"") | L23: =IFERROR(IF(OR($O23="",INDEX('Execution Register'!$J$6:$J$105,$O23-5)=""),"",INDEX('Execution Register'!$J$6:$J$105,$O23-5)),"") | M23: =IFERROR(IF(OR($O23="",INDEX('Execution Register'!$K$6:$K$105,$O23-5)=""),"",INDEX('Execution Register'!$K$6:$K$105,$O23-5)),"") | N23: =IFERROR(IF(OR($O23="",INDEX('Execution Register'!$L$6:$L$105,$O23-5)=""),"",INDEX('Execution Register'!$L$6:$L$105,$O23-5)),"") | O23: =IFERROR(AGGREGATE(15,6,ROW('Execution Register'!$A$6:$A$105)/(LEFT('Execution Register'!$N$6:$N$105,6)="Open -"),13),"")
A24: =IFERROR(IF(OR($O24="",INDEX('Execution Register'!$A$6:$A$105,$O24-5)=""),"",INDEX('Execution Register'!$A$6:$A$105,$O24-5)),"") | B24: =IFERROR(IF(OR($O24="",INDEX('Execution Register'!$B$6:$B$105,$O24-5)=""),"",INDEX('Execution Register'!$B$6:$B$105,$O24-5)),"") | C24: =IFERROR(IF(OR($O24="",INDEX('Execution Register'!$C$6:$C$105,$O24-5)=""),"",INDEX('Execution Register'!$C$6:$C$105,$O24-5)),"") | D24: =IFERROR(IF(OR($O24="",INDEX('Execution Register'!$D$6:$D$105,$O24-5)=""),"",INDEX('Execution Register'!$D$6:$D$105,$O24-5)),"") | E24: =IFERROR(IF(OR($O24="",INDEX('Execution Register'!$M$6:$M$105,$O24-5)=""),"",INDEX('Execution Register'!$M$6:$M$105,$O24-5)),"") | F24: =IFERROR(IF(OR($O24="",INDEX('Execution Register'!$N$6:$N$105,$O24-5)=""),"",INDEX('Execution Register'!$N$6:$N$105,$O24-5)),"") | G24: =IFERROR(IF(OR($O24="",INDEX('Execution Register'!$E$6:$E$105,$O24-5)=""),"",INDEX('Execution Register'!$E$6:$E$105,$O24-5)),"") | H24: =IFERROR(IF(OR($O24="",INDEX('Execution Register'!$F$6:$F$105,$O24-5)=""),"",INDEX('Execution Register'!$F$6:$F$105,$O24-5)),"") | I24: =IFERROR(IF(OR($O24="",INDEX('Execution Register'!$G$6:$G$105,$O24-5)=""),"",INDEX('Execution Register'!$G$6:$G$105,$O24-5)),"") | J24: =IFERROR(IF(OR($O24="",INDEX('Execution Register'!$H$6:$H$105,$O24-5)=""),"",INDEX('Execution Register'!$H$6:$H$105,$O24-5)),"") | K24: =IFERROR(IF(OR($O24="",INDEX('Execution Register'!$I$6:$I$105,$O24-5)=""),"",INDEX('Execution Register'!$I$6:$I$105,$O24-5)),"") | L24: =IFERROR(IF(OR($O24="",INDEX('Execution Register'!$J$6:$J$105,$O24-5)=""),"",INDEX('Execution Register'!$J$6:$J$105,$O24-5)),"") | M24: =IFERROR(IF(OR($O24="",INDEX('Execution Register'!$K$6:$K$105,$O24-5)=""),"",INDEX('Execution Register'!$K$6:$K$105,$O24-5)),"") | N24: =IFERROR(IF(OR($O24="",INDEX('Execution Register'!$L$6:$L$105,$O24-5)=""),"",INDEX('Execution Register'!$L$6:$L$105,$O24-5)),"") | O24: =IFERROR(AGGREGATE(15,6,ROW('Execution Register'!$A$6:$A$105)/(LEFT('Execution Register'!$N$6:$N$105,6)="Open -"),14),"")
A25: =IFERROR(IF(OR($O25="",INDEX('Execution Register'!$A$6:$A$105,$O25-5)=""),"",INDEX('Execution Register'!$A$6:$A$105,$O25-5)),"") | B25: =IFERROR(IF(OR($O25="",INDEX('Execution Register'!$B$6:$B$105,$O25-5)=""),"",INDEX('Execution Register'!$B$6:$B$105,$O25-5)),"") | C25: =IFERROR(IF(OR($O25="",INDEX('Execution Register'!$C$6:$C$105,$O25-5)=""),"",INDEX('Execution Register'!$C$6:$C$105,$O25-5)),"") | D25: =IFERROR(IF(OR($O25="",INDEX('Execution Register'!$D$6:$D$105,$O25-5)=""),"",INDEX('Execution Register'!$D$6:$D$105,$O25-5)),"") | E25: =IFERROR(IF(OR($O25="",INDEX('Execution Register'!$M$6:$M$105,$O25-5)=""),"",INDEX('Execution Register'!$M$6:$M$105,$O25-5)),"") | F25: =IFERROR(IF(OR($O25="",INDEX('Execution Register'!$N$6:$N$105,$O25-5)=""),"",INDEX('Execution Register'!$N$6:$N$105,$O25-5)),"") | G25: =IFERROR(IF(OR($O25="",INDEX('Execution Register'!$E$6:$E$105,$O25-5)=""),"",INDEX('Execution Register'!$E$6:$E$105,$O25-5)),"") | H25: =IFERROR(IF(OR($O25="",INDEX('Execution Register'!$F$6:$F$105,$O25-5)=""),"",INDEX('Execution Register'!$F$6:$F$105,$O25-5)),"") | I25: =IFERROR(IF(OR($O25="",INDEX('Execution Register'!$G$6:$G$105,$O25-5)=""),"",INDEX('Execution Register'!$G$6:$G$105,$O25-5)),"") | J25: =IFERROR(IF(OR($O25="",INDEX('Execution Register'!$H$6:$H$105,$O25-5)=""),"",INDEX('Execution Register'!$H$6:$H$105,$O25-5)),"") | K25: =IFERROR(IF(OR($O25="",INDEX('Execution Register'!$I$6:$I$105,$O25-5)=""),"",INDEX('Execution Register'!$I$6:$I$105,$O25-5)),"") | L25: =IFERROR(IF(OR($O25="",INDEX('Execution Register'!$J$6:$J$105,$O25-5)=""),"",INDEX('Execution Register'!$J$6:$J$105,$O25-5)),"") | M25: =IFERROR(IF(OR($O25="",INDEX('Execution Register'!$K$6:$K$105,$O25-5)=""),"",INDEX('Execution Register'!$K$6:$K$105,$O25-5)),"") | N25: =IFERROR(IF(OR($O25="",INDEX('Execution Register'!$L$6:$L$105,$O25-5)=""),"",INDEX('Execution Register'!$L$6:$L$105,$O25-5)),"") | O25: =IFERROR(AGGREGATE(15,6,ROW('Execution Register'!$A$6:$A$105)/(LEFT('Execution Register'!$N$6:$N$105,6)="Open -"),15),"")
A26: =IFERROR(IF(OR($O26="",INDEX('Execution Register'!$A$6:$A$105,$O26-5)=""),"",INDEX('Execution Register'!$A$6:$A$105,$O26-5)),"") | B26: =IFERROR(IF(OR($O26="",INDEX('Execution Register'!$B$6:$B$105,$O26-5)=""),"",INDEX('Execution Register'!$B$6:$B$105,$O26-5)),"") | C26: =IFERROR(IF(OR($O26="",INDEX('Execution Register'!$C$6:$C$105,$O26-5)=""),"",INDEX('Execution Register'!$C$6:$C$105,$O26-5)),"") | D26: =IFERROR(IF(OR($O26="",INDEX('Execution Register'!$D$6:$D$105,$O26-5)=""),"",INDEX('Execution Register'!$D$6:$D$105,$O26-5)),"") | E26: =IFERROR(IF(OR($O26="",INDEX('Execution Register'!$M$6:$M$105,$O26-5)=""),"",INDEX('Execution Register'!$M$6:$M$105,$O26-5)),"") | F26: =IFERROR(IF(OR($O26="",INDEX('Execution Register'!$N$6:$N$105,$O26-5)=""),"",INDEX('Execution Register'!$N$6:$N$105,$O26-5)),"") | G26: =IFERROR(IF(OR($O26="",INDEX('Execution Register'!$E$6:$E$105,$O26-5)=""),"",INDEX('Execution Register'!$E$6:$E$105,$O26-5)),"") | H26: =IFERROR(IF(OR($O26="",INDEX('Execution Register'!$F$6:$F$105,$O26-5)=""),"",INDEX('Execution Register'!$F$6:$F$105,$O26-5)),"") | I26: =IFERROR(IF(OR($O26="",INDEX('Execution Register'!$G$6:$G$105,$O26-5)=""),"",INDEX('Execution Register'!$G$6:$G$105,$O26-5)),"") | J26: =IFERROR(IF(OR($O26="",INDEX('Execution Register'!$H$6:$H$105,$O26-5)=""),"",INDEX('Execution Register'!$H$6:$H$105,$O26-5)),"") | K26: =IFERROR(IF(OR($O26="",INDEX('Execution Register'!$I$6:$I$105,$O26-5)=""),"",INDEX('Execution Register'!$I$6:$I$105,$O26-5)),"") | L26: =IFERROR(IF(OR($O26="",INDEX('Execution Register'!$J$6:$J$105,$O26-5)=""),"",INDEX('Execution Register'!$J$6:$J$105,$O26-5)),"") | M26: =IFERROR(IF(OR($O26="",INDEX('Execution Register'!$K$6:$K$105,$O26-5)=""),"",INDEX('Execution Register'!$K$6:$K$105,$O26-5)),"") | N26: =IFERROR(IF(OR($O26="",INDEX('Execution Register'!$L$6:$L$105,$O26-5)=""),"",INDEX('Execution Register'!$L$6:$L$105,$O26-5)),"") | O26: =IFERROR(AGGREGATE(15,6,ROW('Execution Register'!$A$6:$A$105)/(LEFT('Execution Register'!$N$6:$N$105,6)="Open -"),16),"")
A27: =IFERROR(IF(OR($O27="",INDEX('Execution Register'!$A$6:$A$105,$O27-5)=""),"",INDEX('Execution Register'!$A$6:$A$105,$O27-5)),"") | B27: =IFERROR(IF(OR($O27="",INDEX('Execution Register'!$B$6:$B$105,$O27-5)=""),"",INDEX('Execution Register'!$B$6:$B$105,$O27-5)),"") | C27: =IFERROR(IF(OR($O27="",INDEX('Execution Register'!$C$6:$C$105,$O27-5)=""),"",INDEX('Execution Register'!$C$6:$C$105,$O27-5)),"") | D27: =IFERROR(IF(OR($O27="",INDEX('Execution Register'!$D$6:$D$105,$O27-5)=""),"",INDEX('Execution Register'!$D$6:$D$105,$O27-5)),"") | E27: =IFERROR(IF(OR($O27="",INDEX('Execution Register'!$M$6:$M$105,$O27-5)=""),"",INDEX('Execution Register'!$M$6:$M$105,$O27-5)),"") | F27: =IFERROR(IF(OR($O27="",INDEX('Execution Register'!$N$6:$N$105,$O27-5)=""),"",INDEX('Execution Register'!$N$6:$N$105,$O27-5)),"") | G27: =IFERROR(IF(OR($O27="",INDEX('Execution Register'!$E$6:$E$105,$O27-5)=""),"",INDEX('Execution Register'!$E$6:$E$105,$O27-5)),"") | H27: =IFERROR(IF(OR($O27="",INDEX('Execution Register'!$F$6:$F$105,$O27-5)=""),"",INDEX('Execution Register'!$F$6:$F$105,$O27-5)),"") | I27: =IFERROR(IF(OR($O27="",INDEX('Execution Register'!$G$6:$G$105,$O27-5)=""),"",INDEX('Execution Register'!$G$6:$G$105,$O27-5)),"") | J27: =IFERROR(IF(OR($O27="",INDEX('Execution Register'!$H$6:$H$105,$O27-5)=""),"",INDEX('Execution Register'!$H$6:$H$105,$O27-5)),"") | K27: =IFERROR(IF(OR($O27="",INDEX('Execution Register'!$I$6:$I$105,$O27-5)=""),"",INDEX('Execution Register'!$I$6:$I$105,$O27-5)),"") | L27: =IFERROR(IF(OR($O27="",INDEX('Execution Register'!$J$6:$J$105,$O27-5)=""),"",INDEX('Execution Register'!$J$6:$J$105,$O27-5)),"") | M27: =IFERROR(IF(OR($O27="",INDEX('Execution Register'!$K$6:$K$105,$O27-5)=""),"",INDEX('Execution Register'!$K$6:$K$105,$O27-5)),"") | N27: =IFERROR(IF(OR($O27="",INDEX('Execution Register'!$L$6:$L$105,$O27-5)=""),"",INDEX('Execution Register'!$L$6:$L$105,$O27-5)),"") | O27: =IFERROR(AGGREGATE(15,6,ROW('Execution Register'!$A$6:$A$105)/(LEFT('Execution Register'!$N$6:$N$105,6)="Open -"),17),"")
A28: =IFERROR(IF(OR($O28="",INDEX('Execution Register'!$A$6:$A$105,$O28-5)=""),"",INDEX('Execution Register'!$A$6:$A$105,$O28-5)),"") | B28: =IFERROR(IF(OR($O28="",INDEX('Execution Register'!$B$6:$B$105,$O28-5)=""),"",INDEX('Execution Register'!$B$6:$B$105,$O28-5)),"") | C28: =IFERROR(IF(OR($O28="",INDEX('Execution Register'!$C$6:$C$105,$O28-5)=""),"",INDEX('Execution Register'!$C$6:$C$105,$O28-5)),"") | D28: =IFERROR(IF(OR($O28="",INDEX('Execution Register'!$D$6:$D$105,$O28-5)=""),"",INDEX('Execution Register'!$D$6:$D$105,$O28-5)),"") | E28: =IFERROR(IF(OR($O28="",INDEX('Execution Register'!$M$6:$M$105,$O28-5)=""),"",INDEX('Execution Register'!$M$6:$M$105,$O28-5)),"") | F28: =IFERROR(IF(OR($O28="",INDEX('Execution Register'!$N$6:$N$105,$O28-5)=""),"",INDEX('Execution Register'!$N$6:$N$105,$O28-5)),"") | G28: =IFERROR(IF(OR($O28="",INDEX('Execution Register'!$E$6:$E$105,$O28-5)=""),"",INDEX('Execution Register'!$E$6:$E$105,$O28-5)),"") | H28: =IFERROR(IF(OR($O28="",INDEX('Execution Register'!$F$6:$F$105,$O28-5)=""),"",INDEX('Execution Register'!$F$6:$F$105,$O28-5)),"") | I28: =IFERROR(IF(OR($O28="",INDEX('Execution Register'!$G$6:$G$105,$O28-5)=""),"",INDEX('Execution Register'!$G$6:$G$105,$O28-5)),"") | J28: =IFERROR(IF(OR($O28="",INDEX('Execution Register'!$H$6:$H$105,$O28-5)=""),"",INDEX('Execution Register'!$H$6:$H$105,$O28-5)),"") | K28: =IFERROR(IF(OR($O28="",INDEX('Execution Register'!$I$6:$I$105,$O28-5)=""),"",INDEX('Execution Register'!$I$6:$I$105,$O28-5)),"") | L28: =IFERROR(IF(OR($O28="",INDEX('Execution Register'!$J$6:$J$105,$O28-5)=""),"",INDEX('Execution Register'!$J$6:$J$105,$O28-5)),"") | M28: =IFERROR(IF(OR($O28="",INDEX('Execution Register'!$K$6:$K$105,$O28-5)=""),"",INDEX('Execution Register'!$K$6:$K$105,$O28-5)),"") | N28: =IFERROR(IF(OR($O28="",INDEX('Execution Register'!$L$6:$L$105,$O28-5)=""),"",INDEX('Execution Register'!$L$6:$L$105,$O28-5)),"") | O28: =IFERROR(AGGREGATE(15,6,ROW('Execution Register'!$A$6:$A$105)/(LEFT('Execution Register'!$N$6:$N$105,6)="Open -"),18),"")
A29: =IFERROR(IF(OR($O29="",INDEX('Execution Register'!$A$6:$A$105,$O29-5)=""),"",INDEX('Execution Register'!$A$6:$A$105,$O29-5)),"") | B29: =IFERROR(IF(OR($O29="",INDEX('Execution Register'!$B$6:$B$105,$O29-5)=""),"",INDEX('Execution Register'!$B$6:$B$105,$O29-5)),"") | C29: =IFERROR(IF(OR($O29="",INDEX('Execution Register'!$C$6:$C$105,$O29-5)=""),"",INDEX('Execution Register'!$C$6:$C$105,$O29-5)),"") | D29: =IFERROR(IF(OR($O29="",INDEX('Execution Register'!$D$6:$D$105,$O29-5)=""),"",INDEX('Execution Register'!$D$6:$D$105,$O29-5)),"") | E29: =IFERROR(IF(OR($O29="",INDEX('Execution Register'!$M$6:$M$105,$O29-5)=""),"",INDEX('Execution Register'!$M$6:$M$105,$O29-5)),"") | F29: =IFERROR(IF(OR($O29="",INDEX('Execution Register'!$N$6:$N$105,$O29-5)=""),"",INDEX('Execution Register'!$N$6:$N$105,$O29-5)),"") | G29: =IFERROR(IF(OR($O29="",INDEX('Execution Register'!$E$6:$E$105,$O29-5)=""),"",INDEX('Execution Register'!$E$6:$E$105,$O29-5)),"") | H29: =IFERROR(IF(OR($O29="",INDEX('Execution Register'!$F$6:$F$105,$O29-5)=""),"",INDEX('Execution Register'!$F$6:$F$105,$O29-5)),"") | I29: =IFERROR(IF(OR($O29="",INDEX('Execution Register'!$G$6:$G$105,$O29-5)=""),"",INDEX('Execution Register'!$G$6:$G$105,$O29-5)),"") | J29: =IFERROR(IF(OR($O29="",INDEX('Execution Register'!$H$6:$H$105,$O29-5)=""),"",INDEX('Execution Register'!$H$6:$H$105,$O29-5)),"") | K29: =IFERROR(IF(OR($O29="",INDEX('Execution Register'!$I$6:$I$105,$O29-5)=""),"",INDEX('Execution Register'!$I$6:$I$105,$O29-5)),"") | L29: =IFERROR(IF(OR($O29="",INDEX('Execution Register'!$J$6:$J$105,$O29-5)=""),"",INDEX('Execution Register'!$J$6:$J$105,$O29-5)),"") | M29: =IFERROR(IF(OR($O29="",INDEX('Execution Register'!$K$6:$K$105,$O29-5)=""),"",INDEX('Execution Register'!$K$6:$K$105,$O29-5)),"") | N29: =IFERROR(IF(OR($O29="",INDEX('Execution Register'!$L$6:$L$105,$O29-5)=""),"",INDEX('Execution Register'!$L$6:$L$105,$O29-5)),"") | O29: =IFERROR(AGGREGATE(15,6,ROW('Execution Register'!$A$6:$A$105)/(LEFT('Execution Register'!$N$6:$N$105,6)="Open -"),19),"")
A30: =IFERROR(IF(OR($O30="",INDEX('Execution Register'!$A$6:$A$105,$O30-5)=""),"",INDEX('Execution Register'!$A$6:$A$105,$O30-5)),"") | B30: =IFERROR(IF(OR($O30="",INDEX('Execution Register'!$B$6:$B$105,$O30-5)=""),"",INDEX('Execution Register'!$B$6:$B$105,$O30-5)),"") | C30: =IFERROR(IF(OR($O30="",INDEX('Execution Register'!$C$6:$C$105,$O30-5)=""),"",INDEX('Execution Register'!$C$6:$C$105,$O30-5)),"") | D30: =IFERROR(IF(OR($O30="",INDEX('Execution Register'!$D$6:$D$105,$O30-5)=""),"",INDEX('Execution Register'!$D$6:$D$105,$O30-5)),"") | E30: =IFERROR(IF(OR($O30="",INDEX('Execution Register'!$M$6:$M$105,$O30-5)=""),"",INDEX('Execution Register'!$M$6:$M$105,$O30-5)),"") | F30: =IFERROR(IF(OR($O30="",INDEX('Execution Register'!$N$6:$N$105,$O30-5)=""),"",INDEX('Execution Register'!$N$6:$N$105,$O30-5)),"") | G30: =IFERROR(IF(OR($O30="",INDEX('Execution Register'!$E$6:$E$105,$O30-5)=""),"",INDEX('Execution Register'!$E$6:$E$105,$O30-5)),"") | H30: =IFERROR(IF(OR($O30="",INDEX('Execution Register'!$F$6:$F$105,$O30-5)=""),"",INDEX('Execution Register'!$F$6:$F$105,$O30-5)),"") | I30: =IFERROR(IF(OR($O30="",INDEX('Execution Register'!$G$6:$G$105,$O30-5)=""),"",INDEX('Execution Register'!$G$6:$G$105,$O30-5)),"") | J30: =IFERROR(IF(OR($O30="",INDEX('Execution Register'!$H$6:$H$105,$O30-5)=""),"",INDEX('Execution Register'!$H$6:$H$105,$O30-5)),"") | K30: =IFERROR(IF(OR($O30="",INDEX('Execution Register'!$I$6:$I$105,$O30-5)=""),"",INDEX('Execution Register'!$I$6:$I$105,$O30-5)),"") | L30: =IFERROR(IF(OR($O30="",INDEX('Execution Register'!$J$6:$J$105,$O30-5)=""),"",INDEX('Execution Register'!$J$6:$J$105,$O30-5)),"") | M30: =IFERROR(IF(OR($O30="",INDEX('Execution Register'!$K$6:$K$105,$O30-5)=""),"",INDEX('Execution Register'!$K$6:$K$105,$O30-5)),"") | N30: =IFERROR(IF(OR($O30="",INDEX('Execution Register'!$L$6:$L$105,$O30-5)=""),"",INDEX('Execution Register'!$L$6:$L$105,$O30-5)),"") | O30: =IFERROR(AGGREGATE(15,6,ROW('Execution Register'!$A$6:$A$105)/(LEFT('Execution Register'!$N$6:$N$105,6)="Open -"),20),"")
A31: =IFERROR(IF(OR($O31="",INDEX('Execution Register'!$A$6:$A$105,$O31-5)=""),"",INDEX('Execution Register'!$A$6:$A$105,$O31-5)),"") | B31: =IFERROR(IF(OR($O31="",INDEX('Execution Register'!$B$6:$B$105,$O31-5)=""),"",INDEX('Execution Register'!$B$6:$B$105,$O31-5)),"") | C31: =IFERROR(IF(OR($O31="",INDEX('Execution Register'!$C$6:$C$105,$O31-5)=""),"",INDEX('Execution Register'!$C$6:$C$105,$O31-5)),"") | D31: =IFERROR(IF(OR($O31="",INDEX('Execution Register'!$D$6:$D$105,$O31-5)=""),"",INDEX('Execution Register'!$D$6:$D$105,$O31-5)),"") | E31: =IFERROR(IF(OR($O31="",INDEX('Execution Register'!$M$6:$M$105,$O31-5)=""),"",INDEX('Execution Register'!$M$6:$M$105,$O31-5)),"") | F31: =IFERROR(IF(OR($O31="",INDEX('Execution Register'!$N$6:$N$105,$O31-5)=""),"",INDEX('Execution Register'!$N$6:$N$105,$O31-5)),"") | G31: =IFERROR(IF(OR($O31="",INDEX('Execution Register'!$E$6:$E$105,$O31-5)=""),"",INDEX('Execution Register'!$E$6:$E$105,$O31-5)),"") | H31: =IFERROR(IF(OR($O31="",INDEX('Execution Register'!$F$6:$F$105,$O31-5)=""),"",INDEX('Execution Register'!$F$6:$F$105,$O31-5)),"") | I31: =IFERROR(IF(OR($O31="",INDEX('Execution Register'!$G$6:$G$105,$O31-5)=""),"",INDEX('Execution Register'!$G$6:$G$105,$O31-5)),"") | J31: =IFERROR(IF(OR($O31="",INDEX('Execution Register'!$H$6:$H$105,$O31-5)=""),"",INDEX('Execution Register'!$H$6:$H$105,$O31-5)),"") | K31: =IFERROR(IF(OR($O31="",INDEX('Execution Register'!$I$6:$I$105,$O31-5)=""),"",INDEX('Execution Register'!$I$6:$I$105,$O31-5)),"") | L31: =IFERROR(IF(OR($O31="",INDEX('Execution Register'!$J$6:$J$105,$O31-5)=""),"",INDEX('Execution Register'!$J$6:$J$105,$O31-5)),"") | M31: =IFERROR(IF(OR($O31="",INDEX('Execution Register'!$K$6:$K$105,$O31-5)=""),"",INDEX('Execution Register'!$K$6:$K$105,$O31-5)),"") | N31: =IFERROR(IF(OR($O31="",INDEX('Execution Register'!$L$6:$L$105,$O31-5)=""),"",INDEX('Execution Register'!$L$6:$L$105,$O31-5)),"") | O31: =IFERROR(AGGREGATE(15,6,ROW('Execution Register'!$A$6:$A$105)/(LEFT('Execution Register'!$N$6:$N$105,6)="Open -"),21),"")
A32: =IFERROR(IF(OR($O32="",INDEX('Execution Register'!$A$6:$A$105,$O32-5)=""),"",INDEX('Execution Register'!$A$6:$A$105,$O32-5)),"") | B32: =IFERROR(IF(OR($O32="",INDEX('Execution Register'!$B$6:$B$105,$O32-5)=""),"",INDEX('Execution Register'!$B$6:$B$105,$O32-5)),"") | C32: =IFERROR(IF(OR($O32="",INDEX('Execution Register'!$C$6:$C$105,$O32-5)=""),"",INDEX('Execution Register'!$C$6:$C$105,$O32-5)),"") | D32: =IFERROR(IF(OR($O32="",INDEX('Execution Register'!$D$6:$D$105,$O32-5)=""),"",INDEX('Execution Register'!$D$6:$D$105,$O32-5)),"") | E32: =IFERROR(IF(OR($O32="",INDEX('Execution Register'!$M$6:$M$105,$O32-5)=""),"",INDEX('Execution Register'!$M$6:$M$105,$O32-5)),"") | F32: =IFERROR(IF(OR($O32="",INDEX('Execution Register'!$N$6:$N$105,$O32-5)=""),"",INDEX('Execution Register'!$N$6:$N$105,$O32-5)),"") | G32: =IFERROR(IF(OR($O32="",INDEX('Execution Register'!$E$6:$E$105,$O32-5)=""),"",INDEX('Execution Register'!$E$6:$E$105,$O32-5)),"") | H32: =IFERROR(IF(OR($O32="",INDEX('Execution Register'!$F$6:$F$105,$O32-5)=""),"",INDEX('Execution Register'!$F$6:$F$105,$O32-5)),"") | I32: =IFERROR(IF(OR($O32="",INDEX('Execution Register'!$G$6:$G$105,$O32-5)=""),"",INDEX('Execution Register'!$G$6:$G$105,$O32-5)),"") | J32: =IFERROR(IF(OR($O32="",INDEX('Execution Register'!$H$6:$H$105,$O32-5)=""),"",INDEX('Execution Register'!$H$6:$H$105,$O32-5)),"") | K32: =IFERROR(IF(OR($O32="",INDEX('Execution Register'!$I$6:$I$105,$O32-5)=""),"",INDEX('Execution Register'!$I$6:$I$105,$O32-5)),"") | L32: =IFERROR(IF(OR($O32="",INDEX('Execution Register'!$J$6:$J$105,$O32-5)=""),"",INDEX('Execution Register'!$J$6:$J$105,$O32-5)),"") | M32: =IFERROR(IF(OR($O32="",INDEX('Execution Register'!$K$6:$K$105,$O32-5)=""),"",INDEX('Execution Register'!$K$6:$K$105,$O32-5)),"") | N32: =IFERROR(IF(OR($O32="",INDEX('Execution Register'!$L$6:$L$105,$O32-5)=""),"",INDEX('Execution Register'!$L$6:$L$105,$O32-5)),"") | O32: =IFERROR(AGGREGATE(15,6,ROW('Execution Register'!$A$6:$A$105)/(LEFT('Execution Register'!$N$6:$N$105,6)="Open -"),22),"")
A33: =IFERROR(IF(OR($O33="",INDEX('Execution Register'!$A$6:$A$105,$O33-5)=""),"",INDEX('Execution Register'!$A$6:$A$105,$O33-5)),"") | B33: =IFERROR(IF(OR($O33="",INDEX('Execution Register'!$B$6:$B$105,$O33-5)=""),"",INDEX('Execution Register'!$B$6:$B$105,$O33-5)),"") | C33: =IFERROR(IF(OR($O33="",INDEX('Execution Register'!$C$6:$C$105,$O33-5)=""),"",INDEX('Execution Register'!$C$6:$C$105,$O33-5)),"") | D33: =IFERROR(IF(OR($O33="",INDEX('Execution Register'!$D$6:$D$105,$O33-5)=""),"",INDEX('Execution Register'!$D$6:$D$105,$O33-5)),"") | E33: =IFERROR(IF(OR($O33="",INDEX('Execution Register'!$M$6:$M$105,$O33-5)=""),"",INDEX('Execution Register'!$M$6:$M$105,$O33-5)),"") | F33: =IFERROR(IF(OR($O33="",INDEX('Execution Register'!$N$6:$N$105,$O33-5)=""),"",INDEX('Execution Register'!$N$6:$N$105,$O33-5)),"") | G33: =IFERROR(IF(OR($O33="",INDEX('Execution Register'!$E$6:$E$105,$O33-5)=""),"",INDEX('Execution Register'!$E$6:$E$105,$O33-5)),"") | H33: =IFERROR(IF(OR($O33="",INDEX('Execution Register'!$F$6:$F$105,$O33-5)=""),"",INDEX('Execution Register'!$F$6:$F$105,$O33-5)),"") | I33: =IFERROR(IF(OR($O33="",INDEX('Execution Register'!$G$6:$G$105,$O33-5)=""),"",INDEX('Execution Register'!$G$6:$G$105,$O33-5)),"") | J33: =IFERROR(IF(OR($O33="",INDEX('Execution Register'!$H$6:$H$105,$O33-5)=""),"",INDEX('Execution Register'!$H$6:$H$105,$O33-5)),"") | K33: =IFERROR(IF(OR($O33="",INDEX('Execution Register'!$I$6:$I$105,$O33-5)=""),"",INDEX('Execution Register'!$I$6:$I$105,$O33-5)),"") | L33: =IFERROR(IF(OR($O33="",INDEX('Execution Register'!$J$6:$J$105,$O33-5)=""),"",INDEX('Execution Register'!$J$6:$J$105,$O33-5)),"") | M33: =IFERROR(IF(OR($O33="",INDEX('Execution Register'!$K$6:$K$105,$O33-5)=""),"",INDEX('Execution Register'!$K$6:$K$105,$O33-5)),"") | N33: =IFERROR(IF(OR($O33="",INDEX('Execution Register'!$L$6:$L$105,$O33-5)=""),"",INDEX('Execution Register'!$L$6:$L$105,$O33-5)),"") | O33: =IFERROR(AGGREGATE(15,6,ROW('Execution Register'!$A$6:$A$105)/(LEFT('Execution Register'!$N$6:$N$105,6)="Open -"),23),"")
A34: =IFERROR(IF(OR($O34="",INDEX('Execution Register'!$A$6:$A$105,$O34-5)=""),"",INDEX('Execution Register'!$A$6:$A$105,$O34-5)),"") | B34: =IFERROR(IF(OR($O34="",INDEX('Execution Register'!$B$6:$B$105,$O34-5)=""),"",INDEX('Execution Register'!$B$6:$B$105,$O34-5)),"") | C34: =IFERROR(IF(OR($O34="",INDEX('Execution Register'!$C$6:$C$105,$O34-5)=""),"",INDEX('Execution Register'!$C$6:$C$105,$O34-5)),"") | D34: =IFERROR(IF(OR($O34="",INDEX('Execution Register'!$D$6:$D$105,$O34-5)=""),"",INDEX('Execution Register'!$D$6:$D$105,$O34-5)),"") | E34: =IFERROR(IF(OR($O34="",INDEX('Execution Register'!$M$6:$M$105,$O34-5)=""),"",INDEX('Execution Register'!$M$6:$M$105,$O34-5)),"") | F34: =IFERROR(IF(OR($O34="",INDEX('Execution Register'!$N$6:$N$105,$O34-5)=""),"",INDEX('Execution Register'!$N$6:$N$105,$O34-5)),"") | G34: =IFERROR(IF(OR($O34="",INDEX('Execution Register'!$E$6:$E$105,$O34-5)=""),"",INDEX('Execution Register'!$E$6:$E$105,$O34-5)),"") | H34: =IFERROR(IF(OR($O34="",INDEX('Execution Register'!$F$6:$F$105,$O34-5)=""),"",INDEX('Execution Register'!$F$6:$F$105,$O34-5)),"") | I34: =IFERROR(IF(OR($O34="",INDEX('Execution Register'!$G$6:$G$105,$O34-5)=""),"",INDEX('Execution Register'!$G$6:$G$105,$O34-5)),"") | J34: =IFERROR(IF(OR($O34="",INDEX('Execution Register'!$H$6:$H$105,$O34-5)=""),"",INDEX('Execution Register'!$H$6:$H$105,$O34-5)),"") | K34: =IFERROR(IF(OR($O34="",INDEX('Execution Register'!$I$6:$I$105,$O34-5)=""),"",INDEX('Execution Register'!$I$6:$I$105,$O34-5)),"") | L34: =IFERROR(IF(OR($O34="",INDEX('Execution Register'!$J$6:$J$105,$O34-5)=""),"",INDEX('Execution Register'!$J$6:$J$105,$O34-5)),"") | M34: =IFERROR(IF(OR($O34="",INDEX('Execution Register'!$K$6:$K$105,$O34-5)=""),"",INDEX('Execution Register'!$K$6:$K$105,$O34-5)),"") | N34: =IFERROR(IF(OR($O34="",INDEX('Execution Register'!$L$6:$L$105,$O34-5)=""),"",INDEX('Execution Register'!$L$6:$L$105,$O34-5)),"") | O34: =IFERROR(AGGREGATE(15,6,ROW('Execution Register'!$A$6:$A$105)/(LEFT('Execution Register'!$N$6:$N$105,6)="Open -"),24),"")
A35: =IFERROR(IF(OR($O35="",INDEX('Execution Register'!$A$6:$A$105,$O35-5)=""),"",INDEX('Execution Register'!$A$6:$A$105,$O35-5)),"") | B35: =IFERROR(IF(OR($O35="",INDEX('Execution Register'!$B$6:$B$105,$O35-5)=""),"",INDEX('Execution Register'!$B$6:$B$105,$O35-5)),"") | C35: =IFERROR(IF(OR($O35="",INDEX('Execution Register'!$C$6:$C$105,$O35-5)=""),"",INDEX('Execution Register'!$C$6:$C$105,$O35-5)),"") | D35: =IFERROR(IF(OR($O35="",INDEX('Execution Register'!$D$6:$D$105,$O35-5)=""),"",INDEX('Execution Register'!$D$6:$D$105,$O35-5)),"") | E35: =IFERROR(IF(OR($O35="",INDEX('Execution Register'!$M$6:$M$105,$O35-5)=""),"",INDEX('Execution Register'!$M$6:$M$105,$O35-5)),"") | F35: =IFERROR(IF(OR($O35="",INDEX('Execution Register'!$N$6:$N$105,$O35-5)=""),"",INDEX('Execution Register'!$N$6:$N$105,$O35-5)),"") | G35: =IFERROR(IF(OR($O35="",INDEX('Execution Register'!$E$6:$E$105,$O35-5)=""),"",INDEX('Execution Register'!$E$6:$E$105,$O35-5)),"") | H35: =IFERROR(IF(OR($O35="",INDEX('Execution Register'!$F$6:$F$105,$O35-5)=""),"",INDEX('Execution Register'!$F$6:$F$105,$O35-5)),"") | I35: =IFERROR(IF(OR($O35="",INDEX('Execution Register'!$G$6:$G$105,$O35-5)=""),"",INDEX('Execution Register'!$G$6:$G$105,$O35-5)),"") | J35: =IFERROR(IF(OR($O35="",INDEX('Execution Register'!$H$6:$H$105,$O35-5)=""),"",INDEX('Execution Register'!$H$6:$H$105,$O35-5)),"") | K35: =IFERROR(IF(OR($O35="",INDEX('Execution Register'!$I$6:$I$105,$O35-5)=""),"",INDEX('Execution Register'!$I$6:$I$105,$O35-5)),"") | L35: =IFERROR(IF(OR($O35="",INDEX('Execution Register'!$J$6:$J$105,$O35-5)=""),"",INDEX('Execution Register'!$J$6:$J$105,$O35-5)),"") | M35: =IFERROR(IF(OR($O35="",INDEX('Execution Register'!$K$6:$K$105,$O35-5)=""),"",INDEX('Execution Register'!$K$6:$K$105,$O35-5)),"") | N35: =IFERROR(IF(OR($O35="",INDEX('Execution Register'!$L$6:$L$105,$O35-5)=""),"",INDEX('Execution Register'!$L$6:$L$105,$O35-5)),"") | O35: =IFERROR(AGGREGATE(15,6,ROW('Execution Register'!$A$6:$A$105)/(LEFT('Execution Register'!$N$6:$N$105,6)="Open -"),25),"")
A36: =IFERROR(IF(OR($O36="",INDEX('Execution Register'!$A$6:$A$105,$O36-5)=""),"",INDEX('Execution Register'!$A$6:$A$105,$O36-5)),"") | B36: =IFERROR(IF(OR($O36="",INDEX('Execution Register'!$B$6:$B$105,$O36-5)=""),"",INDEX('Execution Register'!$B$6:$B$105,$O36-5)),"") | C36: =IFERROR(IF(OR($O36="",INDEX('Execution Register'!$C$6:$C$105,$O36-5)=""),"",INDEX('Execution Register'!$C$6:$C$105,$O36-5)),"") | D36: =IFERROR(IF(OR($O36="",INDEX('Execution Register'!$D$6:$D$105,$O36-5)=""),"",INDEX('Execution Register'!$D$6:$D$105,$O36-5)),"") | E36: =IFERROR(IF(OR($O36="",INDEX('Execution Register'!$M$6:$M$105,$O36-5)=""),"",INDEX('Execution Register'!$M$6:$M$105,$O36-5)),"") | F36: =IFERROR(IF(OR($O36="",INDEX('Execution Register'!$N$6:$N$105,$O36-5)=""),"",INDEX('Execution Register'!$N$6:$N$105,$O36-5)),"") | G36: =IFERROR(IF(OR($O36="",INDEX('Execution Register'!$E$6:$E$105,$O36-5)=""),"",INDEX('Execution Register'!$E$6:$E$105,$O36-5)),"") | H36: =IFERROR(IF(OR($O36="",INDEX('Execution Register'!$F$6:$F$105,$O36-5)=""),"",INDEX('Execution Register'!$F$6:$F$105,$O36-5)),"") | I36: =IFERROR(IF(OR($O36="",INDEX('Execution Register'!$G$6:$G$105,$O36-5)=""),"",INDEX('Execution Register'!$G$6:$G$105,$O36-5)),"") | J36: =IFERROR(IF(OR($O36="",INDEX('Execution Register'!$H$6:$H$105,$O36-5)=""),"",INDEX('Execution Register'!$H$6:$H$105,$O36-5)),"") | K36: =IFERROR(IF(OR($O36="",INDEX('Execution Register'!$I$6:$I$105,$O36-5)=""),"",INDEX('Execution Register'!$I$6:$I$105,$O36-5)),"") | L36: =IFERROR(IF(OR($O36="",INDEX('Execution Register'!$J$6:$J$105,$O36-5)=""),"",INDEX('Execution Register'!$J$6:$J$105,$O36-5)),"") | M36: =IFERROR(IF(OR($O36="",INDEX('Execution Register'!$K$6:$K$105,$O36-5)=""),"",INDEX('Execution Register'!$K$6:$K$105,$O36-5)),"") | N36: =IFERROR(IF(OR($O36="",INDEX('Execution Register'!$L$6:$L$105,$O36-5)=""),"",INDEX('Execution Register'!$L$6:$L$105,$O36-5)),"") | O36: =IFERROR(AGGREGATE(15,6,ROW('Execution Register'!$A$6:$A$105)/(LEFT('Execution Register'!$N$6:$N$105,6)="Open -"),26),"")
A37: =IFERROR(IF(OR($O37="",INDEX('Execution Register'!$A$6:$A$105,$O37-5)=""),"",INDEX('Execution Register'!$A$6:$A$105,$O37-5)),"") | B37: =IFERROR(IF(OR($O37="",INDEX('Execution Register'!$B$6:$B$105,$O37-5)=""),"",INDEX('Execution Register'!$B$6:$B$105,$O37-5)),"") | C37: =IFERROR(IF(OR($O37="",INDEX('Execution Register'!$C$6:$C$105,$O37-5)=""),"",INDEX('Execution Register'!$C$6:$C$105,$O37-5)),"") | D37: =IFERROR(IF(OR($O37="",INDEX('Execution Register'!$D$6:$D$105,$O37-5)=""),"",INDEX('Execution Register'!$D$6:$D$105,$O37-5)),"") | E37: =IFERROR(IF(OR($O37="",INDEX('Execution Register'!$M$6:$M$105,$O37-5)=""),"",INDEX('Execution Register'!$M$6:$M$105,$O37-5)),"") | F37: =IFERROR(IF(OR($O37="",INDEX('Execution Register'!$N$6:$N$105,$O37-5)=""),"",INDEX('Execution Register'!$N$6:$N$105,$O37-5)),"") | G37: =IFERROR(IF(OR($O37="",INDEX('Execution Register'!$E$6:$E$105,$O37-5)=""),"",INDEX('Execution Register'!$E$6:$E$105,$O37-5)),"") | H37: =IFERROR(IF(OR($O37="",INDEX('Execution Register'!$F$6:$F$105,$O37-5)=""),"",INDEX('Execution Register'!$F$6:$F$105,$O37-5)),"") | I37: =IFERROR(IF(OR($O37="",INDEX('Execution Register'!$G$6:$G$105,$O37-5)=""),"",INDEX('Execution Register'!$G$6:$G$105,$O37-5)),"") | J37: =IFERROR(IF(OR($O37="",INDEX('Execution Register'!$H$6:$H$105,$O37-5)=""),"",INDEX('Execution Register'!$H$6:$H$105,$O37-5)),"") | K37: =IFERROR(IF(OR($O37="",INDEX('Execution Register'!$I$6:$I$105,$O37-5)=""),"",INDEX('Execution Register'!$I$6:$I$105,$O37-5)),"") | L37: =IFERROR(IF(OR($O37="",INDEX('Execution Register'!$J$6:$J$105,$O37-5)=""),"",INDEX('Execution Register'!$J$6:$J$105,$O37-5)),"") | M37: =IFERROR(IF(OR($O37="",INDEX('Execution Register'!$K$6:$K$105,$O37-5)=""),"",INDEX('Execution Register'!$K$6:$K$105,$O37-5)),"") | N37: =IFERROR(IF(OR($O37="",INDEX('Execution Register'!$L$6:$L$105,$O37-5)=""),"",INDEX('Execution Register'!$L$6:$L$105,$O37-5)),"") | O37: =IFERROR(AGGREGATE(15,6,ROW('Execution Register'!$A$6:$A$105)/(LEFT('Execution Register'!$N$6:$N$105,6)="Open -"),27),"")
A38: =IFERROR(IF(OR($O38="",INDEX('Execution Register'!$A$6:$A$105,$O38-5)=""),"",INDEX('Execution Register'!$A$6:$A$105,$O38-5)),"") | B38: =IFERROR(IF(OR($O38="",INDEX('Execution Register'!$B$6:$B$105,$O38-5)=""),"",INDEX('Execution Register'!$B$6:$B$105,$O38-5)),"") | C38: =IFERROR(IF(OR($O38="",INDEX('Execution Register'!$C$6:$C$105,$O38-5)=""),"",INDEX('Execution Register'!$C$6:$C$105,$O38-5)),"") | D38: =IFERROR(IF(OR($O38="",INDEX('Execution Register'!$D$6:$D$105,$O38-5)=""),"",INDEX('Execution Register'!$D$6:$D$105,$O38-5)),"") | E38: =IFERROR(IF(OR($O38="",INDEX('Execution Register'!$M$6:$M$105,$O38-5)=""),"",INDEX('Execution Register'!$M$6:$M$105,$O38-5)),"") | F38: =IFERROR(IF(OR($O38="",INDEX('Execution Register'!$N$6:$N$105,$O38-5)=""),"",INDEX('Execution Register'!$N$6:$N$105,$O38-5)),"") | G38: =IFERROR(IF(OR($O38="",INDEX('Execution Register'!$E$6:$E$105,$O38-5)=""),"",INDEX('Execution Register'!$E$6:$E$105,$O38-5)),"") | H38: =IFERROR(IF(OR($O38="",INDEX('Execution Register'!$F$6:$F$105,$O38-5)=""),"",INDEX('Execution Register'!$F$6:$F$105,$O38-5)),"") | I38: =IFERROR(IF(OR($O38="",INDEX('Execution Register'!$G$6:$G$105,$O38-5)=""),"",INDEX('Execution Register'!$G$6:$G$105,$O38-5)),"") | J38: =IFERROR(IF(OR($O38="",INDEX('Execution Register'!$H$6:$H$105,$O38-5)=""),"",INDEX('Execution Register'!$H$6:$H$105,$O38-5)),"") | K38: =IFERROR(IF(OR($O38="",INDEX('Execution Register'!$I$6:$I$105,$O38-5)=""),"",INDEX('Execution Register'!$I$6:$I$105,$O38-5)),"") | L38: =IFERROR(IF(OR($O38="",INDEX('Execution Register'!$J$6:$J$105,$O38-5)=""),"",INDEX('Execution Register'!$J$6:$J$105,$O38-5)),"") | M38: =IFERROR(IF(OR($O38="",INDEX('Execution Register'!$K$6:$K$105,$O38-5)=""),"",INDEX('Execution Register'!$K$6:$K$105,$O38-5)),"") | N38: =IFERROR(IF(OR($O38="",INDEX('Execution Register'!$L$6:$L$105,$O38-5)=""),"",INDEX('Execution Register'!$L$6:$L$105,$O38-5)),"") | O38: =IFERROR(AGGREGATE(15,6,ROW('Execution Register'!$A$6:$A$105)/(LEFT('Execution Register'!$N$6:$N$105,6)="Open -"),28),"")
A39: =IFERROR(IF(OR($O39="",INDEX('Execution Register'!$A$6:$A$105,$O39-5)=""),"",INDEX('Execution Register'!$A$6:$A$105,$O39-5)),"") | B39: =IFERROR(IF(OR($O39="",INDEX('Execution Register'!$B$6:$B$105,$O39-5)=""),"",INDEX('Execution Register'!$B$6:$B$105,$O39-5)),"") | C39: =IFERROR(IF(OR($O39="",INDEX('Execution Register'!$C$6:$C$105,$O39-5)=""),"",INDEX('Execution Register'!$C$6:$C$105,$O39-5)),"") | D39: =IFERROR(IF(OR($O39="",INDEX('Execution Register'!$D$6:$D$105,$O39-5)=""),"",INDEX('Execution Register'!$D$6:$D$105,$O39-5)),"") | E39: =IFERROR(IF(OR($O39="",INDEX('Execution Register'!$M$6:$M$105,$O39-5)=""),"",INDEX('Execution Register'!$M$6:$M$105,$O39-5)),"") | F39: =IFERROR(IF(OR($O39="",INDEX('Execution Register'!$N$6:$N$105,$O39-5)=""),"",INDEX('Execution Register'!$N$6:$N$105,$O39-5)),"") | G39: =IFERROR(IF(OR($O39="",INDEX('Execution Register'!$E$6:$E$105,$O39-5)=""),"",INDEX('Execution Register'!$E$6:$E$105,$O39-5)),"") | H39: =IFERROR(IF(OR($O39="",INDEX('Execution Register'!$F$6:$F$105,$O39-5)=""),"",INDEX('Execution Register'!$F$6:$F$105,$O39-5)),"") | I39: =IFERROR(IF(OR($O39="",INDEX('Execution Register'!$G$6:$G$105,$O39-5)=""),"",INDEX('Execution Register'!$G$6:$G$105,$O39-5)),"") | J39: =IFERROR(IF(OR($O39="",INDEX('Execution Register'!$H$6:$H$105,$O39-5)=""),"",INDEX('Execution Register'!$H$6:$H$105,$O39-5)),"") | K39: =IFERROR(IF(OR($O39="",INDEX('Execution Register'!$I$6:$I$105,$O39-5)=""),"",INDEX('Execution Register'!$I$6:$I$105,$O39-5)),"") | L39: =IFERROR(IF(OR($O39="",INDEX('Execution Register'!$J$6:$J$105,$O39-5)=""),"",INDEX('Execution Register'!$J$6:$J$105,$O39-5)),"") | M39: =IFERROR(IF(OR($O39="",INDEX('Execution Register'!$K$6:$K$105,$O39-5)=""),"",INDEX('Execution Register'!$K$6:$K$105,$O39-5)),"") | N39: =IFERROR(IF(OR($O39="",INDEX('Execution Register'!$L$6:$L$105,$O39-5)=""),"",INDEX('Execution Register'!$L$6:$L$105,$O39-5)),"") | O39: =IFERROR(AGGREGATE(15,6,ROW('Execution Register'!$A$6:$A$105)/(LEFT('Execution Register'!$N$6:$N$105,6)="Open -"),29),"")
A40: =IFERROR(IF(OR($O40="",INDEX('Execution Register'!$A$6:$A$105,$O40-5)=""),"",INDEX('Execution Register'!$A$6:$A$105,$O40-5)),"") | B40: =IFERROR(IF(OR($O40="",INDEX('Execution Register'!$B$6:$B$105,$O40-5)=""),"",INDEX('Execution Register'!$B$6:$B$105,$O40-5)),"") | C40: =IFERROR(IF(OR($O40="",INDEX('Execution Register'!$C$6:$C$105,$O40-5)=""),"",INDEX('Execution Register'!$C$6:$C$105,$O40-5)),"") | D40: =IFERROR(IF(OR($O40="",INDEX('Execution Register'!$D$6:$D$105,$O40-5)=""),"",INDEX('Execution Register'!$D$6:$D$105,$O40-5)),"") | E40: =IFERROR(IF(OR($O40="",INDEX('Execution Register'!$M$6:$M$105,$O40-5)=""),"",INDEX('Execution Register'!$M$6:$M$105,$O40-5)),"") | F40: =IFERROR(IF(OR($O40="",INDEX('Execution Register'!$N$6:$N$105,$O40-5)=""),"",INDEX('Execution Register'!$N$6:$N$105,$O40-5)),"") | G40: =IFERROR(IF(OR($O40="",INDEX('Execution Register'!$E$6:$E$105,$O40-5)=""),"",INDEX('Execution Register'!$E$6:$E$105,$O40-5)),"") | H40: =IFERROR(IF(OR($O40="",INDEX('Execution Register'!$F$6:$F$105,$O40-5)=""),"",INDEX('Execution Register'!$F$6:$F$105,$O40-5)),"") | I40: =IFERROR(IF(OR($O40="",INDEX('Execution Register'!$G$6:$G$105,$O40-5)=""),"",INDEX('Execution Register'!$G$6:$G$105,$O40-5)),"") | J40: =IFERROR(IF(OR($O40="",INDEX('Execution Register'!$H$6:$H$105,$O40-5)=""),"",INDEX('Execution Register'!$H$6:$H$105,$O40-5)),"") | K40: =IFERROR(IF(OR($O40="",INDEX('Execution Register'!$I$6:$I$105,$O40-5)=""),"",INDEX('Execution Register'!$I$6:$I$105,$O40-5)),"") | L40: =IFERROR(IF(OR($O40="",INDEX('Execution Register'!$J$6:$J$105,$O40-5)=""),"",INDEX('Execution Register'!$J$6:$J$105,$O40-5)),"") | M40: =IFERROR(IF(OR($O40="",INDEX('Execution Register'!$K$6:$K$105,$O40-5)=""),"",INDEX('Execution Register'!$K$6:$K$105,$O40-5)),"") | N40: =IFERROR(IF(OR($O40="",INDEX('Execution Register'!$L$6:$L$105,$O40-5)=""),"",INDEX('Execution Register'!$L$6:$L$105,$O40-5)),"") | O40: =IFERROR(AGGREGATE(15,6,ROW('Execution Register'!$A$6:$A$105)/(LEFT('Execution Register'!$N$6:$N$105,6)="Open -"),30),"")
A41: =IFERROR(IF(OR($O41="",INDEX('Execution Register'!$A$6:$A$105,$O41-5)=""),"",INDEX('Execution Register'!$A$6:$A$105,$O41-5)),"") | B41: =IFERROR(IF(OR($O41="",INDEX('Execution Register'!$B$6:$B$105,$O41-5)=""),"",INDEX('Execution Register'!$B$6:$B$105,$O41-5)),"") | C41: =IFERROR(IF(OR($O41="",INDEX('Execution Register'!$C$6:$C$105,$O41-5)=""),"",INDEX('Execution Register'!$C$6:$C$105,$O41-5)),"") | D41: =IFERROR(IF(OR($O41="",INDEX('Execution Register'!$D$6:$D$105,$O41-5)=""),"",INDEX('Execution Register'!$D$6:$D$105,$O41-5)),"") | E41: =IFERROR(IF(OR($O41="",INDEX('Execution Register'!$M$6:$M$105,$O41-5)=""),"",INDEX('Execution Register'!$M$6:$M$105,$O41-5)),"") | F41: =IFERROR(IF(OR($O41="",INDEX('Execution Register'!$N$6:$N$105,$O41-5)=""),"",INDEX('Execution Register'!$N$6:$N$105,$O41-5)),"") | G41: =IFERROR(IF(OR($O41="",INDEX('Execution Register'!$E$6:$E$105,$O41-5)=""),"",INDEX('Execution Register'!$E$6:$E$105,$O41-5)),"") | H41: =IFERROR(IF(OR($O41="",INDEX('Execution Register'!$F$6:$F$105,$O41-5)=""),"",INDEX('Execution Register'!$F$6:$F$105,$O41-5)),"") | I41: =IFERROR(IF(OR($O41="",INDEX('Execution Register'!$G$6:$G$105,$O41-5)=""),"",INDEX('Execution Register'!$G$6:$G$105,$O41-5)),"") | J41: =IFERROR(IF(OR($O41="",INDEX('Execution Register'!$H$6:$H$105,$O41-5)=""),"",INDEX('Execution Register'!$H$6:$H$105,$O41-5)),"") | K41: =IFERROR(IF(OR($O41="",INDEX('Execution Register'!$I$6:$I$105,$O41-5)=""),"",INDEX('Execution Register'!$I$6:$I$105,$O41-5)),"") | L41: =IFERROR(IF(OR($O41="",INDEX('Execution Register'!$J$6:$J$105,$O41-5)=""),"",INDEX('Execution Register'!$J$6:$J$105,$O41-5)),"") | M41: =IFERROR(IF(OR($O41="",INDEX('Execution Register'!$K$6:$K$105,$O41-5)=""),"",INDEX('Execution Register'!$K$6:$K$105,$O41-5)),"") | N41: =IFERROR(IF(OR($O41="",INDEX('Execution Register'!$L$6:$L$105,$O41-5)=""),"",INDEX('Execution Register'!$L$6:$L$105,$O41-5)),"") | O41: =IFERROR(AGGREGATE(15,6,ROW('Execution Register'!$A$6:$A$105)/(LEFT('Execution Register'!$N$6:$N$105,6)="Open -"),31),"")
A42: =IFERROR(IF(OR($O42="",INDEX('Execution Register'!$A$6:$A$105,$O42-5)=""),"",INDEX('Execution Register'!$A$6:$A$105,$O42-5)),"") | B42: =IFERROR(IF(OR($O42="",INDEX('Execution Register'!$B$6:$B$105,$O42-5)=""),"",INDEX('Execution Register'!$B$6:$B$105,$O42-5)),"") | C42: =IFERROR(IF(OR($O42="",INDEX('Execution Register'!$C$6:$C$105,$O42-5)=""),"",INDEX('Execution Register'!$C$6:$C$105,$O42-5)),"") | D42: =IFERROR(IF(OR($O42="",INDEX('Execution Register'!$D$6:$D$105,$O42-5)=""),"",INDEX('Execution Register'!$D$6:$D$105,$O42-5)),"") | E42: =IFERROR(IF(OR($O42="",INDEX('Execution Register'!$M$6:$M$105,$O42-5)=""),"",INDEX('Execution Register'!$M$6:$M$105,$O42-5)),"") | F42: =IFERROR(IF(OR($O42="",INDEX('Execution Register'!$N$6:$N$105,$O42-5)=""),"",INDEX('Execution Register'!$N$6:$N$105,$O42-5)),"") | G42: =IFERROR(IF(OR($O42="",INDEX('Execution Register'!$E$6:$E$105,$O42-5)=""),"",INDEX('Execution Register'!$E$6:$E$105,$O42-5)),"") | H42: =IFERROR(IF(OR($O42="",INDEX('Execution Register'!$F$6:$F$105,$O42-5)=""),"",INDEX('Execution Register'!$F$6:$F$105,$O42-5)),"") | I42: =IFERROR(IF(OR($O42="",INDEX('Execution Register'!$G$6:$G$105,$O42-5)=""),"",INDEX('Execution Register'!$G$6:$G$105,$O42-5)),"") | J42: =IFERROR(IF(OR($O42="",INDEX('Execution Register'!$H$6:$H$105,$O42-5)=""),"",INDEX('Execution Register'!$H$6:$H$105,$O42-5)),"") | K42: =IFERROR(IF(OR($O42="",INDEX('Execution Register'!$I$6:$I$105,$O42-5)=""),"",INDEX('Execution Register'!$I$6:$I$105,$O42-5)),"") | L42: =IFERROR(IF(OR($O42="",INDEX('Execution Register'!$J$6:$J$105,$O42-5)=""),"",INDEX('Execution Register'!$J$6:$J$105,$O42-5)),"") | M42: =IFERROR(IF(OR($O42="",INDEX('Execution Register'!$K$6:$K$105,$O42-5)=""),"",INDEX('Execution Register'!$K$6:$K$105,$O42-5)),"") | N42: =IFERROR(IF(OR($O42="",INDEX('Execution Register'!$L$6:$L$105,$O42-5)=""),"",INDEX('Execution Register'!$L$6:$L$105,$O42-5)),"") | O42: =IFERROR(AGGREGATE(15,6,ROW('Execution Register'!$A$6:$A$105)/(LEFT('Execution Register'!$N$6:$N$105,6)="Open -"),32),"")
A43: =IFERROR(IF(OR($O43="",INDEX('Execution Register'!$A$6:$A$105,$O43-5)=""),"",INDEX('Execution Register'!$A$6:$A$105,$O43-5)),"") | B43: =IFERROR(IF(OR($O43="",INDEX('Execution Register'!$B$6:$B$105,$O43-5)=""),"",INDEX('Execution Register'!$B$6:$B$105,$O43-5)),"") | C43: =IFERROR(IF(OR($O43="",INDEX('Execution Register'!$C$6:$C$105,$O43-5)=""),"",INDEX('Execution Register'!$C$6:$C$105,$O43-5)),"") | D43: =IFERROR(IF(OR($O43="",INDEX('Execution Register'!$D$6:$D$105,$O43-5)=""),"",INDEX('Execution Register'!$D$6:$D$105,$O43-5)),"") | E43: =IFERROR(IF(OR($O43="",INDEX('Execution Register'!$M$6:$M$105,$O43-5)=""),"",INDEX('Execution Register'!$M$6:$M$105,$O43-5)),"") | F43: =IFERROR(IF(OR($O43="",INDEX('Execution Register'!$N$6:$N$105,$O43-5)=""),"",INDEX('Execution Register'!$N$6:$N$105,$O43-5)),"") | G43: =IFERROR(IF(OR($O43="",INDEX('Execution Register'!$E$6:$E$105,$O43-5)=""),"",INDEX('Execution Register'!$E$6:$E$105,$O43-5)),"") | H43: =IFERROR(IF(OR($O43="",INDEX('Execution Register'!$F$6:$F$105,$O43-5)=""),"",INDEX('Execution Register'!$F$6:$F$105,$O43-5)),"") | I43: =IFERROR(IF(OR($O43="",INDEX('Execution Register'!$G$6:$G$105,$O43-5)=""),"",INDEX('Execution Register'!$G$6:$G$105,$O43-5)),"") | J43: =IFERROR(IF(OR($O43="",INDEX('Execution Register'!$H$6:$H$105,$O43-5)=""),"",INDEX('Execution Register'!$H$6:$H$105,$O43-5)),"") | K43: =IFERROR(IF(OR($O43="",INDEX('Execution Register'!$I$6:$I$105,$O43-5)=""),"",INDEX('Execution Register'!$I$6:$I$105,$O43-5)),"") | L43: =IFERROR(IF(OR($O43="",INDEX('Execution Register'!$J$6:$J$105,$O43-5)=""),"",INDEX('Execution Register'!$J$6:$J$105,$O43-5)),"") | M43: =IFERROR(IF(OR($O43="",INDEX('Execution Register'!$K$6:$K$105,$O43-5)=""),"",INDEX('Execution Register'!$K$6:$K$105,$O43-5)),"") | N43: =IFERROR(IF(OR($O43="",INDEX('Execution Register'!$L$6:$L$105,$O43-5)=""),"",INDEX('Execution Register'!$L$6:$L$105,$O43-5)),"") | O43: =IFERROR(AGGREGATE(15,6,ROW('Execution Register'!$A$6:$A$105)/(LEFT('Execution Register'!$N$6:$N$105,6)="Open -"),33),"")
A44: =IFERROR(IF(OR($O44="",INDEX('Execution Register'!$A$6:$A$105,$O44-5)=""),"",INDEX('Execution Register'!$A$6:$A$105,$O44-5)),"") | B44: =IFERROR(IF(OR($O44="",INDEX('Execution Register'!$B$6:$B$105,$O44-5)=""),"",INDEX('Execution Register'!$B$6:$B$105,$O44-5)),"") | C44: =IFERROR(IF(OR($O44="",INDEX('Execution Register'!$C$6:$C$105,$O44-5)=""),"",INDEX('Execution Register'!$C$6:$C$105,$O44-5)),"") | D44: =IFERROR(IF(OR($O44="",INDEX('Execution Register'!$D$6:$D$105,$O44-5)=""),"",INDEX('Execution Register'!$D$6:$D$105,$O44-5)),"") | E44: =IFERROR(IF(OR($O44="",INDEX('Execution Register'!$M$6:$M$105,$O44-5)=""),"",INDEX('Execution Register'!$M$6:$M$105,$O44-5)),"") | F44: =IFERROR(IF(OR($O44="",INDEX('Execution Register'!$N$6:$N$105,$O44-5)=""),"",INDEX('Execution Register'!$N$6:$N$105,$O44-5)),"") | G44: =IFERROR(IF(OR($O44="",INDEX('Execution Register'!$E$6:$E$105,$O44-5)=""),"",INDEX('Execution Register'!$E$6:$E$105,$O44-5)),"") | H44: =IFERROR(IF(OR($O44="",INDEX('Execution Register'!$F$6:$F$105,$O44-5)=""),"",INDEX('Execution Register'!$F$6:$F$105,$O44-5)),"") | I44: =IFERROR(IF(OR($O44="",INDEX('Execution Register'!$G$6:$G$105,$O44-5)=""),"",INDEX('Execution Register'!$G$6:$G$105,$O44-5)),"") | J44: =IFERROR(IF(OR($O44="",INDEX('Execution Register'!$H$6:$H$105,$O44-5)=""),"",INDEX('Execution Register'!$H$6:$H$105,$O44-5)),"") | K44: =IFERROR(IF(OR($O44="",INDEX('Execution Register'!$I$6:$I$105,$O44-5)=""),"",INDEX('Execution Register'!$I$6:$I$105,$O44-5)),"") | L44: =IFERROR(IF(OR($O44="",INDEX('Execution Register'!$J$6:$J$105,$O44-5)=""),"",INDEX('Execution Register'!$J$6:$J$105,$O44-5)),"") | M44: =IFERROR(IF(OR($O44="",INDEX('Execution Register'!$K$6:$K$105,$O44-5)=""),"",INDEX('Execution Register'!$K$6:$K$105,$O44-5)),"") | N44: =IFERROR(IF(OR($O44="",INDEX('Execution Register'!$L$6:$L$105,$O44-5)=""),"",INDEX('Execution Register'!$L$6:$L$105,$O44-5)),"") | O44: =IFERROR(AGGREGATE(15,6,ROW('Execution Register'!$A$6:$A$105)/(LEFT('Execution Register'!$N$6:$N$105,6)="Open -"),34),"")
A45: =IFERROR(IF(OR($O45="",INDEX('Execution Register'!$A$6:$A$105,$O45-5)=""),"",INDEX('Execution Register'!$A$6:$A$105,$O45-5)),"") | B45: =IFERROR(IF(OR($O45="",INDEX('Execution Register'!$B$6:$B$105,$O45-5)=""),"",INDEX('Execution Register'!$B$6:$B$105,$O45-5)),"") | C45: =IFERROR(IF(OR($O45="",INDEX('Execution Register'!$C$6:$C$105,$O45-5)=""),"",INDEX('Execution Register'!$C$6:$C$105,$O45-5)),"") | D45: =IFERROR(IF(OR($O45="",INDEX('Execution Register'!$D$6:$D$105,$O45-5)=""),"",INDEX('Execution Register'!$D$6:$D$105,$O45-5)),"") | E45: =IFERROR(IF(OR($O45="",INDEX('Execution Register'!$M$6:$M$105,$O45-5)=""),"",INDEX('Execution Register'!$M$6:$M$105,$O45-5)),"") | F45: =IFERROR(IF(OR($O45="",INDEX('Execution Register'!$N$6:$N$105,$O45-5)=""),"",INDEX('Execution Register'!$N$6:$N$105,$O45-5)),"") | G45: =IFERROR(IF(OR($O45="",INDEX('Execution Register'!$E$6:$E$105,$O45-5)=""),"",INDEX('Execution Register'!$E$6:$E$105,$O45-5)),"") | H45: =IFERROR(IF(OR($O45="",INDEX('Execution Register'!$F$6:$F$105,$O45-5)=""),"",INDEX('Execution Register'!$F$6:$F$105,$O45-5)),"") | I45: =IFERROR(IF(OR($O45="",INDEX('Execution Register'!$G$6:$G$105,$O45-5)=""),"",INDEX('Execution Register'!$G$6:$G$105,$O45-5)),"") | J45: =IFERROR(IF(OR($O45="",INDEX('Execution Register'!$H$6:$H$105,$O45-5)=""),"",INDEX('Execution Register'!$H$6:$H$105,$O45-5)),"") | K45: =IFERROR(IF(OR($O45="",INDEX('Execution Register'!$I$6:$I$105,$O45-5)=""),"",INDEX('Execution Register'!$I$6:$I$105,$O45-5)),"") | L45: =IFERROR(IF(OR($O45="",INDEX('Execution Register'!$J$6:$J$105,$O45-5)=""),"",INDEX('Execution Register'!$J$6:$J$105,$O45-5)),"") | M45: =IFERROR(IF(OR($O45="",INDEX('Execution Register'!$K$6:$K$105,$O45-5)=""),"",INDEX('Execution Register'!$K$6:$K$105,$O45-5)),"") | N45: =IFERROR(IF(OR($O45="",INDEX('Execution Register'!$L$6:$L$105,$O45-5)=""),"",INDEX('Execution Register'!$L$6:$L$105,$O45-5)),"") | O45: =IFERROR(AGGREGATE(15,6,ROW('Execution Register'!$A$6:$A$105)/(LEFT('Execution Register'!$N$6:$N$105,6)="Open -"),35),"")
A46: =IFERROR(IF(OR($O46="",INDEX('Execution Register'!$A$6:$A$105,$O46-5)=""),"",INDEX('Execution Register'!$A$6:$A$105,$O46-5)),"") | B46: =IFERROR(IF(OR($O46="",INDEX('Execution Register'!$B$6:$B$105,$O46-5)=""),"",INDEX('Execution Register'!$B$6:$B$105,$O46-5)),"") | C46: =IFERROR(IF(OR($O46="",INDEX('Execution Register'!$C$6:$C$105,$O46-5)=""),"",INDEX('Execution Register'!$C$6:$C$105,$O46-5)),"") | D46: =IFERROR(IF(OR($O46="",INDEX('Execution Register'!$D$6:$D$105,$O46-5)=""),"",INDEX('Execution Register'!$D$6:$D$105,$O46-5)),"") | E46: =IFERROR(IF(OR($O46="",INDEX('Execution Register'!$M$6:$M$105,$O46-5)=""),"",INDEX('Execution Register'!$M$6:$M$105,$O46-5)),"") | F46: =IFERROR(IF(OR($O46="",INDEX('Execution Register'!$N$6:$N$105,$O46-5)=""),"",INDEX('Execution Register'!$N$6:$N$105,$O46-5)),"") | G46: =IFERROR(IF(OR($O46="",INDEX('Execution Register'!$E$6:$E$105,$O46-5)=""),"",INDEX('Execution Register'!$E$6:$E$105,$O46-5)),"") | H46: =IFERROR(IF(OR($O46="",INDEX('Execution Register'!$F$6:$F$105,$O46-5)=""),"",INDEX('Execution Register'!$F$6:$F$105,$O46-5)),"") | I46: =IFERROR(IF(OR($O46="",INDEX('Execution Register'!$G$6:$G$105,$O46-5)=""),"",INDEX('Execution Register'!$G$6:$G$105,$O46-5)),"") | J46: =IFERROR(IF(OR($O46="",INDEX('Execution Register'!$H$6:$H$105,$O46-5)=""),"",INDEX('Execution Register'!$H$6:$H$105,$O46-5)),"") | K46: =IFERROR(IF(OR($O46="",INDEX('Execution Register'!$I$6:$I$105,$O46-5)=""),"",INDEX('Execution Register'!$I$6:$I$105,$O46-5)),"") | L46: =IFERROR(IF(OR($O46="",INDEX('Execution Register'!$J$6:$J$105,$O46-5)=""),"",INDEX('Execution Register'!$J$6:$J$105,$O46-5)),"") | M46: =IFERROR(IF(OR($O46="",INDEX('Execution Register'!$K$6:$K$105,$O46-5)=""),"",INDEX('Execution Register'!$K$6:$K$105,$O46-5)),"") | N46: =IFERROR(IF(OR($O46="",INDEX('Execution Register'!$L$6:$L$105,$O46-5)=""),"",INDEX('Execution Register'!$L$6:$L$105,$O46-5)),"") | O46: =IFERROR(AGGREGATE(15,6,ROW('Execution Register'!$A$6:$A$105)/(LEFT('Execution Register'!$N$6:$N$105,6)="Open -"),36),"")
A47: =IFERROR(IF(OR($O47="",INDEX('Execution Register'!$A$6:$A$105,$O47-5)=""),"",INDEX('Execution Register'!$A$6:$A$105,$O47-5)),"") | B47: =IFERROR(IF(OR($O47="",INDEX('Execution Register'!$B$6:$B$105,$O47-5)=""),"",INDEX('Execution Register'!$B$6:$B$105,$O47-5)),"") | C47: =IFERROR(IF(OR($O47="",INDEX('Execution Register'!$C$6:$C$105,$O47-5)=""),"",INDEX('Execution Register'!$C$6:$C$105,$O47-5)),"") | D47: =IFERROR(IF(OR($O47="",INDEX('Execution Register'!$D$6:$D$105,$O47-5)=""),"",INDEX('Execution Register'!$D$6:$D$105,$O47-5)),"") | E47: =IFERROR(IF(OR($O47="",INDEX('Execution Register'!$M$6:$M$105,$O47-5)=""),"",INDEX('Execution Register'!$M$6:$M$105,$O47-5)),"") | F47: =IFERROR(IF(OR($O47="",INDEX('Execution Register'!$N$6:$N$105,$O47-5)=""),"",INDEX('Execution Register'!$N$6:$N$105,$O47-5)),"") | G47: =IFERROR(IF(OR($O47="",INDEX('Execution Register'!$E$6:$E$105,$O47-5)=""),"",INDEX('Execution Register'!$E$6:$E$105,$O47-5)),"") | H47: =IFERROR(IF(OR($O47="",INDEX('Execution Register'!$F$6:$F$105,$O47-5)=""),"",INDEX('Execution Register'!$F$6:$F$105,$O47-5)),"") | I47: =IFERROR(IF(OR($O47="",INDEX('Execution Register'!$G$6:$G$105,$O47-5)=""),"",INDEX('Execution Register'!$G$6:$G$105,$O47-5)),"") | J47: =IFERROR(IF(OR($O47="",INDEX('Execution Register'!$H$6:$H$105,$O47-5)=""),"",INDEX('Execution Register'!$H$6:$H$105,$O47-5)),"") | K47: =IFERROR(IF(OR($O47="",INDEX('Execution Register'!$I$6:$I$105,$O47-5)=""),"",INDEX('Execution Register'!$I$6:$I$105,$O47-5)),"") | L47: =IFERROR(IF(OR($O47="",INDEX('Execution Register'!$J$6:$J$105,$O47-5)=""),"",INDEX('Execution Register'!$J$6:$J$105,$O47-5)),"") | M47: =IFERROR(IF(OR($O47="",INDEX('Execution Register'!$K$6:$K$105,$O47-5)=""),"",INDEX('Execution Register'!$K$6:$K$105,$O47-5)),"") | N47: =IFERROR(IF(OR($O47="",INDEX('Execution Register'!$L$6:$L$105,$O47-5)=""),"",INDEX('Execution Register'!$L$6:$L$105,$O47-5)),"") | O47: =IFERROR(AGGREGATE(15,6,ROW('Execution Register'!$A$6:$A$105)/(LEFT('Execution Register'!$N$6:$N$105,6)="Open -"),37),"")
A48: =IFERROR(IF(OR($O48="",INDEX('Execution Register'!$A$6:$A$105,$O48-5)=""),"",INDEX('Execution Register'!$A$6:$A$105,$O48-5)),"") | B48: =IFERROR(IF(OR($O48="",INDEX('Execution Register'!$B$6:$B$105,$O48-5)=""),"",INDEX('Execution Register'!$B$6:$B$105,$O48-5)),"") | C48: =IFERROR(IF(OR($O48="",INDEX('Execution Register'!$C$6:$C$105,$O48-5)=""),"",INDEX('Execution Register'!$C$6:$C$105,$O48-5)),"") | D48: =IFERROR(IF(OR($O48="",INDEX('Execution Register'!$D$6:$D$105,$O48-5)=""),"",INDEX('Execution Register'!$D$6:$D$105,$O48-5)),"") | E48: =IFERROR(IF(OR($O48="",INDEX('Execution Register'!$M$6:$M$105,$O48-5)=""),"",INDEX('Execution Register'!$M$6:$M$105,$O48-5)),"") | F48: =IFERROR(IF(OR($O48="",INDEX('Execution Register'!$N$6:$N$105,$O48-5)=""),"",INDEX('Execution Register'!$N$6:$N$105,$O48-5)),"") | G48: =IFERROR(IF(OR($O48="",INDEX('Execution Register'!$E$6:$E$105,$O48-5)=""),"",INDEX('Execution Register'!$E$6:$E$105,$O48-5)),"") | H48: =IFERROR(IF(OR($O48="",INDEX('Execution Register'!$F$6:$F$105,$O48-5)=""),"",INDEX('Execution Register'!$F$6:$F$105,$O48-5)),"") | I48: =IFERROR(IF(OR($O48="",INDEX('Execution Register'!$G$6:$G$105,$O48-5)=""),"",INDEX('Execution Register'!$G$6:$G$105,$O48-5)),"") | J48: =IFERROR(IF(OR($O48="",INDEX('Execution Register'!$H$6:$H$105,$O48-5)=""),"",INDEX('Execution Register'!$H$6:$H$105,$O48-5)),"") | K48: =IFERROR(IF(OR($O48="",INDEX('Execution Register'!$I$6:$I$105,$O48-5)=""),"",INDEX('Execution Register'!$I$6:$I$105,$O48-5)),"") | L48: =IFERROR(IF(OR($O48="",INDEX('Execution Register'!$J$6:$J$105,$O48-5)=""),"",INDEX('Execution Register'!$J$6:$J$105,$O48-5)),"") | M48: =IFERROR(IF(OR($O48="",INDEX('Execution Register'!$K$6:$K$105,$O48-5)=""),"",INDEX('Execution Register'!$K$6:$K$105,$O48-5)),"") | N48: =IFERROR(IF(OR($O48="",INDEX('Execution Register'!$L$6:$L$105,$O48-5)=""),"",INDEX('Execution Register'!$L$6:$L$105,$O48-5)),"") | O48: =IFERROR(AGGREGATE(15,6,ROW('Execution Register'!$A$6:$A$105)/(LEFT('Execution Register'!$N$6:$N$105,6)="Open -"),38),"")
A49: =IFERROR(IF(OR($O49="",INDEX('Execution Register'!$A$6:$A$105,$O49-5)=""),"",INDEX('Execution Register'!$A$6:$A$105,$O49-5)),"") | B49: =IFERROR(IF(OR($O49="",INDEX('Execution Register'!$B$6:$B$105,$O49-5)=""),"",INDEX('Execution Register'!$B$6:$B$105,$O49-5)),"") | C49: =IFERROR(IF(OR($O49="",INDEX('Execution Register'!$C$6:$C$105,$O49-5)=""),"",INDEX('Execution Register'!$C$6:$C$105,$O49-5)),"") | D49: =IFERROR(IF(OR($O49="",INDEX('Execution Register'!$D$6:$D$105,$O49-5)=""),"",INDEX('Execution Register'!$D$6:$D$105,$O49-5)),"") | E49: =IFERROR(IF(OR($O49="",INDEX('Execution Register'!$M$6:$M$105,$O49-5)=""),"",INDEX('Execution Register'!$M$6:$M$105,$O49-5)),"") | F49: =IFERROR(IF(OR($O49="",INDEX('Execution Register'!$N$6:$N$105,$O49-5)=""),"",INDEX('Execution Register'!$N$6:$N$105,$O49-5)),"") | G49: =IFERROR(IF(OR($O49="",INDEX('Execution Register'!$E$6:$E$105,$O49-5)=""),"",INDEX('Execution Register'!$E$6:$E$105,$O49-5)),"") | H49: =IFERROR(IF(OR($O49="",INDEX('Execution Register'!$F$6:$F$105,$O49-5)=""),"",INDEX('Execution Register'!$F$6:$F$105,$O49-5)),"") | I49: =IFERROR(IF(OR($O49="",INDEX('Execution Register'!$G$6:$G$105,$O49-5)=""),"",INDEX('Execution Register'!$G$6:$G$105,$O49-5)),"") | J49: =IFERROR(IF(OR($O49="",INDEX('Execution Register'!$H$6:$H$105,$O49-5)=""),"",INDEX('Execution Register'!$H$6:$H$105,$O49-5)),"") | K49: =IFERROR(IF(OR($O49="",INDEX('Execution Register'!$I$6:$I$105,$O49-5)=""),"",INDEX('Execution Register'!$I$6:$I$105,$O49-5)),"") | L49: =IFERROR(IF(OR($O49="",INDEX('Execution Register'!$J$6:$J$105,$O49-5)=""),"",INDEX('Execution Register'!$J$6:$J$105,$O49-5)),"") | M49: =IFERROR(IF(OR($O49="",INDEX('Execution Register'!$K$6:$K$105,$O49-5)=""),"",INDEX('Execution Register'!$K$6:$K$105,$O49-5)),"") | N49: =IFERROR(IF(OR($O49="",INDEX('Execution Register'!$L$6:$L$105,$O49-5)=""),"",INDEX('Execution Register'!$L$6:$L$105,$O49-5)),"") | O49: =IFERROR(AGGREGATE(15,6,ROW('Execution Register'!$A$6:$A$105)/(LEFT('Execution Register'!$N$6:$N$105,6)="Open -"),39),"")
A50: =IFERROR(IF(OR($O50="",INDEX('Execution Register'!$A$6:$A$105,$O50-5)=""),"",INDEX('Execution Register'!$A$6:$A$105,$O50-5)),"") | B50: =IFERROR(IF(OR($O50="",INDEX('Execution Register'!$B$6:$B$105,$O50-5)=""),"",INDEX('Execution Register'!$B$6:$B$105,$O50-5)),"") | C50: =IFERROR(IF(OR($O50="",INDEX('Execution Register'!$C$6:$C$105,$O50-5)=""),"",INDEX('Execution Register'!$C$6:$C$105,$O50-5)),"") | D50: =IFERROR(IF(OR($O50="",INDEX('Execution Register'!$D$6:$D$105,$O50-5)=""),"",INDEX('Execution Register'!$D$6:$D$105,$O50-5)),"") | E50: =IFERROR(IF(OR($O50="",INDEX('Execution Register'!$M$6:$M$105,$O50-5)=""),"",INDEX('Execution Register'!$M$6:$M$105,$O50-5)),"") | F50: =IFERROR(IF(OR($O50="",INDEX('Execution Register'!$N$6:$N$105,$O50-5)=""),"",INDEX('Execution Register'!$N$6:$N$105,$O50-5)),"") | G50: =IFERROR(IF(OR($O50="",INDEX('Execution Register'!$E$6:$E$105,$O50-5)=""),"",INDEX('Execution Register'!$E$6:$E$105,$O50-5)),"") | H50: =IFERROR(IF(OR($O50="",INDEX('Execution Register'!$F$6:$F$105,$O50-5)=""),"",INDEX('Execution Register'!$F$6:$F$105,$O50-5)),"") | I50: =IFERROR(IF(OR($O50="",INDEX('Execution Register'!$G$6:$G$105,$O50-5)=""),"",INDEX('Execution Register'!$G$6:$G$105,$O50-5)),"") | J50: =IFERROR(IF(OR($O50="",INDEX('Execution Register'!$H$6:$H$105,$O50-5)=""),"",INDEX('Execution Register'!$H$6:$H$105,$O50-5)),"") | K50: =IFERROR(IF(OR($O50="",INDEX('Execution Register'!$I$6:$I$105,$O50-5)=""),"",INDEX('Execution Register'!$I$6:$I$105,$O50-5)),"") | L50: =IFERROR(IF(OR($O50="",INDEX('Execution Register'!$J$6:$J$105,$O50-5)=""),"",INDEX('Execution Register'!$J$6:$J$105,$O50-5)),"") | M50: =IFERROR(IF(OR($O50="",INDEX('Execution Register'!$K$6:$K$105,$O50-5)=""),"",INDEX('Execution Register'!$K$6:$K$105,$O50-5)),"") | N50: =IFERROR(IF(OR($O50="",INDEX('Execution Register'!$L$6:$L$105,$O50-5)=""),"",INDEX('Execution Register'!$L$6:$L$105,$O50-5)),"") | O50: =IFERROR(AGGREGATE(15,6,ROW('Execution Register'!$A$6:$A$105)/(LEFT('Execution Register'!$N$6:$N$105,6)="Open -"),40),"")
A51: =IFERROR(IF(OR($O51="",INDEX('Execution Register'!$A$6:$A$105,$O51-5)=""),"",INDEX('Execution Register'!$A$6:$A$105,$O51-5)),"") | B51: =IFERROR(IF(OR($O51="",INDEX('Execution Register'!$B$6:$B$105,$O51-5)=""),"",INDEX('Execution Register'!$B$6:$B$105,$O51-5)),"") | C51: =IFERROR(IF(OR($O51="",INDEX('Execution Register'!$C$6:$C$105,$O51-5)=""),"",INDEX('Execution Register'!$C$6:$C$105,$O51-5)),"") | D51: =IFERROR(IF(OR($O51="",INDEX('Execution Register'!$D$6:$D$105,$O51-5)=""),"",INDEX('Execution Register'!$D$6:$D$105,$O51-5)),"") | E51: =IFERROR(IF(OR($O51="",INDEX('Execution Register'!$M$6:$M$105,$O51-5)=""),"",INDEX('Execution Register'!$M$6:$M$105,$O51-5)),"") | F51: =IFERROR(IF(OR($O51="",INDEX('Execution Register'!$N$6:$N$105,$O51-5)=""),"",INDEX('Execution Register'!$N$6:$N$105,$O51-5)),"") | G51: =IFERROR(IF(OR($O51="",INDEX('Execution Register'!$E$6:$E$105,$O51-5)=""),"",INDEX('Execution Register'!$E$6:$E$105,$O51-5)),"") | H51: =IFERROR(IF(OR($O51="",INDEX('Execution Register'!$F$6:$F$105,$O51-5)=""),"",INDEX('Execution Register'!$F$6:$F$105,$O51-5)),"") | I51: =IFERROR(IF(OR($O51="",INDEX('Execution Register'!$G$6:$G$105,$O51-5)=""),"",INDEX('Execution Register'!$G$6:$G$105,$O51-5)),"") | J51: =IFERROR(IF(OR($O51="",INDEX('Execution Register'!$H$6:$H$105,$O51-5)=""),"",INDEX('Execution Register'!$H$6:$H$105,$O51-5)),"") | K51: =IFERROR(IF(OR($O51="",INDEX('Execution Register'!$I$6:$I$105,$O51-5)=""),"",INDEX('Execution Register'!$I$6:$I$105,$O51-5)),"") | L51: =IFERROR(IF(OR($O51="",INDEX('Execution Register'!$J$6:$J$105,$O51-5)=""),"",INDEX('Execution Register'!$J$6:$J$105,$O51-5)),"") | M51: =IFERROR(IF(OR($O51="",INDEX('Execution Register'!$K$6:$K$105,$O51-5)=""),"",INDEX('Execution Register'!$K$6:$K$105,$O51-5)),"") | N51: =IFERROR(IF(OR($O51="",INDEX('Execution Register'!$L$6:$L$105,$O51-5)=""),"",INDEX('Execution Register'!$L$6:$L$105,$O51-5)),"") | O51: =IFERROR(AGGREGATE(15,6,ROW('Execution Register'!$A$6:$A$105)/(LEFT('Execution Register'!$N$6:$N$105,6)="Open -"),41),"")
A52: =IFERROR(IF(OR($O52="",INDEX('Execution Register'!$A$6:$A$105,$O52-5)=""),"",INDEX('Execution Register'!$A$6:$A$105,$O52-5)),"") | B52: =IFERROR(IF(OR($O52="",INDEX('Execution Register'!$B$6:$B$105,$O52-5)=""),"",INDEX('Execution Register'!$B$6:$B$105,$O52-5)),"") | C52: =IFERROR(IF(OR($O52="",INDEX('Execution Register'!$C$6:$C$105,$O52-5)=""),"",INDEX('Execution Register'!$C$6:$C$105,$O52-5)),"") | D52: =IFERROR(IF(OR($O52="",INDEX('Execution Register'!$D$6:$D$105,$O52-5)=""),"",INDEX('Execution Register'!$D$6:$D$105,$O52-5)),"") | E52: =IFERROR(IF(OR($O52="",INDEX('Execution Register'!$M$6:$M$105,$O52-5)=""),"",INDEX('Execution Register'!$M$6:$M$105,$O52-5)),"") | F52: =IFERROR(IF(OR($O52="",INDEX('Execution Register'!$N$6:$N$105,$O52-5)=""),"",INDEX('Execution Register'!$N$6:$N$105,$O52-5)),"") | G52: =IFERROR(IF(OR($O52="",INDEX('Execution Register'!$E$6:$E$105,$O52-5)=""),"",INDEX('Execution Register'!$E$6:$E$105,$O52-5)),"") | H52: =IFERROR(IF(OR($O52="",INDEX('Execution Register'!$F$6:$F$105,$O52-5)=""),"",INDEX('Execution Register'!$F$6:$F$105,$O52-5)),"") | I52: =IFERROR(IF(OR($O52="",INDEX('Execution Register'!$G$6:$G$105,$O52-5)=""),"",INDEX('Execution Register'!$G$6:$G$105,$O52-5)),"") | J52: =IFERROR(IF(OR($O52="",INDEX('Execution Register'!$H$6:$H$105,$O52-5)=""),"",INDEX('Execution Register'!$H$6:$H$105,$O52-5)),"") | K52: =IFERROR(IF(OR($O52="",INDEX('Execution Register'!$I$6:$I$105,$O52-5)=""),"",INDEX('Execution Register'!$I$6:$I$105,$O52-5)),"") | L52: =IFERROR(IF(OR($O52="",INDEX('Execution Register'!$J$6:$J$105,$O52-5)=""),"",INDEX('Execution Register'!$J$6:$J$105,$O52-5)),"") | M52: =IFERROR(IF(OR($O52="",INDEX('Execution Register'!$K$6:$K$105,$O52-5)=""),"",INDEX('Execution Register'!$K$6:$K$105,$O52-5)),"") | N52: =IFERROR(IF(OR($O52="",INDEX('Execution Register'!$L$6:$L$105,$O52-5)=""),"",INDEX('Execution Register'!$L$6:$L$105,$O52-5)),"") | O52: =IFERROR(AGGREGATE(15,6,ROW('Execution Register'!$A$6:$A$105)/(LEFT('Execution Register'!$N$6:$N$105,6)="Open -"),42),"")
A53: =IFERROR(IF(OR($O53="",INDEX('Execution Register'!$A$6:$A$105,$O53-5)=""),"",INDEX('Execution Register'!$A$6:$A$105,$O53-5)),"") | B53: =IFERROR(IF(OR($O53="",INDEX('Execution Register'!$B$6:$B$105,$O53-5)=""),"",INDEX('Execution Register'!$B$6:$B$105,$O53-5)),"") | C53: =IFERROR(IF(OR($O53="",INDEX('Execution Register'!$C$6:$C$105,$O53-5)=""),"",INDEX('Execution Register'!$C$6:$C$105,$O53-5)),"") | D53: =IFERROR(IF(OR($O53="",INDEX('Execution Register'!$D$6:$D$105,$O53-5)=""),"",INDEX('Execution Register'!$D$6:$D$105,$O53-5)),"") | E53: =IFERROR(IF(OR($O53="",INDEX('Execution Register'!$M$6:$M$105,$O53-5)=""),"",INDEX('Execution Register'!$M$6:$M$105,$O53-5)),"") | F53: =IFERROR(IF(OR($O53="",INDEX('Execution Register'!$N$6:$N$105,$O53-5)=""),"",INDEX('Execution Register'!$N$6:$N$105,$O53-5)),"") | G53: =IFERROR(IF(OR($O53="",INDEX('Execution Register'!$E$6:$E$105,$O53-5)=""),"",INDEX('Execution Register'!$E$6:$E$105,$O53-5)),"") | H53: =IFERROR(IF(OR($O53="",INDEX('Execution Register'!$F$6:$F$105,$O53-5)=""),"",INDEX('Execution Register'!$F$6:$F$105,$O53-5)),"") | I53: =IFERROR(IF(OR($O53="",INDEX('Execution Register'!$G$6:$G$105,$O53-5)=""),"",INDEX('Execution Register'!$G$6:$G$105,$O53-5)),"") | J53: =IFERROR(IF(OR($O53="",INDEX('Execution Register'!$H$6:$H$105,$O53-5)=""),"",INDEX('Execution Register'!$H$6:$H$105,$O53-5)),"") | K53: =IFERROR(IF(OR($O53="",INDEX('Execution Register'!$I$6:$I$105,$O53-5)=""),"",INDEX('Execution Register'!$I$6:$I$105,$O53-5)),"") | L53: =IFERROR(IF(OR($O53="",INDEX('Execution Register'!$J$6:$J$105,$O53-5)=""),"",INDEX('Execution Register'!$J$6:$J$105,$O53-5)),"") | M53: =IFERROR(IF(OR($O53="",INDEX('Execution Register'!$K$6:$K$105,$O53-5)=""),"",INDEX('Execution Register'!$K$6:$K$105,$O53-5)),"") | N53: =IFERROR(IF(OR($O53="",INDEX('Execution Register'!$L$6:$L$105,$O53-5)=""),"",INDEX('Execution Register'!$L$6:$L$105,$O53-5)),"") | O53: =IFERROR(AGGREGATE(15,6,ROW('Execution Register'!$A$6:$A$105)/(LEFT('Execution Register'!$N$6:$N$105,6)="Open -"),43),"")
A54: =IFERROR(IF(OR($O54="",INDEX('Execution Register'!$A$6:$A$105,$O54-5)=""),"",INDEX('Execution Register'!$A$6:$A$105,$O54-5)),"") | B54: =IFERROR(IF(OR($O54="",INDEX('Execution Register'!$B$6:$B$105,$O54-5)=""),"",INDEX('Execution Register'!$B$6:$B$105,$O54-5)),"") | C54: =IFERROR(IF(OR($O54="",INDEX('Execution Register'!$C$6:$C$105,$O54-5)=""),"",INDEX('Execution Register'!$C$6:$C$105,$O54-5)),"") | D54: =IFERROR(IF(OR($O54="",INDEX('Execution Register'!$D$6:$D$105,$O54-5)=""),"",INDEX('Execution Register'!$D$6:$D$105,$O54-5)),"") | E54: =IFERROR(IF(OR($O54="",INDEX('Execution Register'!$M$6:$M$105,$O54-5)=""),"",INDEX('Execution Register'!$M$6:$M$105,$O54-5)),"") | F54: =IFERROR(IF(OR($O54="",INDEX('Execution Register'!$N$6:$N$105,$O54-5)=""),"",INDEX('Execution Register'!$N$6:$N$105,$O54-5)),"") | G54: =IFERROR(IF(OR($O54="",INDEX('Execution Register'!$E$6:$E$105,$O54-5)=""),"",INDEX('Execution Register'!$E$6:$E$105,$O54-5)),"") | H54: =IFERROR(IF(OR($O54="",INDEX('Execution Register'!$F$6:$F$105,$O54-5)=""),"",INDEX('Execution Register'!$F$6:$F$105,$O54-5)),"") | I54: =IFERROR(IF(OR($O54="",INDEX('Execution Register'!$G$6:$G$105,$O54-5)=""),"",INDEX('Execution Register'!$G$6:$G$105,$O54-5)),"") | J54: =IFERROR(IF(OR($O54="",INDEX('Execution Register'!$H$6:$H$105,$O54-5)=""),"",INDEX('Execution Register'!$H$6:$H$105,$O54-5)),"") | K54: =IFERROR(IF(OR($O54="",INDEX('Execution Register'!$I$6:$I$105,$O54-5)=""),"",INDEX('Execution Register'!$I$6:$I$105,$O54-5)),"") | L54: =IFERROR(IF(OR($O54="",INDEX('Execution Register'!$J$6:$J$105,$O54-5)=""),"",INDEX('Execution Register'!$J$6:$J$105,$O54-5)),"") | M54: =IFERROR(IF(OR($O54="",INDEX('Execution Register'!$K$6:$K$105,$O54-5)=""),"",INDEX('Execution Register'!$K$6:$K$105,$O54-5)),"") | N54: =IFERROR(IF(OR($O54="",INDEX('Execution Register'!$L$6:$L$105,$O54-5)=""),"",INDEX('Execution Register'!$L$6:$L$105,$O54-5)),"") | O54: =IFERROR(AGGREGATE(15,6,ROW('Execution Register'!$A$6:$A$105)/(LEFT('Execution Register'!$N$6:$N$105,6)="Open -"),44),"")
A55: =IFERROR(IF(OR($O55="",INDEX('Execution Register'!$A$6:$A$105,$O55-5)=""),"",INDEX('Execution Register'!$A$6:$A$105,$O55-5)),"") | B55: =IFERROR(IF(OR($O55="",INDEX('Execution Register'!$B$6:$B$105,$O55-5)=""),"",INDEX('Execution Register'!$B$6:$B$105,$O55-5)),"") | C55: =IFERROR(IF(OR($O55="",INDEX('Execution Register'!$C$6:$C$105,$O55-5)=""),"",INDEX('Execution Register'!$C$6:$C$105,$O55-5)),"") | D55: =IFERROR(IF(OR($O55="",INDEX('Execution Register'!$D$6:$D$105,$O55-5)=""),"",INDEX('Execution Register'!$D$6:$D$105,$O55-5)),"") | E55: =IFERROR(IF(OR($O55="",INDEX('Execution Register'!$M$6:$M$105,$O55-5)=""),"",INDEX('Execution Register'!$M$6:$M$105,$O55-5)),"") | F55: =IFERROR(IF(OR($O55="",INDEX('Execution Register'!$N$6:$N$105,$O55-5)=""),"",INDEX('Execution Register'!$N$6:$N$105,$O55-5)),"") | G55: =IFERROR(IF(OR($O55="",INDEX('Execution Register'!$E$6:$E$105,$O55-5)=""),"",INDEX('Execution Register'!$E$6:$E$105,$O55-5)),"") | H55: =IFERROR(IF(OR($O55="",INDEX('Execution Register'!$F$6:$F$105,$O55-5)=""),"",INDEX('Execution Register'!$F$6:$F$105,$O55-5)),"") | I55: =IFERROR(IF(OR($O55="",INDEX('Execution Register'!$G$6:$G$105,$O55-5)=""),"",INDEX('Execution Register'!$G$6:$G$105,$O55-5)),"") | J55: =IFERROR(IF(OR($O55="",INDEX('Execution Register'!$H$6:$H$105,$O55-5)=""),"",INDEX('Execution Register'!$H$6:$H$105,$O55-5)),"") | K55: =IFERROR(IF(OR($O55="",INDEX('Execution Register'!$I$6:$I$105,$O55-5)=""),"",INDEX('Execution Register'!$I$6:$I$105,$O55-5)),"") | L55: =IFERROR(IF(OR($O55="",INDEX('Execution Register'!$J$6:$J$105,$O55-5)=""),"",INDEX('Execution Register'!$J$6:$J$105,$O55-5)),"") | M55: =IFERROR(IF(OR($O55="",INDEX('Execution Register'!$K$6:$K$105,$O55-5)=""),"",INDEX('Execution Register'!$K$6:$K$105,$O55-5)),"") | N55: =IFERROR(IF(OR($O55="",INDEX('Execution Register'!$L$6:$L$105,$O55-5)=""),"",INDEX('Execution Register'!$L$6:$L$105,$O55-5)),"") | O55: =IFERROR(AGGREGATE(15,6,ROW('Execution Register'!$A$6:$A$105)/(LEFT('Execution Register'!$N$6:$N$105,6)="Open -"),45),"")
A56: =IFERROR(IF(OR($O56="",INDEX('Execution Register'!$A$6:$A$105,$O56-5)=""),"",INDEX('Execution Register'!$A$6:$A$105,$O56-5)),"") | B56: =IFERROR(IF(OR($O56="",INDEX('Execution Register'!$B$6:$B$105,$O56-5)=""),"",INDEX('Execution Register'!$B$6:$B$105,$O56-5)),"") | C56: =IFERROR(IF(OR($O56="",INDEX('Execution Register'!$C$6:$C$105,$O56-5)=""),"",INDEX('Execution Register'!$C$6:$C$105,$O56-5)),"") | D56: =IFERROR(IF(OR($O56="",INDEX('Execution Register'!$D$6:$D$105,$O56-5)=""),"",INDEX('Execution Register'!$D$6:$D$105,$O56-5)),"") | E56: =IFERROR(IF(OR($O56="",INDEX('Execution Register'!$M$6:$M$105,$O56-5)=""),"",INDEX('Execution Register'!$M$6:$M$105,$O56-5)),"") | F56: =IFERROR(IF(OR($O56="",INDEX('Execution Register'!$N$6:$N$105,$O56-5)=""),"",INDEX('Execution Register'!$N$6:$N$105,$O56-5)),"") | G56: =IFERROR(IF(OR($O56="",INDEX('Execution Register'!$E$6:$E$105,$O56-5)=""),"",INDEX('Execution Register'!$E$6:$E$105,$O56-5)),"") | H56: =IFERROR(IF(OR($O56="",INDEX('Execution Register'!$F$6:$F$105,$O56-5)=""),"",INDEX('Execution Register'!$F$6:$F$105,$O56-5)),"") | I56: =IFERROR(IF(OR($O56="",INDEX('Execution Register'!$G$6:$G$105,$O56-5)=""),"",INDEX('Execution Register'!$G$6:$G$105,$O56-5)),"") | J56: =IFERROR(IF(OR($O56="",INDEX('Execution Register'!$H$6:$H$105,$O56-5)=""),"",INDEX('Execution Register'!$H$6:$H$105,$O56-5)),"") | K56: =IFERROR(IF(OR($O56="",INDEX('Execution Register'!$I$6:$I$105,$O56-5)=""),"",INDEX('Execution Register'!$I$6:$I$105,$O56-5)),"") | L56: =IFERROR(IF(OR($O56="",INDEX('Execution Register'!$J$6:$J$105,$O56-5)=""),"",INDEX('Execution Register'!$J$6:$J$105,$O56-5)),"") | M56: =IFERROR(IF(OR($O56="",INDEX('Execution Register'!$K$6:$K$105,$O56-5)=""),"",INDEX('Execution Register'!$K$6:$K$105,$O56-5)),"") | N56: =IFERROR(IF(OR($O56="",INDEX('Execution Register'!$L$6:$L$105,$O56-5)=""),"",INDEX('Execution Register'!$L$6:$L$105,$O56-5)),"") | O56: =IFERROR(AGGREGATE(15,6,ROW('Execution Register'!$A$6:$A$105)/(LEFT('Execution Register'!$N$6:$N$105,6)="Open -"),46),"")
A57: =IFERROR(IF(OR($O57="",INDEX('Execution Register'!$A$6:$A$105,$O57-5)=""),"",INDEX('Execution Register'!$A$6:$A$105,$O57-5)),"") | B57: =IFERROR(IF(OR($O57="",INDEX('Execution Register'!$B$6:$B$105,$O57-5)=""),"",INDEX('Execution Register'!$B$6:$B$105,$O57-5)),"") | C57: =IFERROR(IF(OR($O57="",INDEX('Execution Register'!$C$6:$C$105,$O57-5)=""),"",INDEX('Execution Register'!$C$6:$C$105,$O57-5)),"") | D57: =IFERROR(IF(OR($O57="",INDEX('Execution Register'!$D$6:$D$105,$O57-5)=""),"",INDEX('Execution Register'!$D$6:$D$105,$O57-5)),"") | E57: =IFERROR(IF(OR($O57="",INDEX('Execution Register'!$M$6:$M$105,$O57-5)=""),"",INDEX('Execution Register'!$M$6:$M$105,$O57-5)),"") | F57: =IFERROR(IF(OR($O57="",INDEX('Execution Register'!$N$6:$N$105,$O57-5)=""),"",INDEX('Execution Register'!$N$6:$N$105,$O57-5)),"") | G57: =IFERROR(IF(OR($O57="",INDEX('Execution Register'!$E$6:$E$105,$O57-5)=""),"",INDEX('Execution Register'!$E$6:$E$105,$O57-5)),"") | H57: =IFERROR(IF(OR($O57="",INDEX('Execution Register'!$F$6:$F$105,$O57-5)=""),"",INDEX('Execution Register'!$F$6:$F$105,$O57-5)),"") | I57: =IFERROR(IF(OR($O57="",INDEX('Execution Register'!$G$6:$G$105,$O57-5)=""),"",INDEX('Execution Register'!$G$6:$G$105,$O57-5)),"") | J57: =IFERROR(IF(OR($O57="",INDEX('Execution Register'!$H$6:$H$105,$O57-5)=""),"",INDEX('Execution Register'!$H$6:$H$105,$O57-5)),"") | K57: =IFERROR(IF(OR($O57="",INDEX('Execution Register'!$I$6:$I$105,$O57-5)=""),"",INDEX('Execution Register'!$I$6:$I$105,$O57-5)),"") | L57: =IFERROR(IF(OR($O57="",INDEX('Execution Register'!$J$6:$J$105,$O57-5)=""),"",INDEX('Execution Register'!$J$6:$J$105,$O57-5)),"") | M57: =IFERROR(IF(OR($O57="",INDEX('Execution Register'!$K$6:$K$105,$O57-5)=""),"",INDEX('Execution Register'!$K$6:$K$105,$O57-5)),"") | N57: =IFERROR(IF(OR($O57="",INDEX('Execution Register'!$L$6:$L$105,$O57-5)=""),"",INDEX('Execution Register'!$L$6:$L$105,$O57-5)),"") | O57: =IFERROR(AGGREGATE(15,6,ROW('Execution Register'!$A$6:$A$105)/(LEFT('Execution Register'!$N$6:$N$105,6)="Open -"),47),"")
A58: =IFERROR(IF(OR($O58="",INDEX('Execution Register'!$A$6:$A$105,$O58-5)=""),"",INDEX('Execution Register'!$A$6:$A$105,$O58-5)),"") | B58: =IFERROR(IF(OR($O58="",INDEX('Execution Register'!$B$6:$B$105,$O58-5)=""),"",INDEX('Execution Register'!$B$6:$B$105,$O58-5)),"") | C58: =IFERROR(IF(OR($O58="",INDEX('Execution Register'!$C$6:$C$105,$O58-5)=""),"",INDEX('Execution Register'!$C$6:$C$105,$O58-5)),"") | D58: =IFERROR(IF(OR($O58="",INDEX('Execution Register'!$D$6:$D$105,$O58-5)=""),"",INDEX('Execution Register'!$D$6:$D$105,$O58-5)),"") | E58: =IFERROR(IF(OR($O58="",INDEX('Execution Register'!$M$6:$M$105,$O58-5)=""),"",INDEX('Execution Register'!$M$6:$M$105,$O58-5)),"") | F58: =IFERROR(IF(OR($O58="",INDEX('Execution Register'!$N$6:$N$105,$O58-5)=""),"",INDEX('Execution Register'!$N$6:$N$105,$O58-5)),"") | G58: =IFERROR(IF(OR($O58="",INDEX('Execution Register'!$E$6:$E$105,$O58-5)=""),"",INDEX('Execution Register'!$E$6:$E$105,$O58-5)),"") | H58: =IFERROR(IF(OR($O58="",INDEX('Execution Register'!$F$6:$F$105,$O58-5)=""),"",INDEX('Execution Register'!$F$6:$F$105,$O58-5)),"") | I58: =IFERROR(IF(OR($O58="",INDEX('Execution Register'!$G$6:$G$105,$O58-5)=""),"",INDEX('Execution Register'!$G$6:$G$105,$O58-5)),"") | J58: =IFERROR(IF(OR($O58="",INDEX('Execution Register'!$H$6:$H$105,$O58-5)=""),"",INDEX('Execution Register'!$H$6:$H$105,$O58-5)),"") | K58: =IFERROR(IF(OR($O58="",INDEX('Execution Register'!$I$6:$I$105,$O58-5)=""),"",INDEX('Execution Register'!$I$6:$I$105,$O58-5)),"") | L58: =IFERROR(IF(OR($O58="",INDEX('Execution Register'!$J$6:$J$105,$O58-5)=""),"",INDEX('Execution Register'!$J$6:$J$105,$O58-5)),"") | M58: =IFERROR(IF(OR($O58="",INDEX('Execution Register'!$K$6:$K$105,$O58-5)=""),"",INDEX('Execution Register'!$K$6:$K$105,$O58-5)),"") | N58: =IFERROR(IF(OR($O58="",INDEX('Execution Register'!$L$6:$L$105,$O58-5)=""),"",INDEX('Execution Register'!$L$6:$L$105,$O58-5)),"") | O58: =IFERROR(AGGREGATE(15,6,ROW('Execution Register'!$A$6:$A$105)/(LEFT('Execution Register'!$N$6:$N$105,6)="Open -"),48),"")
A59: =IFERROR(IF(OR($O59="",INDEX('Execution Register'!$A$6:$A$105,$O59-5)=""),"",INDEX('Execution Register'!$A$6:$A$105,$O59-5)),"") | B59: =IFERROR(IF(OR($O59="",INDEX('Execution Register'!$B$6:$B$105,$O59-5)=""),"",INDEX('Execution Register'!$B$6:$B$105,$O59-5)),"") | C59: =IFERROR(IF(OR($O59="",INDEX('Execution Register'!$C$6:$C$105,$O59-5)=""),"",INDEX('Execution Register'!$C$6:$C$105,$O59-5)),"") | D59: =IFERROR(IF(OR($O59="",INDEX('Execution Register'!$D$6:$D$105,$O59-5)=""),"",INDEX('Execution Register'!$D$6:$D$105,$O59-5)),"") | E59: =IFERROR(IF(OR($O59="",INDEX('Execution Register'!$M$6:$M$105,$O59-5)=""),"",INDEX('Execution Register'!$M$6:$M$105,$O59-5)),"") | F59: =IFERROR(IF(OR($O59="",INDEX('Execution Register'!$N$6:$N$105,$O59-5)=""),"",INDEX('Execution Register'!$N$6:$N$105,$O59-5)),"") | G59: =IFERROR(IF(OR($O59="",INDEX('Execution Register'!$E$6:$E$105,$O59-5)=""),"",INDEX('Execution Register'!$E$6:$E$105,$O59-5)),"") | H59: =IFERROR(IF(OR($O59="",INDEX('Execution Register'!$F$6:$F$105,$O59-5)=""),"",INDEX('Execution Register'!$F$6:$F$105,$O59-5)),"") | I59: =IFERROR(IF(OR($O59="",INDEX('Execution Register'!$G$6:$G$105,$O59-5)=""),"",INDEX('Execution Register'!$G$6:$G$105,$O59-5)),"") | J59: =IFERROR(IF(OR($O59="",INDEX('Execution Register'!$H$6:$H$105,$O59-5)=""),"",INDEX('Execution Register'!$H$6:$H$105,$O59-5)),"") | K59: =IFERROR(IF(OR($O59="",INDEX('Execution Register'!$I$6:$I$105,$O59-5)=""),"",INDEX('Execution Register'!$I$6:$I$105,$O59-5)),"") | L59: =IFERROR(IF(OR($O59="",INDEX('Execution Register'!$J$6:$J$105,$O59-5)=""),"",INDEX('Execution Register'!$J$6:$J$105,$O59-5)),"") | M59: =IFERROR(IF(OR($O59="",INDEX('Execution Register'!$K$6:$K$105,$O59-5)=""),"",INDEX('Execution Register'!$K$6:$K$105,$O59-5)),"") | N59: =IFERROR(IF(OR($O59="",INDEX('Execution Register'!$L$6:$L$105,$O59-5)=""),"",INDEX('Execution Register'!$L$6:$L$105,$O59-5)),"") | O59: =IFERROR(AGGREGATE(15,6,ROW('Execution Register'!$A$6:$A$105)/(LEFT('Execution Register'!$N$6:$N$105,6)="Open -"),49),"")
A60: =IFERROR(IF(OR($O60="",INDEX('Execution Register'!$A$6:$A$105,$O60-5)=""),"",INDEX('Execution Register'!$A$6:$A$105,$O60-5)),"") | B60: =IFERROR(IF(OR($O60="",INDEX('Execution Register'!$B$6:$B$105,$O60-5)=""),"",INDEX('Execution Register'!$B$6:$B$105,$O60-5)),"") | C60: =IFERROR(IF(OR($O60="",INDEX('Execution Register'!$C$6:$C$105,$O60-5)=""),"",INDEX('Execution Register'!$C$6:$C$105,$O60-5)),"") | D60: =IFERROR(IF(OR($O60="",INDEX('Execution Register'!$D$6:$D$105,$O60-5)=""),"",INDEX('Execution Register'!$D$6:$D$105,$O60-5)),"") | E60: =IFERROR(IF(OR($O60="",INDEX('Execution Register'!$M$6:$M$105,$O60-5)=""),"",INDEX('Execution Register'!$M$6:$M$105,$O60-5)),"") | F60: =IFERROR(IF(OR($O60="",INDEX('Execution Register'!$N$6:$N$105,$O60-5)=""),"",INDEX('Execution Register'!$N$6:$N$105,$O60-5)),"") | G60: =IFERROR(IF(OR($O60="",INDEX('Execution Register'!$E$6:$E$105,$O60-5)=""),"",INDEX('Execution Register'!$E$6:$E$105,$O60-5)),"") | H60: =IFERROR(IF(OR($O60="",INDEX('Execution Register'!$F$6:$F$105,$O60-5)=""),"",INDEX('Execution Register'!$F$6:$F$105,$O60-5)),"") | I60: =IFERROR(IF(OR($O60="",INDEX('Execution Register'!$G$6:$G$105,$O60-5)=""),"",INDEX('Execution Register'!$G$6:$G$105,$O60-5)),"") | J60: =IFERROR(IF(OR($O60="",INDEX('Execution Register'!$H$6:$H$105,$O60-5)=""),"",INDEX('Execution Register'!$H$6:$H$105,$O60-5)),"") | K60: =IFERROR(IF(OR($O60="",INDEX('Execution Register'!$I$6:$I$105,$O60-5)=""),"",INDEX('Execution Register'!$I$6:$I$105,$O60-5)),"") | L60: =IFERROR(IF(OR($O60="",INDEX('Execution Register'!$J$6:$J$105,$O60-5)=""),"",INDEX('Execution Register'!$J$6:$J$105,$O60-5)),"") | M60: =IFERROR(IF(OR($O60="",INDEX('Execution Register'!$K$6:$K$105,$O60-5)=""),"",INDEX('Execution Register'!$K$6:$K$105,$O60-5)),"") | N60: =IFERROR(IF(OR($O60="",INDEX('Execution Register'!$L$6:$L$105,$O60-5)=""),"",INDEX('Execution Register'!$L$6:$L$105,$O60-5)),"") | O60: =IFERROR(AGGREGATE(15,6,ROW('Execution Register'!$A$6:$A$105)/(LEFT('Execution Register'!$N$6:$N$105,6)="Open -"),50),"")
A61: =IFERROR(IF(OR($O61="",INDEX('Execution Register'!$A$6:$A$105,$O61-5)=""),"",INDEX('Execution Register'!$A$6:$A$105,$O61-5)),"") | B61: =IFERROR(IF(OR($O61="",INDEX('Execution Register'!$B$6:$B$105,$O61-5)=""),"",INDEX('Execution Register'!$B$6:$B$105,$O61-5)),"") | C61: =IFERROR(IF(OR($O61="",INDEX('Execution Register'!$C$6:$C$105,$O61-5)=""),"",INDEX('Execution Register'!$C$6:$C$105,$O61-5)),"") | D61: =IFERROR(IF(OR($O61="",INDEX('Execution Register'!$D$6:$D$105,$O61-5)=""),"",INDEX('Execution Register'!$D$6:$D$105,$O61-5)),"") | E61: =IFERROR(IF(OR($O61="",INDEX('Execution Register'!$M$6:$M$105,$O61-5)=""),"",INDEX('Execution Register'!$M$6:$M$105,$O61-5)),"") | F61: =IFERROR(IF(OR($O61="",INDEX('Execution Register'!$N$6:$N$105,$O61-5)=""),"",INDEX('Execution Register'!$N$6:$N$105,$O61-5)),"") | G61: =IFERROR(IF(OR($O61="",INDEX('Execution Register'!$E$6:$E$105,$O61-5)=""),"",INDEX('Execution Register'!$E$6:$E$105,$O61-5)),"") | H61: =IFERROR(IF(OR($O61="",INDEX('Execution Register'!$F$6:$F$105,$O61-5)=""),"",INDEX('Execution Register'!$F$6:$F$105,$O61-5)),"") | I61: =IFERROR(IF(OR($O61="",INDEX('Execution Register'!$G$6:$G$105,$O61-5)=""),"",INDEX('Execution Register'!$G$6:$G$105,$O61-5)),"") | J61: =IFERROR(IF(OR($O61="",INDEX('Execution Register'!$H$6:$H$105,$O61-5)=""),"",INDEX('Execution Register'!$H$6:$H$105,$O61-5)),"") | K61: =IFERROR(IF(OR($O61="",INDEX('Execution Register'!$I$6:$I$105,$O61-5)=""),"",INDEX('Execution Register'!$I$6:$I$105,$O61-5)),"") | L61: =IFERROR(IF(OR($O61="",INDEX('Execution Register'!$J$6:$J$105,$O61-5)=""),"",INDEX('Execution Register'!$J$6:$J$105,$O61-5)),"") | M61: =IFERROR(IF(OR($O61="",INDEX('Execution Register'!$K$6:$K$105,$O61-5)=""),"",INDEX('Execution Register'!$K$6:$K$105,$O61-5)),"") | N61: =IFERROR(IF(OR($O61="",INDEX('Execution Register'!$L$6:$L$105,$O61-5)=""),"",INDEX('Execution Register'!$L$6:$L$105,$O61-5)),"") | O61: =IFERROR(AGGREGATE(15,6,ROW('Execution Register'!$A$6:$A$105)/(LEFT('Execution Register'!$N$6:$N$105,6)="Open -"),51),"")
A62: =IFERROR(IF(OR($O62="",INDEX('Execution Register'!$A$6:$A$105,$O62-5)=""),"",INDEX('Execution Register'!$A$6:$A$105,$O62-5)),"") | B62: =IFERROR(IF(OR($O62="",INDEX('Execution Register'!$B$6:$B$105,$O62-5)=""),"",INDEX('Execution Register'!$B$6:$B$105,$O62-5)),"") | C62: =IFERROR(IF(OR($O62="",INDEX('Execution Register'!$C$6:$C$105,$O62-5)=""),"",INDEX('Execution Register'!$C$6:$C$105,$O62-5)),"") | D62: =IFERROR(IF(OR($O62="",INDEX('Execution Register'!$D$6:$D$105,$O62-5)=""),"",INDEX('Execution Register'!$D$6:$D$105,$O62-5)),"") | E62: =IFERROR(IF(OR($O62="",INDEX('Execution Register'!$M$6:$M$105,$O62-5)=""),"",INDEX('Execution Register'!$M$6:$M$105,$O62-5)),"") | F62: =IFERROR(IF(OR($O62="",INDEX('Execution Register'!$N$6:$N$105,$O62-5)=""),"",INDEX('Execution Register'!$N$6:$N$105,$O62-5)),"") | G62: =IFERROR(IF(OR($O62="",INDEX('Execution Register'!$E$6:$E$105,$O62-5)=""),"",INDEX('Execution Register'!$E$6:$E$105,$O62-5)),"") | H62: =IFERROR(IF(OR($O62="",INDEX('Execution Register'!$F$6:$F$105,$O62-5)=""),"",INDEX('Execution Register'!$F$6:$F$105,$O62-5)),"") | I62: =IFERROR(IF(OR($O62="",INDEX('Execution Register'!$G$6:$G$105,$O62-5)=""),"",INDEX('Execution Register'!$G$6:$G$105,$O62-5)),"") | J62: =IFERROR(IF(OR($O62="",INDEX('Execution Register'!$H$6:$H$105,$O62-5)=""),"",INDEX('Execution Register'!$H$6:$H$105,$O62-5)),"") | K62: =IFERROR(IF(OR($O62="",INDEX('Execution Register'!$I$6:$I$105,$O62-5)=""),"",INDEX('Execution Register'!$I$6:$I$105,$O62-5)),"") | L62: =IFERROR(IF(OR($O62="",INDEX('Execution Register'!$J$6:$J$105,$O62-5)=""),"",INDEX('Execution Register'!$J$6:$J$105,$O62-5)),"") | M62: =IFERROR(IF(OR($O62="",INDEX('Execution Register'!$K$6:$K$105,$O62-5)=""),"",INDEX('Execution Register'!$K$6:$K$105,$O62-5)),"") | N62: =IFERROR(IF(OR($O62="",INDEX('Execution Register'!$L$6:$L$105,$O62-5)=""),"",INDEX('Execution Register'!$L$6:$L$105,$O62-5)),"") | O62: =IFERROR(AGGREGATE(15,6,ROW('Execution Register'!$A$6:$A$105)/(LEFT('Execution Register'!$N$6:$N$105,6)="Open -"),52),"")
A63: =IFERROR(IF(OR($O63="",INDEX('Execution Register'!$A$6:$A$105,$O63-5)=""),"",INDEX('Execution Register'!$A$6:$A$105,$O63-5)),"") | B63: =IFERROR(IF(OR($O63="",INDEX('Execution Register'!$B$6:$B$105,$O63-5)=""),"",INDEX('Execution Register'!$B$6:$B$105,$O63-5)),"") | C63: =IFERROR(IF(OR($O63="",INDEX('Execution Register'!$C$6:$C$105,$O63-5)=""),"",INDEX('Execution Register'!$C$6:$C$105,$O63-5)),"") | D63: =IFERROR(IF(OR($O63="",INDEX('Execution Register'!$D$6:$D$105,$O63-5)=""),"",INDEX('Execution Register'!$D$6:$D$105,$O63-5)),"") | E63: =IFERROR(IF(OR($O63="",INDEX('Execution Register'!$M$6:$M$105,$O63-5)=""),"",INDEX('Execution Register'!$M$6:$M$105,$O63-5)),"") | F63: =IFERROR(IF(OR($O63="",INDEX('Execution Register'!$N$6:$N$105,$O63-5)=""),"",INDEX('Execution Register'!$N$6:$N$105,$O63-5)),"") | G63: =IFERROR(IF(OR($O63="",INDEX('Execution Register'!$E$6:$E$105,$O63-5)=""),"",INDEX('Execution Register'!$E$6:$E$105,$O63-5)),"") | H63: =IFERROR(IF(OR($O63="",INDEX('Execution Register'!$F$6:$F$105,$O63-5)=""),"",INDEX('Execution Register'!$F$6:$F$105,$O63-5)),"") | I63: =IFERROR(IF(OR($O63="",INDEX('Execution Register'!$G$6:$G$105,$O63-5)=""),"",INDEX('Execution Register'!$G$6:$G$105,$O63-5)),"") | J63: =IFERROR(IF(OR($O63="",INDEX('Execution Register'!$H$6:$H$105,$O63-5)=""),"",INDEX('Execution Register'!$H$6:$H$105,$O63-5)),"") | K63: =IFERROR(IF(OR($O63="",INDEX('Execution Register'!$I$6:$I$105,$O63-5)=""),"",INDEX('Execution Register'!$I$6:$I$105,$O63-5)),"") | L63: =IFERROR(IF(OR($O63="",INDEX('Execution Register'!$J$6:$J$105,$O63-5)=""),"",INDEX('Execution Register'!$J$6:$J$105,$O63-5)),"") | M63: =IFERROR(IF(OR($O63="",INDEX('Execution Register'!$K$6:$K$105,$O63-5)=""),"",INDEX('Execution Register'!$K$6:$K$105,$O63-5)),"") | N63: =IFERROR(IF(OR($O63="",INDEX('Execution Register'!$L$6:$L$105,$O63-5)=""),"",INDEX('Execution Register'!$L$6:$L$105,$O63-5)),"") | O63: =IFERROR(AGGREGATE(15,6,ROW('Execution Register'!$A$6:$A$105)/(LEFT('Execution Register'!$N$6:$N$105,6)="Open -"),53),"")
A64: =IFERROR(IF(OR($O64="",INDEX('Execution Register'!$A$6:$A$105,$O64-5)=""),"",INDEX('Execution Register'!$A$6:$A$105,$O64-5)),"") | B64: =IFERROR(IF(OR($O64="",INDEX('Execution Register'!$B$6:$B$105,$O64-5)=""),"",INDEX('Execution Register'!$B$6:$B$105,$O64-5)),"") | C64: =IFERROR(IF(OR($O64="",INDEX('Execution Register'!$C$6:$C$105,$O64-5)=""),"",INDEX('Execution Register'!$C$6:$C$105,$O64-5)),"") | D64: =IFERROR(IF(OR($O64="",INDEX('Execution Register'!$D$6:$D$105,$O64-5)=""),"",INDEX('Execution Register'!$D$6:$D$105,$O64-5)),"") | E64: =IFERROR(IF(OR($O64="",INDEX('Execution Register'!$M$6:$M$105,$O64-5)=""),"",INDEX('Execution Register'!$M$6:$M$105,$O64-5)),"") | F64: =IFERROR(IF(OR($O64="",INDEX('Execution Register'!$N$6:$N$105,$O64-5)=""),"",INDEX('Execution Register'!$N$6:$N$105,$O64-5)),"") | G64: =IFERROR(IF(OR($O64="",INDEX('Execution Register'!$E$6:$E$105,$O64-5)=""),"",INDEX('Execution Register'!$E$6:$E$105,$O64-5)),"") | H64: =IFERROR(IF(OR($O64="",INDEX('Execution Register'!$F$6:$F$105,$O64-5)=""),"",INDEX('Execution Register'!$F$6:$F$105,$O64-5)),"") | I64: =IFERROR(IF(OR($O64="",INDEX('Execution Register'!$G$6:$G$105,$O64-5)=""),"",INDEX('Execution Register'!$G$6:$G$105,$O64-5)),"") | J64: =IFERROR(IF(OR($O64="",INDEX('Execution Register'!$H$6:$H$105,$O64-5)=""),"",INDEX('Execution Register'!$H$6:$H$105,$O64-5)),"") | K64: =IFERROR(IF(OR($O64="",INDEX('Execution Register'!$I$6:$I$105,$O64-5)=""),"",INDEX('Execution Register'!$I$6:$I$105,$O64-5)),"") | L64: =IFERROR(IF(OR($O64="",INDEX('Execution Register'!$J$6:$J$105,$O64-5)=""),"",INDEX('Execution Register'!$J$6:$J$105,$O64-5)),"") | M64: =IFERROR(IF(OR($O64="",INDEX('Execution Register'!$K$6:$K$105,$O64-5)=""),"",INDEX('Execution Register'!$K$6:$K$105,$O64-5)),"") | N64: =IFERROR(IF(OR($O64="",INDEX('Execution Register'!$L$6:$L$105,$O64-5)=""),"",INDEX('Execution Register'!$L$6:$L$105,$O64-5)),"") | O64: =IFERROR(AGGREGATE(15,6,ROW('Execution Register'!$A$6:$A$105)/(LEFT('Execution Register'!$N$6:$N$105,6)="Open -"),54),"")
A65: =IFERROR(IF(OR($O65="",INDEX('Execution Register'!$A$6:$A$105,$O65-5)=""),"",INDEX('Execution Register'!$A$6:$A$105,$O65-5)),"") | B65: =IFERROR(IF(OR($O65="",INDEX('Execution Register'!$B$6:$B$105,$O65-5)=""),"",INDEX('Execution Register'!$B$6:$B$105,$O65-5)),"") | C65: =IFERROR(IF(OR($O65="",INDEX('Execution Register'!$C$6:$C$105,$O65-5)=""),"",INDEX('Execution Register'!$C$6:$C$105,$O65-5)),"") | D65: =IFERROR(IF(OR($O65="",INDEX('Execution Register'!$D$6:$D$105,$O65-5)=""),"",INDEX('Execution Register'!$D$6:$D$105,$O65-5)),"") | E65: =IFERROR(IF(OR($O65="",INDEX('Execution Register'!$M$6:$M$105,$O65-5)=""),"",INDEX('Execution Register'!$M$6:$M$105,$O65-5)),"") | F65: =IFERROR(IF(OR($O65="",INDEX('Execution Register'!$N$6:$N$105,$O65-5)=""),"",INDEX('Execution Register'!$N$6:$N$105,$O65-5)),"") | G65: =IFERROR(IF(OR($O65="",INDEX('Execution Register'!$E$6:$E$105,$O65-5)=""),"",INDEX('Execution Register'!$E$6:$E$105,$O65-5)),"") | H65: =IFERROR(IF(OR($O65="",INDEX('Execution Register'!$F$6:$F$105,$O65-5)=""),"",INDEX('Execution Register'!$F$6:$F$105,$O65-5)),"") | I65: =IFERROR(IF(OR($O65="",INDEX('Execution Register'!$G$6:$G$105,$O65-5)=""),"",INDEX('Execution Register'!$G$6:$G$105,$O65-5)),"") | J65: =IFERROR(IF(OR($O65="",INDEX('Execution Register'!$H$6:$H$105,$O65-5)=""),"",INDEX('Execution Register'!$H$6:$H$105,$O65-5)),"") | K65: =IFERROR(IF(OR($O65="",INDEX('Execution Register'!$I$6:$I$105,$O65-5)=""),"",INDEX('Execution Register'!$I$6:$I$105,$O65-5)),"") | L65: =IFERROR(IF(OR($O65="",INDEX('Execution Register'!$J$6:$J$105,$O65-5)=""),"",INDEX('Execution Register'!$J$6:$J$105,$O65-5)),"") | M65: =IFERROR(IF(OR($O65="",INDEX('Execution Register'!$K$6:$K$105,$O65-5)=""),"",INDEX('Execution Register'!$K$6:$K$105,$O65-5)),"") | N65: =IFERROR(IF(OR($O65="",INDEX('Execution Register'!$L$6:$L$105,$O65-5)=""),"",INDEX('Execution Register'!$L$6:$L$105,$O65-5)),"") | O65: =IFERROR(AGGREGATE(15,6,ROW('Execution Register'!$A$6:$A$105)/(LEFT('Execution Register'!$N$6:$N$105,6)="Open -"),55),"")
A66: =IFERROR(IF(OR($O66="",INDEX('Execution Register'!$A$6:$A$105,$O66-5)=""),"",INDEX('Execution Register'!$A$6:$A$105,$O66-5)),"") | B66: =IFERROR(IF(OR($O66="",INDEX('Execution Register'!$B$6:$B$105,$O66-5)=""),"",INDEX('Execution Register'!$B$6:$B$105,$O66-5)),"") | C66: =IFERROR(IF(OR($O66="",INDEX('Execution Register'!$C$6:$C$105,$O66-5)=""),"",INDEX('Execution Register'!$C$6:$C$105,$O66-5)),"") | D66: =IFERROR(IF(OR($O66="",INDEX('Execution Register'!$D$6:$D$105,$O66-5)=""),"",INDEX('Execution Register'!$D$6:$D$105,$O66-5)),"") | E66: =IFERROR(IF(OR($O66="",INDEX('Execution Register'!$M$6:$M$105,$O66-5)=""),"",INDEX('Execution Register'!$M$6:$M$105,$O66-5)),"") | F66: =IFERROR(IF(OR($O66="",INDEX('Execution Register'!$N$6:$N$105,$O66-5)=""),"",INDEX('Execution Register'!$N$6:$N$105,$O66-5)),"") | G66: =IFERROR(IF(OR($O66="",INDEX('Execution Register'!$E$6:$E$105,$O66-5)=""),"",INDEX('Execution Register'!$E$6:$E$105,$O66-5)),"") | H66: =IFERROR(IF(OR($O66="",INDEX('Execution Register'!$F$6:$F$105,$O66-5)=""),"",INDEX('Execution Register'!$F$6:$F$105,$O66-5)),"") | I66: =IFERROR(IF(OR($O66="",INDEX('Execution Register'!$G$6:$G$105,$O66-5)=""),"",INDEX('Execution Register'!$G$6:$G$105,$O66-5)),"") | J66: =IFERROR(IF(OR($O66="",INDEX('Execution Register'!$H$6:$H$105,$O66-5)=""),"",INDEX('Execution Register'!$H$6:$H$105,$O66-5)),"") | K66: =IFERROR(IF(OR($O66="",INDEX('Execution Register'!$I$6:$I$105,$O66-5)=""),"",INDEX('Execution Register'!$I$6:$I$105,$O66-5)),"") | L66: =IFERROR(IF(OR($O66="",INDEX('Execution Register'!$J$6:$J$105,$O66-5)=""),"",INDEX('Execution Register'!$J$6:$J$105,$O66-5)),"") | M66: =IFERROR(IF(OR($O66="",INDEX('Execution Register'!$K$6:$K$105,$O66-5)=""),"",INDEX('Execution Register'!$K$6:$K$105,$O66-5)),"") | N66: =IFERROR(IF(OR($O66="",INDEX('Execution Register'!$L$6:$L$105,$O66-5)=""),"",INDEX('Execution Register'!$L$6:$L$105,$O66-5)),"") | O66: =IFERROR(AGGREGATE(15,6,ROW('Execution Register'!$A$6:$A$105)/(LEFT('Execution Register'!$N$6:$N$105,6)="Open -"),56),"")
A67: =IFERROR(IF(OR($O67="",INDEX('Execution Register'!$A$6:$A$105,$O67-5)=""),"",INDEX('Execution Register'!$A$6:$A$105,$O67-5)),"") | B67: =IFERROR(IF(OR($O67="",INDEX('Execution Register'!$B$6:$B$105,$O67-5)=""),"",INDEX('Execution Register'!$B$6:$B$105,$O67-5)),"") | C67: =IFERROR(IF(OR($O67="",INDEX('Execution Register'!$C$6:$C$105,$O67-5)=""),"",INDEX('Execution Register'!$C$6:$C$105,$O67-5)),"") | D67: =IFERROR(IF(OR($O67="",INDEX('Execution Register'!$D$6:$D$105,$O67-5)=""),"",INDEX('Execution Register'!$D$6:$D$105,$O67-5)),"") | E67: =IFERROR(IF(OR($O67="",INDEX('Execution Register'!$M$6:$M$105,$O67-5)=""),"",INDEX('Execution Register'!$M$6:$M$105,$O67-5)),"") | F67: =IFERROR(IF(OR($O67="",INDEX('Execution Register'!$N$6:$N$105,$O67-5)=""),"",INDEX('Execution Register'!$N$6:$N$105,$O67-5)),"") | G67: =IFERROR(IF(OR($O67="",INDEX('Execution Register'!$E$6:$E$105,$O67-5)=""),"",INDEX('Execution Register'!$E$6:$E$105,$O67-5)),"") | H67: =IFERROR(IF(OR($O67="",INDEX('Execution Register'!$F$6:$F$105,$O67-5)=""),"",INDEX('Execution Register'!$F$6:$F$105,$O67-5)),"") | I67: =IFERROR(IF(OR($O67="",INDEX('Execution Register'!$G$6:$G$105,$O67-5)=""),"",INDEX('Execution Register'!$G$6:$G$105,$O67-5)),"") | J67: =IFERROR(IF(OR($O67="",INDEX('Execution Register'!$H$6:$H$105,$O67-5)=""),"",INDEX('Execution Register'!$H$6:$H$105,$O67-5)),"") | K67: =IFERROR(IF(OR($O67="",INDEX('Execution Register'!$I$6:$I$105,$O67-5)=""),"",INDEX('Execution Register'!$I$6:$I$105,$O67-5)),"") | L67: =IFERROR(IF(OR($O67="",INDEX('Execution Register'!$J$6:$J$105,$O67-5)=""),"",INDEX('Execution Register'!$J$6:$J$105,$O67-5)),"") | M67: =IFERROR(IF(OR($O67="",INDEX('Execution Register'!$K$6:$K$105,$O67-5)=""),"",INDEX('Execution Register'!$K$6:$K$105,$O67-5)),"") | N67: =IFERROR(IF(OR($O67="",INDEX('Execution Register'!$L$6:$L$105,$O67-5)=""),"",INDEX('Execution Register'!$L$6:$L$105,$O67-5)),"") | O67: =IFERROR(AGGREGATE(15,6,ROW('Execution Register'!$A$6:$A$105)/(LEFT('Execution Register'!$N$6:$N$105,6)="Open -"),57),"")
A68: =IFERROR(IF(OR($O68="",INDEX('Execution Register'!$A$6:$A$105,$O68-5)=""),"",INDEX('Execution Register'!$A$6:$A$105,$O68-5)),"") | B68: =IFERROR(IF(OR($O68="",INDEX('Execution Register'!$B$6:$B$105,$O68-5)=""),"",INDEX('Execution Register'!$B$6:$B$105,$O68-5)),"") | C68: =IFERROR(IF(OR($O68="",INDEX('Execution Register'!$C$6:$C$105,$O68-5)=""),"",INDEX('Execution Register'!$C$6:$C$105,$O68-5)),"") | D68: =IFERROR(IF(OR($O68="",INDEX('Execution Register'!$D$6:$D$105,$O68-5)=""),"",INDEX('Execution Register'!$D$6:$D$105,$O68-5)),"") | E68: =IFERROR(IF(OR($O68="",INDEX('Execution Register'!$M$6:$M$105,$O68-5)=""),"",INDEX('Execution Register'!$M$6:$M$105,$O68-5)),"") | F68: =IFERROR(IF(OR($O68="",INDEX('Execution Register'!$N$6:$N$105,$O68-5)=""),"",INDEX('Execution Register'!$N$6:$N$105,$O68-5)),"") | G68: =IFERROR(IF(OR($O68="",INDEX('Execution Register'!$E$6:$E$105,$O68-5)=""),"",INDEX('Execution Register'!$E$6:$E$105,$O68-5)),"") | H68: =IFERROR(IF(OR($O68="",INDEX('Execution Register'!$F$6:$F$105,$O68-5)=""),"",INDEX('Execution Register'!$F$6:$F$105,$O68-5)),"") | I68: =IFERROR(IF(OR($O68="",INDEX('Execution Register'!$G$6:$G$105,$O68-5)=""),"",INDEX('Execution Register'!$G$6:$G$105,$O68-5)),"") | J68: =IFERROR(IF(OR($O68="",INDEX('Execution Register'!$H$6:$H$105,$O68-5)=""),"",INDEX('Execution Register'!$H$6:$H$105,$O68-5)),"") | K68: =IFERROR(IF(OR($O68="",INDEX('Execution Register'!$I$6:$I$105,$O68-5)=""),"",INDEX('Execution Register'!$I$6:$I$105,$O68-5)),"") | L68: =IFERROR(IF(OR($O68="",INDEX('Execution Register'!$J$6:$J$105,$O68-5)=""),"",INDEX('Execution Register'!$J$6:$J$105,$O68-5)),"") | M68: =IFERROR(IF(OR($O68="",INDEX('Execution Register'!$K$6:$K$105,$O68-5)=""),"",INDEX('Execution Register'!$K$6:$K$105,$O68-5)),"") | N68: =IFERROR(IF(OR($O68="",INDEX('Execution Register'!$L$6:$L$105,$O68-5)=""),"",INDEX('Execution Register'!$L$6:$L$105,$O68-5)),"") | O68: =IFERROR(AGGREGATE(15,6,ROW('Execution Register'!$A$6:$A$105)/(LEFT('Execution Register'!$N$6:$N$105,6)="Open -"),58),"")
A69: =IFERROR(IF(OR($O69="",INDEX('Execution Register'!$A$6:$A$105,$O69-5)=""),"",INDEX('Execution Register'!$A$6:$A$105,$O69-5)),"") | B69: =IFERROR(IF(OR($O69="",INDEX('Execution Register'!$B$6:$B$105,$O69-5)=""),"",INDEX('Execution Register'!$B$6:$B$105,$O69-5)),"") | C69: =IFERROR(IF(OR($O69="",INDEX('Execution Register'!$C$6:$C$105,$O69-5)=""),"",INDEX('Execution Register'!$C$6:$C$105,$O69-5)),"") | D69: =IFERROR(IF(OR($O69="",INDEX('Execution Register'!$D$6:$D$105,$O69-5)=""),"",INDEX('Execution Register'!$D$6:$D$105,$O69-5)),"") | E69: =IFERROR(IF(OR($O69="",INDEX('Execution Register'!$M$6:$M$105,$O69-5)=""),"",INDEX('Execution Register'!$M$6:$M$105,$O69-5)),"") | F69: =IFERROR(IF(OR($O69="",INDEX('Execution Register'!$N$6:$N$105,$O69-5)=""),"",INDEX('Execution Register'!$N$6:$N$105,$O69-5)),"") | G69: =IFERROR(IF(OR($O69="",INDEX('Execution Register'!$E$6:$E$105,$O69-5)=""),"",INDEX('Execution Register'!$E$6:$E$105,$O69-5)),"") | H69: =IFERROR(IF(OR($O69="",INDEX('Execution Register'!$F$6:$F$105,$O69-5)=""),"",INDEX('Execution Register'!$F$6:$F$105,$O69-5)),"") | I69: =IFERROR(IF(OR($O69="",INDEX('Execution Register'!$G$6:$G$105,$O69-5)=""),"",INDEX('Execution Register'!$G$6:$G$105,$O69-5)),"") | J69: =IFERROR(IF(OR($O69="",INDEX('Execution Register'!$H$6:$H$105,$O69-5)=""),"",INDEX('Execution Register'!$H$6:$H$105,$O69-5)),"") | K69: =IFERROR(IF(OR($O69="",INDEX('Execution Register'!$I$6:$I$105,$O69-5)=""),"",INDEX('Execution Register'!$I$6:$I$105,$O69-5)),"") | L69: =IFERROR(IF(OR($O69="",INDEX('Execution Register'!$J$6:$J$105,$O69-5)=""),"",INDEX('Execution Register'!$J$6:$J$105,$O69-5)),"") | M69: =IFERROR(IF(OR($O69="",INDEX('Execution Register'!$K$6:$K$105,$O69-5)=""),"",INDEX('Execution Register'!$K$6:$K$105,$O69-5)),"") | N69: =IFERROR(IF(OR($O69="",INDEX('Execution Register'!$L$6:$L$105,$O69-5)=""),"",INDEX('Execution Register'!$L$6:$L$105,$O69-5)),"") | O69: =IFERROR(AGGREGATE(15,6,ROW('Execution Register'!$A$6:$A$105)/(LEFT('Execution Register'!$N$6:$N$105,6)="Open -"),59),"")
A70: =IFERROR(IF(OR($O70="",INDEX('Execution Register'!$A$6:$A$105,$O70-5)=""),"",INDEX('Execution Register'!$A$6:$A$105,$O70-5)),"") | B70: =IFERROR(IF(OR($O70="",INDEX('Execution Register'!$B$6:$B$105,$O70-5)=""),"",INDEX('Execution Register'!$B$6:$B$105,$O70-5)),"") | C70: =IFERROR(IF(OR($O70="",INDEX('Execution Register'!$C$6:$C$105,$O70-5)=""),"",INDEX('Execution Register'!$C$6:$C$105,$O70-5)),"") | D70: =IFERROR(IF(OR($O70="",INDEX('Execution Register'!$D$6:$D$105,$O70-5)=""),"",INDEX('Execution Register'!$D$6:$D$105,$O70-5)),"") | E70: =IFERROR(IF(OR($O70="",INDEX('Execution Register'!$M$6:$M$105,$O70-5)=""),"",INDEX('Execution Register'!$M$6:$M$105,$O70-5)),"") | F70: =IFERROR(IF(OR($O70="",INDEX('Execution Register'!$N$6:$N$105,$O70-5)=""),"",INDEX('Execution Register'!$N$6:$N$105,$O70-5)),"") | G70: =IFERROR(IF(OR($O70="",INDEX('Execution Register'!$E$6:$E$105,$O70-5)=""),"",INDEX('Execution Register'!$E$6:$E$105,$O70-5)),"") | H70: =IFERROR(IF(OR($O70="",INDEX('Execution Register'!$F$6:$F$105,$O70-5)=""),"",INDEX('Execution Register'!$F$6:$F$105,$O70-5)),"") | I70: =IFERROR(IF(OR($O70="",INDEX('Execution Register'!$G$6:$G$105,$O70-5)=""),"",INDEX('Execution Register'!$G$6:$G$105,$O70-5)),"") | J70: =IFERROR(IF(OR($O70="",INDEX('Execution Register'!$H$6:$H$105,$O70-5)=""),"",INDEX('Execution Register'!$H$6:$H$105,$O70-5)),"") | K70: =IFERROR(IF(OR($O70="",INDEX('Execution Register'!$I$6:$I$105,$O70-5)=""),"",INDEX('Execution Register'!$I$6:$I$105,$O70-5)),"") | L70: =IFERROR(IF(OR($O70="",INDEX('Execution Register'!$J$6:$J$105,$O70-5)=""),"",INDEX('Execution Register'!$J$6:$J$105,$O70-5)),"") | M70: =IFERROR(IF(OR($O70="",INDEX('Execution Register'!$K$6:$K$105,$O70-5)=""),"",INDEX('Execution Register'!$K$6:$K$105,$O70-5)),"") | N70: =IFERROR(IF(OR($O70="",INDEX('Execution Register'!$L$6:$L$105,$O70-5)=""),"",INDEX('Execution Register'!$L$6:$L$105,$O70-5)),"") | O70: =IFERROR(AGGREGATE(15,6,ROW('Execution Register'!$A$6:$A$105)/(LEFT('Execution Register'!$N$6:$N$105,6)="Open -"),60),"")
A71: =IFERROR(IF(OR($O71="",INDEX('Execution Register'!$A$6:$A$105,$O71-5)=""),"",INDEX('Execution Register'!$A$6:$A$105,$O71-5)),"") | B71: =IFERROR(IF(OR($O71="",INDEX('Execution Register'!$B$6:$B$105,$O71-5)=""),"",INDEX('Execution Register'!$B$6:$B$105,$O71-5)),"") | C71: =IFERROR(IF(OR($O71="",INDEX('Execution Register'!$C$6:$C$105,$O71-5)=""),"",INDEX('Execution Register'!$C$6:$C$105,$O71-5)),"") | D71: =IFERROR(IF(OR($O71="",INDEX('Execution Register'!$D$6:$D$105,$O71-5)=""),"",INDEX('Execution Register'!$D$6:$D$105,$O71-5)),"") | E71: =IFERROR(IF(OR($O71="",INDEX('Execution Register'!$M$6:$M$105,$O71-5)=""),"",INDEX('Execution Register'!$M$6:$M$105,$O71-5)),"") | F71: =IFERROR(IF(OR($O71="",INDEX('Execution Register'!$N$6:$N$105,$O71-5)=""),"",INDEX('Execution Register'!$N$6:$N$105,$O71-5)),"") | G71: =IFERROR(IF(OR($O71="",INDEX('Execution Register'!$E$6:$E$105,$O71-5)=""),"",INDEX('Execution Register'!$E$6:$E$105,$O71-5)),"") | H71: =IFERROR(IF(OR($O71="",INDEX('Execution Register'!$F$6:$F$105,$O71-5)=""),"",INDEX('Execution Register'!$F$6:$F$105,$O71-5)),"") | I71: =IFERROR(IF(OR($O71="",INDEX('Execution Register'!$G$6:$G$105,$O71-5)=""),"",INDEX('Execution Register'!$G$6:$G$105,$O71-5)),"") | J71: =IFERROR(IF(OR($O71="",INDEX('Execution Register'!$H$6:$H$105,$O71-5)=""),"",INDEX('Execution Register'!$H$6:$H$105,$O71-5)),"") | K71: =IFERROR(IF(OR($O71="",INDEX('Execution Register'!$I$6:$I$105,$O71-5)=""),"",INDEX('Execution Register'!$I$6:$I$105,$O71-5)),"") | L71: =IFERROR(IF(OR($O71="",INDEX('Execution Register'!$J$6:$J$105,$O71-5)=""),"",INDEX('Execution Register'!$J$6:$J$105,$O71-5)),"") | M71: =IFERROR(IF(OR($O71="",INDEX('Execution Register'!$K$6:$K$105,$O71-5)=""),"",INDEX('Execution Register'!$K$6:$K$105,$O71-5)),"") | N71: =IFERROR(IF(OR($O71="",INDEX('Execution Register'!$L$6:$L$105,$O71-5)=""),"",INDEX('Execution Register'!$L$6:$L$105,$O71-5)),"") | O71: =IFERROR(AGGREGATE(15,6,ROW('Execution Register'!$A$6:$A$105)/(LEFT('Execution Register'!$N$6:$N$105,6)="Open -"),61),"")
A72: =IFERROR(IF(OR($O72="",INDEX('Execution Register'!$A$6:$A$105,$O72-5)=""),"",INDEX('Execution Register'!$A$6:$A$105,$O72-5)),"") | B72: =IFERROR(IF(OR($O72="",INDEX('Execution Register'!$B$6:$B$105,$O72-5)=""),"",INDEX('Execution Register'!$B$6:$B$105,$O72-5)),"") | C72: =IFERROR(IF(OR($O72="",INDEX('Execution Register'!$C$6:$C$105,$O72-5)=""),"",INDEX('Execution Register'!$C$6:$C$105,$O72-5)),"") | D72: =IFERROR(IF(OR($O72="",INDEX('Execution Register'!$D$6:$D$105,$O72-5)=""),"",INDEX('Execution Register'!$D$6:$D$105,$O72-5)),"") | E72: =IFERROR(IF(OR($O72="",INDEX('Execution Register'!$M$6:$M$105,$O72-5)=""),"",INDEX('Execution Register'!$M$6:$M$105,$O72-5)),"") | F72: =IFERROR(IF(OR($O72="",INDEX('Execution Register'!$N$6:$N$105,$O72-5)=""),"",INDEX('Execution Register'!$N$6:$N$105,$O72-5)),"") | G72: =IFERROR(IF(OR($O72="",INDEX('Execution Register'!$E$6:$E$105,$O72-5)=""),"",INDEX('Execution Register'!$E$6:$E$105,$O72-5)),"") | H72: =IFERROR(IF(OR($O72="",INDEX('Execution Register'!$F$6:$F$105,$O72-5)=""),"",INDEX('Execution Register'!$F$6:$F$105,$O72-5)),"") | I72: =IFERROR(IF(OR($O72="",INDEX('Execution Register'!$G$6:$G$105,$O72-5)=""),"",INDEX('Execution Register'!$G$6:$G$105,$O72-5)),"") | J72: =IFERROR(IF(OR($O72="",INDEX('Execution Register'!$H$6:$H$105,$O72-5)=""),"",INDEX('Execution Register'!$H$6:$H$105,$O72-5)),"") | K72: =IFERROR(IF(OR($O72="",INDEX('Execution Register'!$I$6:$I$105,$O72-5)=""),"",INDEX('Execution Register'!$I$6:$I$105,$O72-5)),"") | L72: =IFERROR(IF(OR($O72="",INDEX('Execution Register'!$J$6:$J$105,$O72-5)=""),"",INDEX('Execution Register'!$J$6:$J$105,$O72-5)),"") | M72: =IFERROR(IF(OR($O72="",INDEX('Execution Register'!$K$6:$K$105,$O72-5)=""),"",INDEX('Execution Register'!$K$6:$K$105,$O72-5)),"") | N72: =IFERROR(IF(OR($O72="",INDEX('Execution Register'!$L$6:$L$105,$O72-5)=""),"",INDEX('Execution Register'!$L$6:$L$105,$O72-5)),"") | O72: =IFERROR(AGGREGATE(15,6,ROW('Execution Register'!$A$6:$A$105)/(LEFT('Execution Register'!$N$6:$N$105,6)="Open -"),62),"")
A73: =IFERROR(IF(OR($O73="",INDEX('Execution Register'!$A$6:$A$105,$O73-5)=""),"",INDEX('Execution Register'!$A$6:$A$105,$O73-5)),"") | B73: =IFERROR(IF(OR($O73="",INDEX('Execution Register'!$B$6:$B$105,$O73-5)=""),"",INDEX('Execution Register'!$B$6:$B$105,$O73-5)),"") | C73: =IFERROR(IF(OR($O73="",INDEX('Execution Register'!$C$6:$C$105,$O73-5)=""),"",INDEX('Execution Register'!$C$6:$C$105,$O73-5)),"") | D73: =IFERROR(IF(OR($O73="",INDEX('Execution Register'!$D$6:$D$105,$O73-5)=""),"",INDEX('Execution Register'!$D$6:$D$105,$O73-5)),"") | E73: =IFERROR(IF(OR($O73="",INDEX('Execution Register'!$M$6:$M$105,$O73-5)=""),"",INDEX('Execution Register'!$M$6:$M$105,$O73-5)),"") | F73: =IFERROR(IF(OR($O73="",INDEX('Execution Register'!$N$6:$N$105,$O73-5)=""),"",INDEX('Execution Register'!$N$6:$N$105,$O73-5)),"") | G73: =IFERROR(IF(OR($O73="",INDEX('Execution Register'!$E$6:$E$105,$O73-5)=""),"",INDEX('Execution Register'!$E$6:$E$105,$O73-5)),"") | H73: =IFERROR(IF(OR($O73="",INDEX('Execution Register'!$F$6:$F$105,$O73-5)=""),"",INDEX('Execution Register'!$F$6:$F$105,$O73-5)),"") | I73: =IFERROR(IF(OR($O73="",INDEX('Execution Register'!$G$6:$G$105,$O73-5)=""),"",INDEX('Execution Register'!$G$6:$G$105,$O73-5)),"") | J73: =IFERROR(IF(OR($O73="",INDEX('Execution Register'!$H$6:$H$105,$O73-5)=""),"",INDEX('Execution Register'!$H$6:$H$105,$O73-5)),"") | K73: =IFERROR(IF(OR($O73="",INDEX('Execution Register'!$I$6:$I$105,$O73-5)=""),"",INDEX('Execution Register'!$I$6:$I$105,$O73-5)),"") | L73: =IFERROR(IF(OR($O73="",INDEX('Execution Register'!$J$6:$J$105,$O73-5)=""),"",INDEX('Execution Register'!$J$6:$J$105,$O73-5)),"") | M73: =IFERROR(IF(OR($O73="",INDEX('Execution Register'!$K$6:$K$105,$O73-5)=""),"",INDEX('Execution Register'!$K$6:$K$105,$O73-5)),"") | N73: =IFERROR(IF(OR($O73="",INDEX('Execution Register'!$L$6:$L$105,$O73-5)=""),"",INDEX('Execution Register'!$L$6:$L$105,$O73-5)),"") | O73: =IFERROR(AGGREGATE(15,6,ROW('Execution Register'!$A$6:$A$105)/(LEFT('Execution Register'!$N$6:$N$105,6)="Open -"),63),"")
A74: =IFERROR(IF(OR($O74="",INDEX('Execution Register'!$A$6:$A$105,$O74-5)=""),"",INDEX('Execution Register'!$A$6:$A$105,$O74-5)),"") | B74: =IFERROR(IF(OR($O74="",INDEX('Execution Register'!$B$6:$B$105,$O74-5)=""),"",INDEX('Execution Register'!$B$6:$B$105,$O74-5)),"") | C74: =IFERROR(IF(OR($O74="",INDEX('Execution Register'!$C$6:$C$105,$O74-5)=""),"",INDEX('Execution Register'!$C$6:$C$105,$O74-5)),"") | D74: =IFERROR(IF(OR($O74="",INDEX('Execution Register'!$D$6:$D$105,$O74-5)=""),"",INDEX('Execution Register'!$D$6:$D$105,$O74-5)),"") | E74: =IFERROR(IF(OR($O74="",INDEX('Execution Register'!$M$6:$M$105,$O74-5)=""),"",INDEX('Execution Register'!$M$6:$M$105,$O74-5)),"") | F74: =IFERROR(IF(OR($O74="",INDEX('Execution Register'!$N$6:$N$105,$O74-5)=""),"",INDEX('Execution Register'!$N$6:$N$105,$O74-5)),"") | G74: =IFERROR(IF(OR($O74="",INDEX('Execution Register'!$E$6:$E$105,$O74-5)=""),"",INDEX('Execution Register'!$E$6:$E$105,$O74-5)),"") | H74: =IFERROR(IF(OR($O74="",INDEX('Execution Register'!$F$6:$F$105,$O74-5)=""),"",INDEX('Execution Register'!$F$6:$F$105,$O74-5)),"") | I74: =IFERROR(IF(OR($O74="",INDEX('Execution Register'!$G$6:$G$105,$O74-5)=""),"",INDEX('Execution Register'!$G$6:$G$105,$O74-5)),"") | J74: =IFERROR(IF(OR($O74="",INDEX('Execution Register'!$H$6:$H$105,$O74-5)=""),"",INDEX('Execution Register'!$H$6:$H$105,$O74-5)),"") | K74: =IFERROR(IF(OR($O74="",INDEX('Execution Register'!$I$6:$I$105,$O74-5)=""),"",INDEX('Execution Register'!$I$6:$I$105,$O74-5)),"") | L74: =IFERROR(IF(OR($O74="",INDEX('Execution Register'!$J$6:$J$105,$O74-5)=""),"",INDEX('Execution Register'!$J$6:$J$105,$O74-5)),"") | M74: =IFERROR(IF(OR($O74="",INDEX('Execution Register'!$K$6:$K$105,$O74-5)=""),"",INDEX('Execution Register'!$K$6:$K$105,$O74-5)),"") | N74: =IFERROR(IF(OR($O74="",INDEX('Execution Register'!$L$6:$L$105,$O74-5)=""),"",INDEX('Execution Register'!$L$6:$L$105,$O74-5)),"") | O74: =IFERROR(AGGREGATE(15,6,ROW('Execution Register'!$A$6:$A$105)/(LEFT('Execution Register'!$N$6:$N$105,6)="Open -"),64),"")
A75: =IFERROR(IF(OR($O75="",INDEX('Execution Register'!$A$6:$A$105,$O75-5)=""),"",INDEX('Execution Register'!$A$6:$A$105,$O75-5)),"") | B75: =IFERROR(IF(OR($O75="",INDEX('Execution Register'!$B$6:$B$105,$O75-5)=""),"",INDEX('Execution Register'!$B$6:$B$105,$O75-5)),"") | C75: =IFERROR(IF(OR($O75="",INDEX('Execution Register'!$C$6:$C$105,$O75-5)=""),"",INDEX('Execution Register'!$C$6:$C$105,$O75-5)),"") | D75: =IFERROR(IF(OR($O75="",INDEX('Execution Register'!$D$6:$D$105,$O75-5)=""),"",INDEX('Execution Register'!$D$6:$D$105,$O75-5)),"") | E75: =IFERROR(IF(OR($O75="",INDEX('Execution Register'!$M$6:$M$105,$O75-5)=""),"",INDEX('Execution Register'!$M$6:$M$105,$O75-5)),"") | F75: =IFERROR(IF(OR($O75="",INDEX('Execution Register'!$N$6:$N$105,$O75-5)=""),"",INDEX('Execution Register'!$N$6:$N$105,$O75-5)),"") | G75: =IFERROR(IF(OR($O75="",INDEX('Execution Register'!$E$6:$E$105,$O75-5)=""),"",INDEX('Execution Register'!$E$6:$E$105,$O75-5)),"") | H75: =IFERROR(IF(OR($O75="",INDEX('Execution Register'!$F$6:$F$105,$O75-5)=""),"",INDEX('Execution Register'!$F$6:$F$105,$O75-5)),"") | I75: =IFERROR(IF(OR($O75="",INDEX('Execution Register'!$G$6:$G$105,$O75-5)=""),"",INDEX('Execution Register'!$G$6:$G$105,$O75-5)),"") | J75: =IFERROR(IF(OR($O75="",INDEX('Execution Register'!$H$6:$H$105,$O75-5)=""),"",INDEX('Execution Register'!$H$6:$H$105,$O75-5)),"") | K75: =IFERROR(IF(OR($O75="",INDEX('Execution Register'!$I$6:$I$105,$O75-5)=""),"",INDEX('Execution Register'!$I$6:$I$105,$O75-5)),"") | L75: =IFERROR(IF(OR($O75="",INDEX('Execution Register'!$J$6:$J$105,$O75-5)=""),"",INDEX('Execution Register'!$J$6:$J$105,$O75-5)),"") | M75: =IFERROR(IF(OR($O75="",INDEX('Execution Register'!$K$6:$K$105,$O75-5)=""),"",INDEX('Execution Register'!$K$6:$K$105,$O75-5)),"") | N75: =IFERROR(IF(OR($O75="",INDEX('Execution Register'!$L$6:$L$105,$O75-5)=""),"",INDEX('Execution Register'!$L$6:$L$105,$O75-5)),"") | O75: =IFERROR(AGGREGATE(15,6,ROW('Execution Register'!$A$6:$A$105)/(LEFT('Execution Register'!$N$6:$N$105,6)="Open -"),65),"")
A76: =IFERROR(IF(OR($O76="",INDEX('Execution Register'!$A$6:$A$105,$O76-5)=""),"",INDEX('Execution Register'!$A$6:$A$105,$O76-5)),"") | B76: =IFERROR(IF(OR($O76="",INDEX('Execution Register'!$B$6:$B$105,$O76-5)=""),"",INDEX('Execution Register'!$B$6:$B$105,$O76-5)),"") | C76: =IFERROR(IF(OR($O76="",INDEX('Execution Register'!$C$6:$C$105,$O76-5)=""),"",INDEX('Execution Register'!$C$6:$C$105,$O76-5)),"") | D76: =IFERROR(IF(OR($O76="",INDEX('Execution Register'!$D$6:$D$105,$O76-5)=""),"",INDEX('Execution Register'!$D$6:$D$105,$O76-5)),"") | E76: =IFERROR(IF(OR($O76="",INDEX('Execution Register'!$M$6:$M$105,$O76-5)=""),"",INDEX('Execution Register'!$M$6:$M$105,$O76-5)),"") | F76: =IFERROR(IF(OR($O76="",INDEX('Execution Register'!$N$6:$N$105,$O76-5)=""),"",INDEX('Execution Register'!$N$6:$N$105,$O76-5)),"") | G76: =IFERROR(IF(OR($O76="",INDEX('Execution Register'!$E$6:$E$105,$O76-5)=""),"",INDEX('Execution Register'!$E$6:$E$105,$O76-5)),"") | H76: =IFERROR(IF(OR($O76="",INDEX('Execution Register'!$F$6:$F$105,$O76-5)=""),"",INDEX('Execution Register'!$F$6:$F$105,$O76-5)),"") | I76: =IFERROR(IF(OR($O76="",INDEX('Execution Register'!$G$6:$G$105,$O76-5)=""),"",INDEX('Execution Register'!$G$6:$G$105,$O76-5)),"") | J76: =IFERROR(IF(OR($O76="",INDEX('Execution Register'!$H$6:$H$105,$O76-5)=""),"",INDEX('Execution Register'!$H$6:$H$105,$O76-5)),"") | K76: =IFERROR(IF(OR($O76="",INDEX('Execution Register'!$I$6:$I$105,$O76-5)=""),"",INDEX('Execution Register'!$I$6:$I$105,$O76-5)),"") | L76: =IFERROR(IF(OR($O76="",INDEX('Execution Register'!$J$6:$J$105,$O76-5)=""),"",INDEX('Execution Register'!$J$6:$J$105,$O76-5)),"") | M76: =IFERROR(IF(OR($O76="",INDEX('Execution Register'!$K$6:$K$105,$O76-5)=""),"",INDEX('Execution Register'!$K$6:$K$105,$O76-5)),"") | N76: =IFERROR(IF(OR($O76="",INDEX('Execution Register'!$L$6:$L$105,$O76-5)=""),"",INDEX('Execution Register'!$L$6:$L$105,$O76-5)),"") | O76: =IFERROR(AGGREGATE(15,6,ROW('Execution Register'!$A$6:$A$105)/(LEFT('Execution Register'!$N$6:$N$105,6)="Open -"),66),"")
A77: =IFERROR(IF(OR($O77="",INDEX('Execution Register'!$A$6:$A$105,$O77-5)=""),"",INDEX('Execution Register'!$A$6:$A$105,$O77-5)),"") | B77: =IFERROR(IF(OR($O77="",INDEX('Execution Register'!$B$6:$B$105,$O77-5)=""),"",INDEX('Execution Register'!$B$6:$B$105,$O77-5)),"") | C77: =IFERROR(IF(OR($O77="",INDEX('Execution Register'!$C$6:$C$105,$O77-5)=""),"",INDEX('Execution Register'!$C$6:$C$105,$O77-5)),"") | D77: =IFERROR(IF(OR($O77="",INDEX('Execution Register'!$D$6:$D$105,$O77-5)=""),"",INDEX('Execution Register'!$D$6:$D$105,$O77-5)),"") | E77: =IFERROR(IF(OR($O77="",INDEX('Execution Register'!$M$6:$M$105,$O77-5)=""),"",INDEX('Execution Register'!$M$6:$M$105,$O77-5)),"") | F77: =IFERROR(IF(OR($O77="",INDEX('Execution Register'!$N$6:$N$105,$O77-5)=""),"",INDEX('Execution Register'!$N$6:$N$105,$O77-5)),"") | G77: =IFERROR(IF(OR($O77="",INDEX('Execution Register'!$E$6:$E$105,$O77-5)=""),"",INDEX('Execution Register'!$E$6:$E$105,$O77-5)),"") | H77: =IFERROR(IF(OR($O77="",INDEX('Execution Register'!$F$6:$F$105,$O77-5)=""),"",INDEX('Execution Register'!$F$6:$F$105,$O77-5)),"") | I77: =IFERROR(IF(OR($O77="",INDEX('Execution Register'!$G$6:$G$105,$O77-5)=""),"",INDEX('Execution Register'!$G$6:$G$105,$O77-5)),"") | J77: =IFERROR(IF(OR($O77="",INDEX('Execution Register'!$H$6:$H$105,$O77-5)=""),"",INDEX('Execution Register'!$H$6:$H$105,$O77-5)),"") | K77: =IFERROR(IF(OR($O77="",INDEX('Execution Register'!$I$6:$I$105,$O77-5)=""),"",INDEX('Execution Register'!$I$6:$I$105,$O77-5)),"") | L77: =IFERROR(IF(OR($O77="",INDEX('Execution Register'!$J$6:$J$105,$O77-5)=""),"",INDEX('Execution Register'!$J$6:$J$105,$O77-5)),"") | M77: =IFERROR(IF(OR($O77="",INDEX('Execution Register'!$K$6:$K$105,$O77-5)=""),"",INDEX('Execution Register'!$K$6:$K$105,$O77-5)),"") | N77: =IFERROR(IF(OR($O77="",INDEX('Execution Register'!$L$6:$L$105,$O77-5)=""),"",INDEX('Execution Register'!$L$6:$L$105,$O77-5)),"") | O77: =IFERROR(AGGREGATE(15,6,ROW('Execution Register'!$A$6:$A$105)/(LEFT('Execution Register'!$N$6:$N$105,6)="Open -"),67),"")
A78: =IFERROR(IF(OR($O78="",INDEX('Execution Register'!$A$6:$A$105,$O78-5)=""),"",INDEX('Execution Register'!$A$6:$A$105,$O78-5)),"") | B78: =IFERROR(IF(OR($O78="",INDEX('Execution Register'!$B$6:$B$105,$O78-5)=""),"",INDEX('Execution Register'!$B$6:$B$105,$O78-5)),"") | C78: =IFERROR(IF(OR($O78="",INDEX('Execution Register'!$C$6:$C$105,$O78-5)=""),"",INDEX('Execution Register'!$C$6:$C$105,$O78-5)),"") | D78: =IFERROR(IF(OR($O78="",INDEX('Execution Register'!$D$6:$D$105,$O78-5)=""),"",INDEX('Execution Register'!$D$6:$D$105,$O78-5)),"") | E78: =IFERROR(IF(OR($O78="",INDEX('Execution Register'!$M$6:$M$105,$O78-5)=""),"",INDEX('Execution Register'!$M$6:$M$105,$O78-5)),"") | F78: =IFERROR(IF(OR($O78="",INDEX('Execution Register'!$N$6:$N$105,$O78-5)=""),"",INDEX('Execution Register'!$N$6:$N$105,$O78-5)),"") | G78: =IFERROR(IF(OR($O78="",INDEX('Execution Register'!$E$6:$E$105,$O78-5)=""),"",INDEX('Execution Register'!$E$6:$E$105,$O78-5)),"") | H78: =IFERROR(IF(OR($O78="",INDEX('Execution Register'!$F$6:$F$105,$O78-5)=""),"",INDEX('Execution Register'!$F$6:$F$105,$O78-5)),"") | I78: =IFERROR(IF(OR($O78="",INDEX('Execution Register'!$G$6:$G$105,$O78-5)=""),"",INDEX('Execution Register'!$G$6:$G$105,$O78-5)),"") | J78: =IFERROR(IF(OR($O78="",INDEX('Execution Register'!$H$6:$H$105,$O78-5)=""),"",INDEX('Execution Register'!$H$6:$H$105,$O78-5)),"") | K78: =IFERROR(IF(OR($O78="",INDEX('Execution Register'!$I$6:$I$105,$O78-5)=""),"",INDEX('Execution Register'!$I$6:$I$105,$O78-5)),"") | L78: =IFERROR(IF(OR($O78="",INDEX('Execution Register'!$J$6:$J$105,$O78-5)=""),"",INDEX('Execution Register'!$J$6:$J$105,$O78-5)),"") | M78: =IFERROR(IF(OR($O78="",INDEX('Execution Register'!$K$6:$K$105,$O78-5)=""),"",INDEX('Execution Register'!$K$6:$K$105,$O78-5)),"") | N78: =IFERROR(IF(OR($O78="",INDEX('Execution Register'!$L$6:$L$105,$O78-5)=""),"",INDEX('Execution Register'!$L$6:$L$105,$O78-5)),"") | O78: =IFERROR(AGGREGATE(15,6,ROW('Execution Register'!$A$6:$A$105)/(LEFT('Execution Register'!$N$6:$N$105,6)="Open -"),68),"")
A79: =IFERROR(IF(OR($O79="",INDEX('Execution Register'!$A$6:$A$105,$O79-5)=""),"",INDEX('Execution Register'!$A$6:$A$105,$O79-5)),"") | B79: =IFERROR(IF(OR($O79="",INDEX('Execution Register'!$B$6:$B$105,$O79-5)=""),"",INDEX('Execution Register'!$B$6:$B$105,$O79-5)),"") | C79: =IFERROR(IF(OR($O79="",INDEX('Execution Register'!$C$6:$C$105,$O79-5)=""),"",INDEX('Execution Register'!$C$6:$C$105,$O79-5)),"") | D79: =IFERROR(IF(OR($O79="",INDEX('Execution Register'!$D$6:$D$105,$O79-5)=""),"",INDEX('Execution Register'!$D$6:$D$105,$O79-5)),"") | E79: =IFERROR(IF(OR($O79="",INDEX('Execution Register'!$M$6:$M$105,$O79-5)=""),"",INDEX('Execution Register'!$M$6:$M$105,$O79-5)),"") | F79: =IFERROR(IF(OR($O79="",INDEX('Execution Register'!$N$6:$N$105,$O79-5)=""),"",INDEX('Execution Register'!$N$6:$N$105,$O79-5)),"") | G79: =IFERROR(IF(OR($O79="",INDEX('Execution Register'!$E$6:$E$105,$O79-5)=""),"",INDEX('Execution Register'!$E$6:$E$105,$O79-5)),"") | H79: =IFERROR(IF(OR($O79="",INDEX('Execution Register'!$F$6:$F$105,$O79-5)=""),"",INDEX('Execution Register'!$F$6:$F$105,$O79-5)),"") | I79: =IFERROR(IF(OR($O79="",INDEX('Execution Register'!$G$6:$G$105,$O79-5)=""),"",INDEX('Execution Register'!$G$6:$G$105,$O79-5)),"") | J79: =IFERROR(IF(OR($O79="",INDEX('Execution Register'!$H$6:$H$105,$O79-5)=""),"",INDEX('Execution Register'!$H$6:$H$105,$O79-5)),"") | K79: =IFERROR(IF(OR($O79="",INDEX('Execution Register'!$I$6:$I$105,$O79-5)=""),"",INDEX('Execution Register'!$I$6:$I$105,$O79-5)),"") | L79: =IFERROR(IF(OR($O79="",INDEX('Execution Register'!$J$6:$J$105,$O79-5)=""),"",INDEX('Execution Register'!$J$6:$J$105,$O79-5)),"") | M79: =IFERROR(IF(OR($O79="",INDEX('Execution Register'!$K$6:$K$105,$O79-5)=""),"",INDEX('Execution Register'!$K$6:$K$105,$O79-5)),"") | N79: =IFERROR(IF(OR($O79="",INDEX('Execution Register'!$L$6:$L$105,$O79-5)=""),"",INDEX('Execution Register'!$L$6:$L$105,$O79-5)),"") | O79: =IFERROR(AGGREGATE(15,6,ROW('Execution Register'!$A$6:$A$105)/(LEFT('Execution Register'!$N$6:$N$105,6)="Open -"),69),"")
A80: =IFERROR(IF(OR($O80="",INDEX('Execution Register'!$A$6:$A$105,$O80-5)=""),"",INDEX('Execution Register'!$A$6:$A$105,$O80-5)),"") | B80: =IFERROR(IF(OR($O80="",INDEX('Execution Register'!$B$6:$B$105,$O80-5)=""),"",INDEX('Execution Register'!$B$6:$B$105,$O80-5)),"") | C80: =IFERROR(IF(OR($O80="",INDEX('Execution Register'!$C$6:$C$105,$O80-5)=""),"",INDEX('Execution Register'!$C$6:$C$105,$O80-5)),"") | D80: =IFERROR(IF(OR($O80="",INDEX('Execution Register'!$D$6:$D$105,$O80-5)=""),"",INDEX('Execution Register'!$D$6:$D$105,$O80-5)),"") | E80: =IFERROR(IF(OR($O80="",INDEX('Execution Register'!$M$6:$M$105,$O80-5)=""),"",INDEX('Execution Register'!$M$6:$M$105,$O80-5)),"") | F80: =IFERROR(IF(OR($O80="",INDEX('Execution Register'!$N$6:$N$105,$O80-5)=""),"",INDEX('Execution Register'!$N$6:$N$105,$O80-5)),"") | G80: =IFERROR(IF(OR($O80="",INDEX('Execution Register'!$E$6:$E$105,$O80-5)=""),"",INDEX('Execution Register'!$E$6:$E$105,$O80-5)),"") | H80: =IFERROR(IF(OR($O80="",INDEX('Execution Register'!$F$6:$F$105,$O80-5)=""),"",INDEX('Execution Register'!$F$6:$F$105,$O80-5)),"") | I80: =IFERROR(IF(OR($O80="",INDEX('Execution Register'!$G$6:$G$105,$O80-5)=""),"",INDEX('Execution Register'!$G$6:$G$105,$O80-5)),"") | J80: =IFERROR(IF(OR($O80="",INDEX('Execution Register'!$H$6:$H$105,$O80-5)=""),"",INDEX('Execution Register'!$H$6:$H$105,$O80-5)),"") | K80: =IFERROR(IF(OR($O80="",INDEX('Execution Register'!$I$6:$I$105,$O80-5)=""),"",INDEX('Execution Register'!$I$6:$I$105,$O80-5)),"") | L80: =IFERROR(IF(OR($O80="",INDEX('Execution Register'!$J$6:$J$105,$O80-5)=""),"",INDEX('Execution Register'!$J$6:$J$105,$O80-5)),"") | M80: =IFERROR(IF(OR($O80="",INDEX('Execution Register'!$K$6:$K$105,$O80-5)=""),"",INDEX('Execution Register'!$K$6:$K$105,$O80-5)),"") | N80: =IFERROR(IF(OR($O80="",INDEX('Execution Register'!$L$6:$L$105,$O80-5)=""),"",INDEX('Execution Register'!$L$6:$L$105,$O80-5)),"") | O80: =IFERROR(AGGREGATE(15,6,ROW('Execution Register'!$A$6:$A$105)/(LEFT('Execution Register'!$N$6:$N$105,6)="Open -"),70),"")
A81: =IFERROR(IF(OR($O81="",INDEX('Execution Register'!$A$6:$A$105,$O81-5)=""),"",INDEX('Execution Register'!$A$6:$A$105,$O81-5)),"") | B81: =IFERROR(IF(OR($O81="",INDEX('Execution Register'!$B$6:$B$105,$O81-5)=""),"",INDEX('Execution Register'!$B$6:$B$105,$O81-5)),"") | C81: =IFERROR(IF(OR($O81="",INDEX('Execution Register'!$C$6:$C$105,$O81-5)=""),"",INDEX('Execution Register'!$C$6:$C$105,$O81-5)),"") | D81: =IFERROR(IF(OR($O81="",INDEX('Execution Register'!$D$6:$D$105,$O81-5)=""),"",INDEX('Execution Register'!$D$6:$D$105,$O81-5)),"") | E81: =IFERROR(IF(OR($O81="",INDEX('Execution Register'!$M$6:$M$105,$O81-5)=""),"",INDEX('Execution Register'!$M$6:$M$105,$O81-5)),"") | F81: =IFERROR(IF(OR($O81="",INDEX('Execution Register'!$N$6:$N$105,$O81-5)=""),"",INDEX('Execution Register'!$N$6:$N$105,$O81-5)),"") | G81: =IFERROR(IF(OR($O81="",INDEX('Execution Register'!$E$6:$E$105,$O81-5)=""),"",INDEX('Execution Register'!$E$6:$E$105,$O81-5)),"") | H81: =IFERROR(IF(OR($O81="",INDEX('Execution Register'!$F$6:$F$105,$O81-5)=""),"",INDEX('Execution Register'!$F$6:$F$105,$O81-5)),"") | I81: =IFERROR(IF(OR($O81="",INDEX('Execution Register'!$G$6:$G$105,$O81-5)=""),"",INDEX('Execution Register'!$G$6:$G$105,$O81-5)),"") | J81: =IFERROR(IF(OR($O81="",INDEX('Execution Register'!$H$6:$H$105,$O81-5)=""),"",INDEX('Execution Register'!$H$6:$H$105,$O81-5)),"") | K81: =IFERROR(IF(OR($O81="",INDEX('Execution Register'!$I$6:$I$105,$O81-5)=""),"",INDEX('Execution Register'!$I$6:$I$105,$O81-5)),"") | L81: =IFERROR(IF(OR($O81="",INDEX('Execution Register'!$J$6:$J$105,$O81-5)=""),"",INDEX('Execution Register'!$J$6:$J$105,$O81-5)),"") | M81: =IFERROR(IF(OR($O81="",INDEX('Execution Register'!$K$6:$K$105,$O81-5)=""),"",INDEX('Execution Register'!$K$6:$K$105,$O81-5)),"") | N81: =IFERROR(IF(OR($O81="",INDEX('Execution Register'!$L$6:$L$105,$O81-5)=""),"",INDEX('Execution Register'!$L$6:$L$105,$O81-5)),"") | O81: =IFERROR(AGGREGATE(15,6,ROW('Execution Register'!$A$6:$A$105)/(LEFT('Execution Register'!$N$6:$N$105,6)="Open -"),71),"")
A82: =IFERROR(IF(OR($O82="",INDEX('Execution Register'!$A$6:$A$105,$O82-5)=""),"",INDEX('Execution Register'!$A$6:$A$105,$O82-5)),"") | B82: =IFERROR(IF(OR($O82="",INDEX('Execution Register'!$B$6:$B$105,$O82-5)=""),"",INDEX('Execution Register'!$B$6:$B$105,$O82-5)),"") | C82: =IFERROR(IF(OR($O82="",INDEX('Execution Register'!$C$6:$C$105,$O82-5)=""),"",INDEX('Execution Register'!$C$6:$C$105,$O82-5)),"") | D82: =IFERROR(IF(OR($O82="",INDEX('Execution Register'!$D$6:$D$105,$O82-5)=""),"",INDEX('Execution Register'!$D$6:$D$105,$O82-5)),"") | E82: =IFERROR(IF(OR($O82="",INDEX('Execution Register'!$M$6:$M$105,$O82-5)=""),"",INDEX('Execution Register'!$M$6:$M$105,$O82-5)),"") | F82: =IFERROR(IF(OR($O82="",INDEX('Execution Register'!$N$6:$N$105,$O82-5)=""),"",INDEX('Execution Register'!$N$6:$N$105,$O82-5)),"") | G82: =IFERROR(IF(OR($O82="",INDEX('Execution Register'!$E$6:$E$105,$O82-5)=""),"",INDEX('Execution Register'!$E$6:$E$105,$O82-5)),"") | H82: =IFERROR(IF(OR($O82="",INDEX('Execution Register'!$F$6:$F$105,$O82-5)=""),"",INDEX('Execution Register'!$F$6:$F$105,$O82-5)),"") | I82: =IFERROR(IF(OR($O82="",INDEX('Execution Register'!$G$6:$G$105,$O82-5)=""),"",INDEX('Execution Register'!$G$6:$G$105,$O82-5)),"") | J82: =IFERROR(IF(OR($O82="",INDEX('Execution Register'!$H$6:$H$105,$O82-5)=""),"",INDEX('Execution Register'!$H$6:$H$105,$O82-5)),"") | K82: =IFERROR(IF(OR($O82="",INDEX('Execution Register'!$I$6:$I$105,$O82-5)=""),"",INDEX('Execution Register'!$I$6:$I$105,$O82-5)),"") | L82: =IFERROR(IF(OR($O82="",INDEX('Execution Register'!$J$6:$J$105,$O82-5)=""),"",INDEX('Execution Register'!$J$6:$J$105,$O82-5)),"") | M82: =IFERROR(IF(OR($O82="",INDEX('Execution Register'!$K$6:$K$105,$O82-5)=""),"",INDEX('Execution Register'!$K$6:$K$105,$O82-5)),"") | N82: =IFERROR(IF(OR($O82="",INDEX('Execution Register'!$L$6:$L$105,$O82-5)=""),"",INDEX('Execution Register'!$L$6:$L$105,$O82-5)),"") | O82: =IFERROR(AGGREGATE(15,6,ROW('Execution Register'!$A$6:$A$105)/(LEFT('Execution Register'!$N$6:$N$105,6)="Open -"),72),"")
A83: =IFERROR(IF(OR($O83="",INDEX('Execution Register'!$A$6:$A$105,$O83-5)=""),"",INDEX('Execution Register'!$A$6:$A$105,$O83-5)),"") | B83: =IFERROR(IF(OR($O83="",INDEX('Execution Register'!$B$6:$B$105,$O83-5)=""),"",INDEX('Execution Register'!$B$6:$B$105,$O83-5)),"") | C83: =IFERROR(IF(OR($O83="",INDEX('Execution Register'!$C$6:$C$105,$O83-5)=""),"",INDEX('Execution Register'!$C$6:$C$105,$O83-5)),"") | D83: =IFERROR(IF(OR($O83="",INDEX('Execution Register'!$D$6:$D$105,$O83-5)=""),"",INDEX('Execution Register'!$D$6:$D$105,$O83-5)),"") | E83: =IFERROR(IF(OR($O83="",INDEX('Execution Register'!$M$6:$M$105,$O83-5)=""),"",INDEX('Execution Register'!$M$6:$M$105,$O83-5)),"") | F83: =IFERROR(IF(OR($O83="",INDEX('Execution Register'!$N$6:$N$105,$O83-5)=""),"",INDEX('Execution Register'!$N$6:$N$105,$O83-5)),"") | G83: =IFERROR(IF(OR($O83="",INDEX('Execution Register'!$E$6:$E$105,$O83-5)=""),"",INDEX('Execution Register'!$E$6:$E$105,$O83-5)),"") | H83: =IFERROR(IF(OR($O83="",INDEX('Execution Register'!$F$6:$F$105,$O83-5)=""),"",INDEX('Execution Register'!$F$6:$F$105,$O83-5)),"") | I83: =IFERROR(IF(OR($O83="",INDEX('Execution Register'!$G$6:$G$105,$O83-5)=""),"",INDEX('Execution Register'!$G$6:$G$105,$O83-5)),"") | J83: =IFERROR(IF(OR($O83="",INDEX('Execution Register'!$H$6:$H$105,$O83-5)=""),"",INDEX('Execution Register'!$H$6:$H$105,$O83-5)),"") | K83: =IFERROR(IF(OR($O83="",INDEX('Execution Register'!$I$6:$I$105,$O83-5)=""),"",INDEX('Execution Register'!$I$6:$I$105,$O83-5)),"") | L83: =IFERROR(IF(OR($O83="",INDEX('Execution Register'!$J$6:$J$105,$O83-5)=""),"",INDEX('Execution Register'!$J$6:$J$105,$O83-5)),"") | M83: =IFERROR(IF(OR($O83="",INDEX('Execution Register'!$K$6:$K$105,$O83-5)=""),"",INDEX('Execution Register'!$K$6:$K$105,$O83-5)),"") | N83: =IFERROR(IF(OR($O83="",INDEX('Execution Register'!$L$6:$L$105,$O83-5)=""),"",INDEX('Execution Register'!$L$6:$L$105,$O83-5)),"") | O83: =IFERROR(AGGREGATE(15,6,ROW('Execution Register'!$A$6:$A$105)/(LEFT('Execution Register'!$N$6:$N$105,6)="Open -"),73),"")
A84: =IFERROR(IF(OR($O84="",INDEX('Execution Register'!$A$6:$A$105,$O84-5)=""),"",INDEX('Execution Register'!$A$6:$A$105,$O84-5)),"") | B84: =IFERROR(IF(OR($O84="",INDEX('Execution Register'!$B$6:$B$105,$O84-5)=""),"",INDEX('Execution Register'!$B$6:$B$105,$O84-5)),"") | C84: =IFERROR(IF(OR($O84="",INDEX('Execution Register'!$C$6:$C$105,$O84-5)=""),"",INDEX('Execution Register'!$C$6:$C$105,$O84-5)),"") | D84: =IFERROR(IF(OR($O84="",INDEX('Execution Register'!$D$6:$D$105,$O84-5)=""),"",INDEX('Execution Register'!$D$6:$D$105,$O84-5)),"") | E84: =IFERROR(IF(OR($O84="",INDEX('Execution Register'!$M$6:$M$105,$O84-5)=""),"",INDEX('Execution Register'!$M$6:$M$105,$O84-5)),"") | F84: =IFERROR(IF(OR($O84="",INDEX('Execution Register'!$N$6:$N$105,$O84-5)=""),"",INDEX('Execution Register'!$N$6:$N$105,$O84-5)),"") | G84: =IFERROR(IF(OR($O84="",INDEX('Execution Register'!$E$6:$E$105,$O84-5)=""),"",INDEX('Execution Register'!$E$6:$E$105,$O84-5)),"") | H84: =IFERROR(IF(OR($O84="",INDEX('Execution Register'!$F$6:$F$105,$O84-5)=""),"",INDEX('Execution Register'!$F$6:$F$105,$O84-5)),"") | I84: =IFERROR(IF(OR($O84="",INDEX('Execution Register'!$G$6:$G$105,$O84-5)=""),"",INDEX('Execution Register'!$G$6:$G$105,$O84-5)),"") | J84: =IFERROR(IF(OR($O84="",INDEX('Execution Register'!$H$6:$H$105,$O84-5)=""),"",INDEX('Execution Register'!$H$6:$H$105,$O84-5)),"") | K84: =IFERROR(IF(OR($O84="",INDEX('Execution Register'!$I$6:$I$105,$O84-5)=""),"",INDEX('Execution Register'!$I$6:$I$105,$O84-5)),"") | L84: =IFERROR(IF(OR($O84="",INDEX('Execution Register'!$J$6:$J$105,$O84-5)=""),"",INDEX('Execution Register'!$J$6:$J$105,$O84-5)),"") | M84: =IFERROR(IF(OR($O84="",INDEX('Execution Register'!$K$6:$K$105,$O84-5)=""),"",INDEX('Execution Register'!$K$6:$K$105,$O84-5)),"") | N84: =IFERROR(IF(OR($O84="",INDEX('Execution Register'!$L$6:$L$105,$O84-5)=""),"",INDEX('Execution Register'!$L$6:$L$105,$O84-5)),"") | O84: =IFERROR(AGGREGATE(15,6,ROW('Execution Register'!$A$6:$A$105)/(LEFT('Execution Register'!$N$6:$N$105,6)="Open -"),74),"")
A85: =IFERROR(IF(OR($O85="",INDEX('Execution Register'!$A$6:$A$105,$O85-5)=""),"",INDEX('Execution Register'!$A$6:$A$105,$O85-5)),"") | B85: =IFERROR(IF(OR($O85="",INDEX('Execution Register'!$B$6:$B$105,$O85-5)=""),"",INDEX('Execution Register'!$B$6:$B$105,$O85-5)),"") | C85: =IFERROR(IF(OR($O85="",INDEX('Execution Register'!$C$6:$C$105,$O85-5)=""),"",INDEX('Execution Register'!$C$6:$C$105,$O85-5)),"") | D85: =IFERROR(IF(OR($O85="",INDEX('Execution Register'!$D$6:$D$105,$O85-5)=""),"",INDEX('Execution Register'!$D$6:$D$105,$O85-5)),"") | E85: =IFERROR(IF(OR($O85="",INDEX('Execution Register'!$M$6:$M$105,$O85-5)=""),"",INDEX('Execution Register'!$M$6:$M$105,$O85-5)),"") | F85: =IFERROR(IF(OR($O85="",INDEX('Execution Register'!$N$6:$N$105,$O85-5)=""),"",INDEX('Execution Register'!$N$6:$N$105,$O85-5)),"") | G85: =IFERROR(IF(OR($O85="",INDEX('Execution Register'!$E$6:$E$105,$O85-5)=""),"",INDEX('Execution Register'!$E$6:$E$105,$O85-5)),"") | H85: =IFERROR(IF(OR($O85="",INDEX('Execution Register'!$F$6:$F$105,$O85-5)=""),"",INDEX('Execution Register'!$F$6:$F$105,$O85-5)),"") | I85: =IFERROR(IF(OR($O85="",INDEX('Execution Register'!$G$6:$G$105,$O85-5)=""),"",INDEX('Execution Register'!$G$6:$G$105,$O85-5)),"") | J85: =IFERROR(IF(OR($O85="",INDEX('Execution Register'!$H$6:$H$105,$O85-5)=""),"",INDEX('Execution Register'!$H$6:$H$105,$O85-5)),"") | K85: =IFERROR(IF(OR($O85="",INDEX('Execution Register'!$I$6:$I$105,$O85-5)=""),"",INDEX('Execution Register'!$I$6:$I$105,$O85-5)),"") | L85: =IFERROR(IF(OR($O85="",INDEX('Execution Register'!$J$6:$J$105,$O85-5)=""),"",INDEX('Execution Register'!$J$6:$J$105,$O85-5)),"") | M85: =IFERROR(IF(OR($O85="",INDEX('Execution Register'!$K$6:$K$105,$O85-5)=""),"",INDEX('Execution Register'!$K$6:$K$105,$O85-5)),"") | N85: =IFERROR(IF(OR($O85="",INDEX('Execution Register'!$L$6:$L$105,$O85-5)=""),"",INDEX('Execution Register'!$L$6:$L$105,$O85-5)),"") | O85: =IFERROR(AGGREGATE(15,6,ROW('Execution Register'!$A$6:$A$105)/(LEFT('Execution Register'!$N$6:$N$105,6)="Open -"),75),"")
A86: =IFERROR(IF(OR($O86="",INDEX('Execution Register'!$A$6:$A$105,$O86-5)=""),"",INDEX('Execution Register'!$A$6:$A$105,$O86-5)),"") | B86: =IFERROR(IF(OR($O86="",INDEX('Execution Register'!$B$6:$B$105,$O86-5)=""),"",INDEX('Execution Register'!$B$6:$B$105,$O86-5)),"") | C86: =IFERROR(IF(OR($O86="",INDEX('Execution Register'!$C$6:$C$105,$O86-5)=""),"",INDEX('Execution Register'!$C$6:$C$105,$O86-5)),"") | D86: =IFERROR(IF(OR($O86="",INDEX('Execution Register'!$D$6:$D$105,$O86-5)=""),"",INDEX('Execution Register'!$D$6:$D$105,$O86-5)),"") | E86: =IFERROR(IF(OR($O86="",INDEX('Execution Register'!$M$6:$M$105,$O86-5)=""),"",INDEX('Execution Register'!$M$6:$M$105,$O86-5)),"") | F86: =IFERROR(IF(OR($O86="",INDEX('Execution Register'!$N$6:$N$105,$O86-5)=""),"",INDEX('Execution Register'!$N$6:$N$105,$O86-5)),"") | G86: =IFERROR(IF(OR($O86="",INDEX('Execution Register'!$E$6:$E$105,$O86-5)=""),"",INDEX('Execution Register'!$E$6:$E$105,$O86-5)),"") | H86: =IFERROR(IF(OR($O86="",INDEX('Execution Register'!$F$6:$F$105,$O86-5)=""),"",INDEX('Execution Register'!$F$6:$F$105,$O86-5)),"") | I86: =IFERROR(IF(OR($O86="",INDEX('Execution Register'!$G$6:$G$105,$O86-5)=""),"",INDEX('Execution Register'!$G$6:$G$105,$O86-5)),"") | J86: =IFERROR(IF(OR($O86="",INDEX('Execution Register'!$H$6:$H$105,$O86-5)=""),"",INDEX('Execution Register'!$H$6:$H$105,$O86-5)),"") | K86: =IFERROR(IF(OR($O86="",INDEX('Execution Register'!$I$6:$I$105,$O86-5)=""),"",INDEX('Execution Register'!$I$6:$I$105,$O86-5)),"") | L86: =IFERROR(IF(OR($O86="",INDEX('Execution Register'!$J$6:$J$105,$O86-5)=""),"",INDEX('Execution Register'!$J$6:$J$105,$O86-5)),"") | M86: =IFERROR(IF(OR($O86="",INDEX('Execution Register'!$K$6:$K$105,$O86-5)=""),"",INDEX('Execution Register'!$K$6:$K$105,$O86-5)),"") | N86: =IFERROR(IF(OR($O86="",INDEX('Execution Register'!$L$6:$L$105,$O86-5)=""),"",INDEX('Execution Register'!$L$6:$L$105,$O86-5)),"") | O86: =IFERROR(AGGREGATE(15,6,ROW('Execution Register'!$A$6:$A$105)/(LEFT('Execution Register'!$N$6:$N$105,6)="Open -"),76),"")
A87: =IFERROR(IF(OR($O87="",INDEX('Execution Register'!$A$6:$A$105,$O87-5)=""),"",INDEX('Execution Register'!$A$6:$A$105,$O87-5)),"") | B87: =IFERROR(IF(OR($O87="",INDEX('Execution Register'!$B$6:$B$105,$O87-5)=""),"",INDEX('Execution Register'!$B$6:$B$105,$O87-5)),"") | C87: =IFERROR(IF(OR($O87="",INDEX('Execution Register'!$C$6:$C$105,$O87-5)=""),"",INDEX('Execution Register'!$C$6:$C$105,$O87-5)),"") | D87: =IFERROR(IF(OR($O87="",INDEX('Execution Register'!$D$6:$D$105,$O87-5)=""),"",INDEX('Execution Register'!$D$6:$D$105,$O87-5)),"") | E87: =IFERROR(IF(OR($O87="",INDEX('Execution Register'!$M$6:$M$105,$O87-5)=""),"",INDEX('Execution Register'!$M$6:$M$105,$O87-5)),"") | F87: =IFERROR(IF(OR($O87="",INDEX('Execution Register'!$N$6:$N$105,$O87-5)=""),"",INDEX('Execution Register'!$N$6:$N$105,$O87-5)),"") | G87: =IFERROR(IF(OR($O87="",INDEX('Execution Register'!$E$6:$E$105,$O87-5)=""),"",INDEX('Execution Register'!$E$6:$E$105,$O87-5)),"") | H87: =IFERROR(IF(OR($O87="",INDEX('Execution Register'!$F$6:$F$105,$O87-5)=""),"",INDEX('Execution Register'!$F$6:$F$105,$O87-5)),"") | I87: =IFERROR(IF(OR($O87="",INDEX('Execution Register'!$G$6:$G$105,$O87-5)=""),"",INDEX('Execution Register'!$G$6:$G$105,$O87-5)),"") | J87: =IFERROR(IF(OR($O87="",INDEX('Execution Register'!$H$6:$H$105,$O87-5)=""),"",INDEX('Execution Register'!$H$6:$H$105,$O87-5)),"") | K87: =IFERROR(IF(OR($O87="",INDEX('Execution Register'!$I$6:$I$105,$O87-5)=""),"",INDEX('Execution Register'!$I$6:$I$105,$O87-5)),"") | L87: =IFERROR(IF(OR($O87="",INDEX('Execution Register'!$J$6:$J$105,$O87-5)=""),"",INDEX('Execution Register'!$J$6:$J$105,$O87-5)),"") | M87: =IFERROR(IF(OR($O87="",INDEX('Execution Register'!$K$6:$K$105,$O87-5)=""),"",INDEX('Execution Register'!$K$6:$K$105,$O87-5)),"") | N87: =IFERROR(IF(OR($O87="",INDEX('Execution Register'!$L$6:$L$105,$O87-5)=""),"",INDEX('Execution Register'!$L$6:$L$105,$O87-5)),"") | O87: =IFERROR(AGGREGATE(15,6,ROW('Execution Register'!$A$6:$A$105)/(LEFT('Execution Register'!$N$6:$N$105,6)="Open -"),77),"")
A88: =IFERROR(IF(OR($O88="",INDEX('Execution Register'!$A$6:$A$105,$O88-5)=""),"",INDEX('Execution Register'!$A$6:$A$105,$O88-5)),"") | B88: =IFERROR(IF(OR($O88="",INDEX('Execution Register'!$B$6:$B$105,$O88-5)=""),"",INDEX('Execution Register'!$B$6:$B$105,$O88-5)),"") | C88: =IFERROR(IF(OR($O88="",INDEX('Execution Register'!$C$6:$C$105,$O88-5)=""),"",INDEX('Execution Register'!$C$6:$C$105,$O88-5)),"") | D88: =IFERROR(IF(OR($O88="",INDEX('Execution Register'!$D$6:$D$105,$O88-5)=""),"",INDEX('Execution Register'!$D$6:$D$105,$O88-5)),"") | E88: =IFERROR(IF(OR($O88="",INDEX('Execution Register'!$M$6:$M$105,$O88-5)=""),"",INDEX('Execution Register'!$M$6:$M$105,$O88-5)),"") | F88: =IFERROR(IF(OR($O88="",INDEX('Execution Register'!$N$6:$N$105,$O88-5)=""),"",INDEX('Execution Register'!$N$6:$N$105,$O88-5)),"") | G88: =IFERROR(IF(OR($O88="",INDEX('Execution Register'!$E$6:$E$105,$O88-5)=""),"",INDEX('Execution Register'!$E$6:$E$105,$O88-5)),"") | H88: =IFERROR(IF(OR($O88="",INDEX('Execution Register'!$F$6:$F$105,$O88-5)=""),"",INDEX('Execution Register'!$F$6:$F$105,$O88-5)),"") | I88: =IFERROR(IF(OR($O88="",INDEX('Execution Register'!$G$6:$G$105,$O88-5)=""),"",INDEX('Execution Register'!$G$6:$G$105,$O88-5)),"") | J88: =IFERROR(IF(OR($O88="",INDEX('Execution Register'!$H$6:$H$105,$O88-5)=""),"",INDEX('Execution Register'!$H$6:$H$105,$O88-5)),"") | K88: =IFERROR(IF(OR($O88="",INDEX('Execution Register'!$I$6:$I$105,$O88-5)=""),"",INDEX('Execution Register'!$I$6:$I$105,$O88-5)),"") | L88: =IFERROR(IF(OR($O88="",INDEX('Execution Register'!$J$6:$J$105,$O88-5)=""),"",INDEX('Execution Register'!$J$6:$J$105,$O88-5)),"") | M88: =IFERROR(IF(OR($O88="",INDEX('Execution Register'!$K$6:$K$105,$O88-5)=""),"",INDEX('Execution Register'!$K$6:$K$105,$O88-5)),"") | N88: =IFERROR(IF(OR($O88="",INDEX('Execution Register'!$L$6:$L$105,$O88-5)=""),"",INDEX('Execution Register'!$L$6:$L$105,$O88-5)),"") | O88: =IFERROR(AGGREGATE(15,6,ROW('Execution Register'!$A$6:$A$105)/(LEFT('Execution Register'!$N$6:$N$105,6)="Open -"),78),"")
A89: =IFERROR(IF(OR($O89="",INDEX('Execution Register'!$A$6:$A$105,$O89-5)=""),"",INDEX('Execution Register'!$A$6:$A$105,$O89-5)),"") | B89: =IFERROR(IF(OR($O89="",INDEX('Execution Register'!$B$6:$B$105,$O89-5)=""),"",INDEX('Execution Register'!$B$6:$B$105,$O89-5)),"") | C89: =IFERROR(IF(OR($O89="",INDEX('Execution Register'!$C$6:$C$105,$O89-5)=""),"",INDEX('Execution Register'!$C$6:$C$105,$O89-5)),"") | D89: =IFERROR(IF(OR($O89="",INDEX('Execution Register'!$D$6:$D$105,$O89-5)=""),"",INDEX('Execution Register'!$D$6:$D$105,$O89-5)),"") | E89: =IFERROR(IF(OR($O89="",INDEX('Execution Register'!$M$6:$M$105,$O89-5)=""),"",INDEX('Execution Register'!$M$6:$M$105,$O89-5)),"") | F89: =IFERROR(IF(OR($O89="",INDEX('Execution Register'!$N$6:$N$105,$O89-5)=""),"",INDEX('Execution Register'!$N$6:$N$105,$O89-5)),"") | G89: =IFERROR(IF(OR($O89="",INDEX('Execution Register'!$E$6:$E$105,$O89-5)=""),"",INDEX('Execution Register'!$E$6:$E$105,$O89-5)),"") | H89: =IFERROR(IF(OR($O89="",INDEX('Execution Register'!$F$6:$F$105,$O89-5)=""),"",INDEX('Execution Register'!$F$6:$F$105,$O89-5)),"") | I89: =IFERROR(IF(OR($O89="",INDEX('Execution Register'!$G$6:$G$105,$O89-5)=""),"",INDEX('Execution Register'!$G$6:$G$105,$O89-5)),"") | J89: =IFERROR(IF(OR($O89="",INDEX('Execution Register'!$H$6:$H$105,$O89-5)=""),"",INDEX('Execution Register'!$H$6:$H$105,$O89-5)),"") | K89: =IFERROR(IF(OR($O89="",INDEX('Execution Register'!$I$6:$I$105,$O89-5)=""),"",INDEX('Execution Register'!$I$6:$I$105,$O89-5)),"") | L89: =IFERROR(IF(OR($O89="",INDEX('Execution Register'!$J$6:$J$105,$O89-5)=""),"",INDEX('Execution Register'!$J$6:$J$105,$O89-5)),"") | M89: =IFERROR(IF(OR($O89="",INDEX('Execution Register'!$K$6:$K$105,$O89-5)=""),"",INDEX('Execution Register'!$K$6:$K$105,$O89-5)),"") | N89: =IFERROR(IF(OR($O89="",INDEX('Execution Register'!$L$6:$L$105,$O89-5)=""),"",INDEX('Execution Register'!$L$6:$L$105,$O89-5)),"") | O89: =IFERROR(AGGREGATE(15,6,ROW('Execution Register'!$A$6:$A$105)/(LEFT('Execution Register'!$N$6:$N$105,6)="Open -"),79),"")
A90: =IFERROR(IF(OR($O90="",INDEX('Execution Register'!$A$6:$A$105,$O90-5)=""),"",INDEX('Execution Register'!$A$6:$A$105,$O90-5)),"") | B90: =IFERROR(IF(OR($O90="",INDEX('Execution Register'!$B$6:$B$105,$O90-5)=""),"",INDEX('Execution Register'!$B$6:$B$105,$O90-5)),"") | C90: =IFERROR(IF(OR($O90="",INDEX('Execution Register'!$C$6:$C$105,$O90-5)=""),"",INDEX('Execution Register'!$C$6:$C$105,$O90-5)),"") | D90: =IFERROR(IF(OR($O90="",INDEX('Execution Register'!$D$6:$D$105,$O90-5)=""),"",INDEX('Execution Register'!$D$6:$D$105,$O90-5)),"") | E90: =IFERROR(IF(OR($O90="",INDEX('Execution Register'!$M$6:$M$105,$O90-5)=""),"",INDEX('Execution Register'!$M$6:$M$105,$O90-5)),"") | F90: =IFERROR(IF(OR($O90="",INDEX('Execution Register'!$N$6:$N$105,$O90-5)=""),"",INDEX('Execution Register'!$N$6:$N$105,$O90-5)),"") | G90: =IFERROR(IF(OR($O90="",INDEX('Execution Register'!$E$6:$E$105,$O90-5)=""),"",INDEX('Execution Register'!$E$6:$E$105,$O90-5)),"") | H90: =IFERROR(IF(OR($O90="",INDEX('Execution Register'!$F$6:$F$105,$O90-5)=""),"",INDEX('Execution Register'!$F$6:$F$105,$O90-5)),"") | I90: =IFERROR(IF(OR($O90="",INDEX('Execution Register'!$G$6:$G$105,$O90-5)=""),"",INDEX('Execution Register'!$G$6:$G$105,$O90-5)),"") | J90: =IFERROR(IF(OR($O90="",INDEX('Execution Register'!$H$6:$H$105,$O90-5)=""),"",INDEX('Execution Register'!$H$6:$H$105,$O90-5)),"") | K90: =IFERROR(IF(OR($O90="",INDEX('Execution Register'!$I$6:$I$105,$O90-5)=""),"",INDEX('Execution Register'!$I$6:$I$105,$O90-5)),"") | L90: =IFERROR(IF(OR($O90="",INDEX('Execution Register'!$J$6:$J$105,$O90-5)=""),"",INDEX('Execution Register'!$J$6:$J$105,$O90-5)),"") | M90: =IFERROR(IF(OR($O90="",INDEX('Execution Register'!$K$6:$K$105,$O90-5)=""),"",INDEX('Execution Register'!$K$6:$K$105,$O90-5)),"") | N90: =IFERROR(IF(OR($O90="",INDEX('Execution Register'!$L$6:$L$105,$O90-5)=""),"",INDEX('Execution Register'!$L$6:$L$105,$O90-5)),"") | O90: =IFERROR(AGGREGATE(15,6,ROW('Execution Register'!$A$6:$A$105)/(LEFT('Execution Register'!$N$6:$N$105,6)="Open -"),80),"")
A91: =IFERROR(IF(OR($O91="",INDEX('Execution Register'!$A$6:$A$105,$O91-5)=""),"",INDEX('Execution Register'!$A$6:$A$105,$O91-5)),"") | B91: =IFERROR(IF(OR($O91="",INDEX('Execution Register'!$B$6:$B$105,$O91-5)=""),"",INDEX('Execution Register'!$B$6:$B$105,$O91-5)),"") | C91: =IFERROR(IF(OR($O91="",INDEX('Execution Register'!$C$6:$C$105,$O91-5)=""),"",INDEX('Execution Register'!$C$6:$C$105,$O91-5)),"") | D91: =IFERROR(IF(OR($O91="",INDEX('Execution Register'!$D$6:$D$105,$O91-5)=""),"",INDEX('Execution Register'!$D$6:$D$105,$O91-5)),"") | E91: =IFERROR(IF(OR($O91="",INDEX('Execution Register'!$M$6:$M$105,$O91-5)=""),"",INDEX('Execution Register'!$M$6:$M$105,$O91-5)),"") | F91: =IFERROR(IF(OR($O91="",INDEX('Execution Register'!$N$6:$N$105,$O91-5)=""),"",INDEX('Execution Register'!$N$6:$N$105,$O91-5)),"") | G91: =IFERROR(IF(OR($O91="",INDEX('Execution Register'!$E$6:$E$105,$O91-5)=""),"",INDEX('Execution Register'!$E$6:$E$105,$O91-5)),"") | H91: =IFERROR(IF(OR($O91="",INDEX('Execution Register'!$F$6:$F$105,$O91-5)=""),"",INDEX('Execution Register'!$F$6:$F$105,$O91-5)),"") | I91: =IFERROR(IF(OR($O91="",INDEX('Execution Register'!$G$6:$G$105,$O91-5)=""),"",INDEX('Execution Register'!$G$6:$G$105,$O91-5)),"") | J91: =IFERROR(IF(OR($O91="",INDEX('Execution Register'!$H$6:$H$105,$O91-5)=""),"",INDEX('Execution Register'!$H$6:$H$105,$O91-5)),"") | K91: =IFERROR(IF(OR($O91="",INDEX('Execution Register'!$I$6:$I$105,$O91-5)=""),"",INDEX('Execution Register'!$I$6:$I$105,$O91-5)),"") | L91: =IFERROR(IF(OR($O91="",INDEX('Execution Register'!$J$6:$J$105,$O91-5)=""),"",INDEX('Execution Register'!$J$6:$J$105,$O91-5)),"") | M91: =IFERROR(IF(OR($O91="",INDEX('Execution Register'!$K$6:$K$105,$O91-5)=""),"",INDEX('Execution Register'!$K$6:$K$105,$O91-5)),"") | N91: =IFERROR(IF(OR($O91="",INDEX('Execution Register'!$L$6:$L$105,$O91-5)=""),"",INDEX('Execution Register'!$L$6:$L$105,$O91-5)),"") | O91: =IFERROR(AGGREGATE(15,6,ROW('Execution Register'!$A$6:$A$105)/(LEFT('Execution Register'!$N$6:$N$105,6)="Open -"),81),"")
A92: =IFERROR(IF(OR($O92="",INDEX('Execution Register'!$A$6:$A$105,$O92-5)=""),"",INDEX('Execution Register'!$A$6:$A$105,$O92-5)),"") | B92: =IFERROR(IF(OR($O92="",INDEX('Execution Register'!$B$6:$B$105,$O92-5)=""),"",INDEX('Execution Register'!$B$6:$B$105,$O92-5)),"") | C92: =IFERROR(IF(OR($O92="",INDEX('Execution Register'!$C$6:$C$105,$O92-5)=""),"",INDEX('Execution Register'!$C$6:$C$105,$O92-5)),"") | D92: =IFERROR(IF(OR($O92="",INDEX('Execution Register'!$D$6:$D$105,$O92-5)=""),"",INDEX('Execution Register'!$D$6:$D$105,$O92-5)),"") | E92: =IFERROR(IF(OR($O92="",INDEX('Execution Register'!$M$6:$M$105,$O92-5)=""),"",INDEX('Execution Register'!$M$6:$M$105,$O92-5)),"") | F92: =IFERROR(IF(OR($O92="",INDEX('Execution Register'!$N$6:$N$105,$O92-5)=""),"",INDEX('Execution Register'!$N$6:$N$105,$O92-5)),"") | G92: =IFERROR(IF(OR($O92="",INDEX('Execution Register'!$E$6:$E$105,$O92-5)=""),"",INDEX('Execution Register'!$E$6:$E$105,$O92-5)),"") | H92: =IFERROR(IF(OR($O92="",INDEX('Execution Register'!$F$6:$F$105,$O92-5)=""),"",INDEX('Execution Register'!$F$6:$F$105,$O92-5)),"") | I92: =IFERROR(IF(OR($O92="",INDEX('Execution Register'!$G$6:$G$105,$O92-5)=""),"",INDEX('Execution Register'!$G$6:$G$105,$O92-5)),"") | J92: =IFERROR(IF(OR($O92="",INDEX('Execution Register'!$H$6:$H$105,$O92-5)=""),"",INDEX('Execution Register'!$H$6:$H$105,$O92-5)),"") | K92: =IFERROR(IF(OR($O92="",INDEX('Execution Register'!$I$6:$I$105,$O92-5)=""),"",INDEX('Execution Register'!$I$6:$I$105,$O92-5)),"") | L92: =IFERROR(IF(OR($O92="",INDEX('Execution Register'!$J$6:$J$105,$O92-5)=""),"",INDEX('Execution Register'!$J$6:$J$105,$O92-5)),"") | M92: =IFERROR(IF(OR($O92="",INDEX('Execution Register'!$K$6:$K$105,$O92-5)=""),"",INDEX('Execution Register'!$K$6:$K$105,$O92-5)),"") | N92: =IFERROR(IF(OR($O92="",INDEX('Execution Register'!$L$6:$L$105,$O92-5)=""),"",INDEX('Execution Register'!$L$6:$L$105,$O92-5)),"") | O92: =IFERROR(AGGREGATE(15,6,ROW('Execution Register'!$A$6:$A$105)/(LEFT('Execution Register'!$N$6:$N$105,6)="Open -"),82),"")
A93: =IFERROR(IF(OR($O93="",INDEX('Execution Register'!$A$6:$A$105,$O93-5)=""),"",INDEX('Execution Register'!$A$6:$A$105,$O93-5)),"") | B93: =IFERROR(IF(OR($O93="",INDEX('Execution Register'!$B$6:$B$105,$O93-5)=""),"",INDEX('Execution Register'!$B$6:$B$105,$O93-5)),"") | C93: =IFERROR(IF(OR($O93="",INDEX('Execution Register'!$C$6:$C$105,$O93-5)=""),"",INDEX('Execution Register'!$C$6:$C$105,$O93-5)),"") | D93: =IFERROR(IF(OR($O93="",INDEX('Execution Register'!$D$6:$D$105,$O93-5)=""),"",INDEX('Execution Register'!$D$6:$D$105,$O93-5)),"") | E93: =IFERROR(IF(OR($O93="",INDEX('Execution Register'!$M$6:$M$105,$O93-5)=""),"",INDEX('Execution Register'!$M$6:$M$105,$O93-5)),"") | F93: =IFERROR(IF(OR($O93="",INDEX('Execution Register'!$N$6:$N$105,$O93-5)=""),"",INDEX('Execution Register'!$N$6:$N$105,$O93-5)),"") | G93: =IFERROR(IF(OR($O93="",INDEX('Execution Register'!$E$6:$E$105,$O93-5)=""),"",INDEX('Execution Register'!$E$6:$E$105,$O93-5)),"") | H93: =IFERROR(IF(OR($O93="",INDEX('Execution Register'!$F$6:$F$105,$O93-5)=""),"",INDEX('Execution Register'!$F$6:$F$105,$O93-5)),"") | I93: =IFERROR(IF(OR($O93="",INDEX('Execution Register'!$G$6:$G$105,$O93-5)=""),"",INDEX('Execution Register'!$G$6:$G$105,$O93-5)),"") | J93: =IFERROR(IF(OR($O93="",INDEX('Execution Register'!$H$6:$H$105,$O93-5)=""),"",INDEX('Execution Register'!$H$6:$H$105,$O93-5)),"") | K93: =IFERROR(IF(OR($O93="",INDEX('Execution Register'!$I$6:$I$105,$O93-5)=""),"",INDEX('Execution Register'!$I$6:$I$105,$O93-5)),"") | L93: =IFERROR(IF(OR($O93="",INDEX('Execution Register'!$J$6:$J$105,$O93-5)=""),"",INDEX('Execution Register'!$J$6:$J$105,$O93-5)),"") | M93: =IFERROR(IF(OR($O93="",INDEX('Execution Register'!$K$6:$K$105,$O93-5)=""),"",INDEX('Execution Register'!$K$6:$K$105,$O93-5)),"") | N93: =IFERROR(IF(OR($O93="",INDEX('Execution Register'!$L$6:$L$105,$O93-5)=""),"",INDEX('Execution Register'!$L$6:$L$105,$O93-5)),"") | O93: =IFERROR(AGGREGATE(15,6,ROW('Execution Register'!$A$6:$A$105)/(LEFT('Execution Register'!$N$6:$N$105,6)="Open -"),83),"")
A94: =IFERROR(IF(OR($O94="",INDEX('Execution Register'!$A$6:$A$105,$O94-5)=""),"",INDEX('Execution Register'!$A$6:$A$105,$O94-5)),"") | B94: =IFERROR(IF(OR($O94="",INDEX('Execution Register'!$B$6:$B$105,$O94-5)=""),"",INDEX('Execution Register'!$B$6:$B$105,$O94-5)),"") | C94: =IFERROR(IF(OR($O94="",INDEX('Execution Register'!$C$6:$C$105,$O94-5)=""),"",INDEX('Execution Register'!$C$6:$C$105,$O94-5)),"") | D94: =IFERROR(IF(OR($O94="",INDEX('Execution Register'!$D$6:$D$105,$O94-5)=""),"",INDEX('Execution Register'!$D$6:$D$105,$O94-5)),"") | E94: =IFERROR(IF(OR($O94="",INDEX('Execution Register'!$M$6:$M$105,$O94-5)=""),"",INDEX('Execution Register'!$M$6:$M$105,$O94-5)),"") | F94: =IFERROR(IF(OR($O94="",INDEX('Execution Register'!$N$6:$N$105,$O94-5)=""),"",INDEX('Execution Register'!$N$6:$N$105,$O94-5)),"") | G94: =IFERROR(IF(OR($O94="",INDEX('Execution Register'!$E$6:$E$105,$O94-5)=""),"",INDEX('Execution Register'!$E$6:$E$105,$O94-5)),"") | H94: =IFERROR(IF(OR($O94="",INDEX('Execution Register'!$F$6:$F$105,$O94-5)=""),"",INDEX('Execution Register'!$F$6:$F$105,$O94-5)),"") | I94: =IFERROR(IF(OR($O94="",INDEX('Execution Register'!$G$6:$G$105,$O94-5)=""),"",INDEX('Execution Register'!$G$6:$G$105,$O94-5)),"") | J94: =IFERROR(IF(OR($O94="",INDEX('Execution Register'!$H$6:$H$105,$O94-5)=""),"",INDEX('Execution Register'!$H$6:$H$105,$O94-5)),"") | K94: =IFERROR(IF(OR($O94="",INDEX('Execution Register'!$I$6:$I$105,$O94-5)=""),"",INDEX('Execution Register'!$I$6:$I$105,$O94-5)),"") | L94: =IFERROR(IF(OR($O94="",INDEX('Execution Register'!$J$6:$J$105,$O94-5)=""),"",INDEX('Execution Register'!$J$6:$J$105,$O94-5)),"") | M94: =IFERROR(IF(OR($O94="",INDEX('Execution Register'!$K$6:$K$105,$O94-5)=""),"",INDEX('Execution Register'!$K$6:$K$105,$O94-5)),"") | N94: =IFERROR(IF(OR($O94="",INDEX('Execution Register'!$L$6:$L$105,$O94-5)=""),"",INDEX('Execution Register'!$L$6:$L$105,$O94-5)),"") | O94: =IFERROR(AGGREGATE(15,6,ROW('Execution Register'!$A$6:$A$105)/(LEFT('Execution Register'!$N$6:$N$105,6)="Open -"),84),"")
A95: =IFERROR(IF(OR($O95="",INDEX('Execution Register'!$A$6:$A$105,$O95-5)=""),"",INDEX('Execution Register'!$A$6:$A$105,$O95-5)),"") | B95: =IFERROR(IF(OR($O95="",INDEX('Execution Register'!$B$6:$B$105,$O95-5)=""),"",INDEX('Execution Register'!$B$6:$B$105,$O95-5)),"") | C95: =IFERROR(IF(OR($O95="",INDEX('Execution Register'!$C$6:$C$105,$O95-5)=""),"",INDEX('Execution Register'!$C$6:$C$105,$O95-5)),"") | D95: =IFERROR(IF(OR($O95="",INDEX('Execution Register'!$D$6:$D$105,$O95-5)=""),"",INDEX('Execution Register'!$D$6:$D$105,$O95-5)),"") | E95: =IFERROR(IF(OR($O95="",INDEX('Execution Register'!$M$6:$M$105,$O95-5)=""),"",INDEX('Execution Register'!$M$6:$M$105,$O95-5)),"") | F95: =IFERROR(IF(OR($O95="",INDEX('Execution Register'!$N$6:$N$105,$O95-5)=""),"",INDEX('Execution Register'!$N$6:$N$105,$O95-5)),"") | G95: =IFERROR(IF(OR($O95="",INDEX('Execution Register'!$E$6:$E$105,$O95-5)=""),"",INDEX('Execution Register'!$E$6:$E$105,$O95-5)),"") | H95: =IFERROR(IF(OR($O95="",INDEX('Execution Register'!$F$6:$F$105,$O95-5)=""),"",INDEX('Execution Register'!$F$6:$F$105,$O95-5)),"") | I95: =IFERROR(IF(OR($O95="",INDEX('Execution Register'!$G$6:$G$105,$O95-5)=""),"",INDEX('Execution Register'!$G$6:$G$105,$O95-5)),"") | J95: =IFERROR(IF(OR($O95="",INDEX('Execution Register'!$H$6:$H$105,$O95-5)=""),"",INDEX('Execution Register'!$H$6:$H$105,$O95-5)),"") | K95: =IFERROR(IF(OR($O95="",INDEX('Execution Register'!$I$6:$I$105,$O95-5)=""),"",INDEX('Execution Register'!$I$6:$I$105,$O95-5)),"") | L95: =IFERROR(IF(OR($O95="",INDEX('Execution Register'!$J$6:$J$105,$O95-5)=""),"",INDEX('Execution Register'!$J$6:$J$105,$O95-5)),"") | M95: =IFERROR(IF(OR($O95="",INDEX('Execution Register'!$K$6:$K$105,$O95-5)=""),"",INDEX('Execution Register'!$K$6:$K$105,$O95-5)),"") | N95: =IFERROR(IF(OR($O95="",INDEX('Execution Register'!$L$6:$L$105,$O95-5)=""),"",INDEX('Execution Register'!$L$6:$L$105,$O95-5)),"") | O95: =IFERROR(AGGREGATE(15,6,ROW('Execution Register'!$A$6:$A$105)/(LEFT('Execution Register'!$N$6:$N$105,6)="Open -"),85),"")
A96: =IFERROR(IF(OR($O96="",INDEX('Execution Register'!$A$6:$A$105,$O96-5)=""),"",INDEX('Execution Register'!$A$6:$A$105,$O96-5)),"") | B96: =IFERROR(IF(OR($O96="",INDEX('Execution Register'!$B$6:$B$105,$O96-5)=""),"",INDEX('Execution Register'!$B$6:$B$105,$O96-5)),"") | C96: =IFERROR(IF(OR($O96="",INDEX('Execution Register'!$C$6:$C$105,$O96-5)=""),"",INDEX('Execution Register'!$C$6:$C$105,$O96-5)),"") | D96: =IFERROR(IF(OR($O96="",INDEX('Execution Register'!$D$6:$D$105,$O96-5)=""),"",INDEX('Execution Register'!$D$6:$D$105,$O96-5)),"") | E96: =IFERROR(IF(OR($O96="",INDEX('Execution Register'!$M$6:$M$105,$O96-5)=""),"",INDEX('Execution Register'!$M$6:$M$105,$O96-5)),"") | F96: =IFERROR(IF(OR($O96="",INDEX('Execution Register'!$N$6:$N$105,$O96-5)=""),"",INDEX('Execution Register'!$N$6:$N$105,$O96-5)),"") | G96: =IFERROR(IF(OR($O96="",INDEX('Execution Register'!$E$6:$E$105,$O96-5)=""),"",INDEX('Execution Register'!$E$6:$E$105,$O96-5)),"") | H96: =IFERROR(IF(OR($O96="",INDEX('Execution Register'!$F$6:$F$105,$O96-5)=""),"",INDEX('Execution Register'!$F$6:$F$105,$O96-5)),"") | I96: =IFERROR(IF(OR($O96="",INDEX('Execution Register'!$G$6:$G$105,$O96-5)=""),"",INDEX('Execution Register'!$G$6:$G$105,$O96-5)),"") | J96: =IFERROR(IF(OR($O96="",INDEX('Execution Register'!$H$6:$H$105,$O96-5)=""),"",INDEX('Execution Register'!$H$6:$H$105,$O96-5)),"") | K96: =IFERROR(IF(OR($O96="",INDEX('Execution Register'!$I$6:$I$105,$O96-5)=""),"",INDEX('Execution Register'!$I$6:$I$105,$O96-5)),"") | L96: =IFERROR(IF(OR($O96="",INDEX('Execution Register'!$J$6:$J$105,$O96-5)=""),"",INDEX('Execution Register'!$J$6:$J$105,$O96-5)),"") | M96: =IFERROR(IF(OR($O96="",INDEX('Execution Register'!$K$6:$K$105,$O96-5)=""),"",INDEX('Execution Register'!$K$6:$K$105,$O96-5)),"") | N96: =IFERROR(IF(OR($O96="",INDEX('Execution Register'!$L$6:$L$105,$O96-5)=""),"",INDEX('Execution Register'!$L$6:$L$105,$O96-5)),"") | O96: =IFERROR(AGGREGATE(15,6,ROW('Execution Register'!$A$6:$A$105)/(LEFT('Execution Register'!$N$6:$N$105,6)="Open -"),86),"")
A97: =IFERROR(IF(OR($O97="",INDEX('Execution Register'!$A$6:$A$105,$O97-5)=""),"",INDEX('Execution Register'!$A$6:$A$105,$O97-5)),"") | B97: =IFERROR(IF(OR($O97="",INDEX('Execution Register'!$B$6:$B$105,$O97-5)=""),"",INDEX('Execution Register'!$B$6:$B$105,$O97-5)),"") | C97: =IFERROR(IF(OR($O97="",INDEX('Execution Register'!$C$6:$C$105,$O97-5)=""),"",INDEX('Execution Register'!$C$6:$C$105,$O97-5)),"") | D97: =IFERROR(IF(OR($O97="",INDEX('Execution Register'!$D$6:$D$105,$O97-5)=""),"",INDEX('Execution Register'!$D$6:$D$105,$O97-5)),"") | E97: =IFERROR(IF(OR($O97="",INDEX('Execution Register'!$M$6:$M$105,$O97-5)=""),"",INDEX('Execution Register'!$M$6:$M$105,$O97-5)),"") | F97: =IFERROR(IF(OR($O97="",INDEX('Execution Register'!$N$6:$N$105,$O97-5)=""),"",INDEX('Execution Register'!$N$6:$N$105,$O97-5)),"") | G97: =IFERROR(IF(OR($O97="",INDEX('Execution Register'!$E$6:$E$105,$O97-5)=""),"",INDEX('Execution Register'!$E$6:$E$105,$O97-5)),"") | H97: =IFERROR(IF(OR($O97="",INDEX('Execution Register'!$F$6:$F$105,$O97-5)=""),"",INDEX('Execution Register'!$F$6:$F$105,$O97-5)),"") | I97: =IFERROR(IF(OR($O97="",INDEX('Execution Register'!$G$6:$G$105,$O97-5)=""),"",INDEX('Execution Register'!$G$6:$G$105,$O97-5)),"") | J97: =IFERROR(IF(OR($O97="",INDEX('Execution Register'!$H$6:$H$105,$O97-5)=""),"",INDEX('Execution Register'!$H$6:$H$105,$O97-5)),"") | K97: =IFERROR(IF(OR($O97="",INDEX('Execution Register'!$I$6:$I$105,$O97-5)=""),"",INDEX('Execution Register'!$I$6:$I$105,$O97-5)),"") | L97: =IFERROR(IF(OR($O97="",INDEX('Execution Register'!$J$6:$J$105,$O97-5)=""),"",INDEX('Execution Register'!$J$6:$J$105,$O97-5)),"") | M97: =IFERROR(IF(OR($O97="",INDEX('Execution Register'!$K$6:$K$105,$O97-5)=""),"",INDEX('Execution Register'!$K$6:$K$105,$O97-5)),"") | N97: =IFERROR(IF(OR($O97="",INDEX('Execution Register'!$L$6:$L$105,$O97-5)=""),"",INDEX('Execution Register'!$L$6:$L$105,$O97-5)),"") | O97: =IFERROR(AGGREGATE(15,6,ROW('Execution Register'!$A$6:$A$105)/(LEFT('Execution Register'!$N$6:$N$105,6)="Open -"),87),"")
A98: =IFERROR(IF(OR($O98="",INDEX('Execution Register'!$A$6:$A$105,$O98-5)=""),"",INDEX('Execution Register'!$A$6:$A$105,$O98-5)),"") | B98: =IFERROR(IF(OR($O98="",INDEX('Execution Register'!$B$6:$B$105,$O98-5)=""),"",INDEX('Execution Register'!$B$6:$B$105,$O98-5)),"") | C98: =IFERROR(IF(OR($O98="",INDEX('Execution Register'!$C$6:$C$105,$O98-5)=""),"",INDEX('Execution Register'!$C$6:$C$105,$O98-5)),"") | D98: =IFERROR(IF(OR($O98="",INDEX('Execution Register'!$D$6:$D$105,$O98-5)=""),"",INDEX('Execution Register'!$D$6:$D$105,$O98-5)),"") | E98: =IFERROR(IF(OR($O98="",INDEX('Execution Register'!$M$6:$M$105,$O98-5)=""),"",INDEX('Execution Register'!$M$6:$M$105,$O98-5)),"") | F98: =IFERROR(IF(OR($O98="",INDEX('Execution Register'!$N$6:$N$105,$O98-5)=""),"",INDEX('Execution Register'!$N$6:$N$105,$O98-5)),"") | G98: =IFERROR(IF(OR($O98="",INDEX('Execution Register'!$E$6:$E$105,$O98-5)=""),"",INDEX('Execution Register'!$E$6:$E$105,$O98-5)),"") | H98: =IFERROR(IF(OR($O98="",INDEX('Execution Register'!$F$6:$F$105,$O98-5)=""),"",INDEX('Execution Register'!$F$6:$F$105,$O98-5)),"") | I98: =IFERROR(IF(OR($O98="",INDEX('Execution Register'!$G$6:$G$105,$O98-5)=""),"",INDEX('Execution Register'!$G$6:$G$105,$O98-5)),"") | J98: =IFERROR(IF(OR($O98="",INDEX('Execution Register'!$H$6:$H$105,$O98-5)=""),"",INDEX('Execution Register'!$H$6:$H$105,$O98-5)),"") | K98: =IFERROR(IF(OR($O98="",INDEX('Execution Register'!$I$6:$I$105,$O98-5)=""),"",INDEX('Execution Register'!$I$6:$I$105,$O98-5)),"") | L98: =IFERROR(IF(OR($O98="",INDEX('Execution Register'!$J$6:$J$105,$O98-5)=""),"",INDEX('Execution Register'!$J$6:$J$105,$O98-5)),"") | M98: =IFERROR(IF(OR($O98="",INDEX('Execution Register'!$K$6:$K$105,$O98-5)=""),"",INDEX('Execution Register'!$K$6:$K$105,$O98-5)),"") | N98: =IFERROR(IF(OR($O98="",INDEX('Execution Register'!$L$6:$L$105,$O98-5)=""),"",INDEX('Execution Register'!$L$6:$L$105,$O98-5)),"") | O98: =IFERROR(AGGREGATE(15,6,ROW('Execution Register'!$A$6:$A$105)/(LEFT('Execution Register'!$N$6:$N$105,6)="Open -"),88),"")
A99: =IFERROR(IF(OR($O99="",INDEX('Execution Register'!$A$6:$A$105,$O99-5)=""),"",INDEX('Execution Register'!$A$6:$A$105,$O99-5)),"") | B99: =IFERROR(IF(OR($O99="",INDEX('Execution Register'!$B$6:$B$105,$O99-5)=""),"",INDEX('Execution Register'!$B$6:$B$105,$O99-5)),"") | C99: =IFERROR(IF(OR($O99="",INDEX('Execution Register'!$C$6:$C$105,$O99-5)=""),"",INDEX('Execution Register'!$C$6:$C$105,$O99-5)),"") | D99: =IFERROR(IF(OR($O99="",INDEX('Execution Register'!$D$6:$D$105,$O99-5)=""),"",INDEX('Execution Register'!$D$6:$D$105,$O99-5)),"") | E99: =IFERROR(IF(OR($O99="",INDEX('Execution Register'!$M$6:$M$105,$O99-5)=""),"",INDEX('Execution Register'!$M$6:$M$105,$O99-5)),"") | F99: =IFERROR(IF(OR($O99="",INDEX('Execution Register'!$N$6:$N$105,$O99-5)=""),"",INDEX('Execution Register'!$N$6:$N$105,$O99-5)),"") | G99: =IFERROR(IF(OR($O99="",INDEX('Execution Register'!$E$6:$E$105,$O99-5)=""),"",INDEX('Execution Register'!$E$6:$E$105,$O99-5)),"") | H99: =IFERROR(IF(OR($O99="",INDEX('Execution Register'!$F$6:$F$105,$O99-5)=""),"",INDEX('Execution Register'!$F$6:$F$105,$O99-5)),"") | I99: =IFERROR(IF(OR($O99="",INDEX('Execution Register'!$G$6:$G$105,$O99-5)=""),"",INDEX('Execution Register'!$G$6:$G$105,$O99-5)),"") | J99: =IFERROR(IF(OR($O99="",INDEX('Execution Register'!$H$6:$H$105,$O99-5)=""),"",INDEX('Execution Register'!$H$6:$H$105,$O99-5)),"") | K99: =IFERROR(IF(OR($O99="",INDEX('Execution Register'!$I$6:$I$105,$O99-5)=""),"",INDEX('Execution Register'!$I$6:$I$105,$O99-5)),"") | L99: =IFERROR(IF(OR($O99="",INDEX('Execution Register'!$J$6:$J$105,$O99-5)=""),"",INDEX('Execution Register'!$J$6:$J$105,$O99-5)),"") | M99: =IFERROR(IF(OR($O99="",INDEX('Execution Register'!$K$6:$K$105,$O99-5)=""),"",INDEX('Execution Register'!$K$6:$K$105,$O99-5)),"") | N99: =IFERROR(IF(OR($O99="",INDEX('Execution Register'!$L$6:$L$105,$O99-5)=""),"",INDEX('Execution Register'!$L$6:$L$105,$O99-5)),"") | O99: =IFERROR(AGGREGATE(15,6,ROW('Execution Register'!$A$6:$A$105)/(LEFT('Execution Register'!$N$6:$N$105,6)="Open -"),89),"")
A100: =IFERROR(IF(OR($O100="",INDEX('Execution Register'!$A$6:$A$105,$O100-5)=""),"",INDEX('Execution Register'!$A$6:$A$105,$O100-5)),"") | B100: =IFERROR(IF(OR($O100="",INDEX('Execution Register'!$B$6:$B$105,$O100-5)=""),"",INDEX('Execution Register'!$B$6:$B$105,$O100-5)),"") | C100: =IFERROR(IF(OR($O100="",INDEX('Execution Register'!$C$6:$C$105,$O100-5)=""),"",INDEX('Execution Register'!$C$6:$C$105,$O100-5)),"") | D100: =IFERROR(IF(OR($O100="",INDEX('Execution Register'!$D$6:$D$105,$O100-5)=""),"",INDEX('Execution Register'!$D$6:$D$105,$O100-5)),"") | E100: =IFERROR(IF(OR($O100="",INDEX('Execution Register'!$M$6:$M$105,$O100-5)=""),"",INDEX('Execution Register'!$M$6:$M$105,$O100-5)),"") | F100: =IFERROR(IF(OR($O100="",INDEX('Execution Register'!$N$6:$N$105,$O100-5)=""),"",INDEX('Execution Register'!$N$6:$N$105,$O100-5)),"") | G100: =IFERROR(IF(OR($O100="",INDEX('Execution Register'!$E$6:$E$105,$O100-5)=""),"",INDEX('Execution Register'!$E$6:$E$105,$O100-5)),"") | H100: =IFERROR(IF(OR($O100="",INDEX('Execution Register'!$F$6:$F$105,$O100-5)=""),"",INDEX('Execution Register'!$F$6:$F$105,$O100-5)),"") | I100: =IFERROR(IF(OR($O100="",INDEX('Execution Register'!$G$6:$G$105,$O100-5)=""),"",INDEX('Execution Register'!$G$6:$G$105,$O100-5)),"") | J100: =IFERROR(IF(OR($O100="",INDEX('Execution Register'!$H$6:$H$105,$O100-5)=""),"",INDEX('Execution Register'!$H$6:$H$105,$O100-5)),"") | K100: =IFERROR(IF(OR($O100="",INDEX('Execution Register'!$I$6:$I$105,$O100-5)=""),"",INDEX('Execution Register'!$I$6:$I$105,$O100-5)),"") | L100: =IFERROR(IF(OR($O100="",INDEX('Execution Register'!$J$6:$J$105,$O100-5)=""),"",INDEX('Execution Register'!$J$6:$J$105,$O100-5)),"") | M100: =IFERROR(IF(OR($O100="",INDEX('Execution Register'!$K$6:$K$105,$O100-5)=""),"",INDEX('Execution Register'!$K$6:$K$105,$O100-5)),"") | N100: =IFERROR(IF(OR($O100="",INDEX('Execution Register'!$L$6:$L$105,$O100-5)=""),"",INDEX('Execution Register'!$L$6:$L$105,$O100-5)),"") | O100: =IFERROR(AGGREGATE(15,6,ROW('Execution Register'!$A$6:$A$105)/(LEFT('Execution Register'!$N$6:$N$105,6)="Open -"),90),"")
A101: =IFERROR(IF(OR($O101="",INDEX('Execution Register'!$A$6:$A$105,$O101-5)=""),"",INDEX('Execution Register'!$A$6:$A$105,$O101-5)),"") | B101: =IFERROR(IF(OR($O101="",INDEX('Execution Register'!$B$6:$B$105,$O101-5)=""),"",INDEX('Execution Register'!$B$6:$B$105,$O101-5)),"") | C101: =IFERROR(IF(OR($O101="",INDEX('Execution Register'!$C$6:$C$105,$O101-5)=""),"",INDEX('Execution Register'!$C$6:$C$105,$O101-5)),"") | D101: =IFERROR(IF(OR($O101="",INDEX('Execution Register'!$D$6:$D$105,$O101-5)=""),"",INDEX('Execution Register'!$D$6:$D$105,$O101-5)),"") | E101: =IFERROR(IF(OR($O101="",INDEX('Execution Register'!$M$6:$M$105,$O101-5)=""),"",INDEX('Execution Register'!$M$6:$M$105,$O101-5)),"") | F101: =IFERROR(IF(OR($O101="",INDEX('Execution Register'!$N$6:$N$105,$O101-5)=""),"",INDEX('Execution Register'!$N$6:$N$105,$O101-5)),"") | G101: =IFERROR(IF(OR($O101="",INDEX('Execution Register'!$E$6:$E$105,$O101-5)=""),"",INDEX('Execution Register'!$E$6:$E$105,$O101-5)),"") | H101: =IFERROR(IF(OR($O101="",INDEX('Execution Register'!$F$6:$F$105,$O101-5)=""),"",INDEX('Execution Register'!$F$6:$F$105,$O101-5)),"") | I101: =IFERROR(IF(OR($O101="",INDEX('Execution Register'!$G$6:$G$105,$O101-5)=""),"",INDEX('Execution Register'!$G$6:$G$105,$O101-5)),"") | J101: =IFERROR(IF(OR($O101="",INDEX('Execution Register'!$H$6:$H$105,$O101-5)=""),"",INDEX('Execution Register'!$H$6:$H$105,$O101-5)),"") | K101: =IFERROR(IF(OR($O101="",INDEX('Execution Register'!$I$6:$I$105,$O101-5)=""),"",INDEX('Execution Register'!$I$6:$I$105,$O101-5)),"") | L101: =IFERROR(IF(OR($O101="",INDEX('Execution Register'!$J$6:$J$105,$O101-5)=""),"",INDEX('Execution Register'!$J$6:$J$105,$O101-5)),"") | M101: =IFERROR(IF(OR($O101="",INDEX('Execution Register'!$K$6:$K$105,$O101-5)=""),"",INDEX('Execution Register'!$K$6:$K$105,$O101-5)),"") | N101: =IFERROR(IF(OR($O101="",INDEX('Execution Register'!$L$6:$L$105,$O101-5)=""),"",INDEX('Execution Register'!$L$6:$L$105,$O101-5)),"") | O101: =IFERROR(AGGREGATE(15,6,ROW('Execution Register'!$A$6:$A$105)/(LEFT('Execution Register'!$N$6:$N$105,6)="Open -"),91),"")
A102: =IFERROR(IF(OR($O102="",INDEX('Execution Register'!$A$6:$A$105,$O102-5)=""),"",INDEX('Execution Register'!$A$6:$A$105,$O102-5)),"") | B102: =IFERROR(IF(OR($O102="",INDEX('Execution Register'!$B$6:$B$105,$O102-5)=""),"",INDEX('Execution Register'!$B$6:$B$105,$O102-5)),"") | C102: =IFERROR(IF(OR($O102="",INDEX('Execution Register'!$C$6:$C$105,$O102-5)=""),"",INDEX('Execution Register'!$C$6:$C$105,$O102-5)),"") | D102: =IFERROR(IF(OR($O102="",INDEX('Execution Register'!$D$6:$D$105,$O102-5)=""),"",INDEX('Execution Register'!$D$6:$D$105,$O102-5)),"") | E102: =IFERROR(IF(OR($O102="",INDEX('Execution Register'!$M$6:$M$105,$O102-5)=""),"",INDEX('Execution Register'!$M$6:$M$105,$O102-5)),"") | F102: =IFERROR(IF(OR($O102="",INDEX('Execution Register'!$N$6:$N$105,$O102-5)=""),"",INDEX('Execution Register'!$N$6:$N$105,$O102-5)),"") | G102: =IFERROR(IF(OR($O102="",INDEX('Execution Register'!$E$6:$E$105,$O102-5)=""),"",INDEX('Execution Register'!$E$6:$E$105,$O102-5)),"") | H102: =IFERROR(IF(OR($O102="",INDEX('Execution Register'!$F$6:$F$105,$O102-5)=""),"",INDEX('Execution Register'!$F$6:$F$105,$O102-5)),"") | I102: =IFERROR(IF(OR($O102="",INDEX('Execution Register'!$G$6:$G$105,$O102-5)=""),"",INDEX('Execution Register'!$G$6:$G$105,$O102-5)),"") | J102: =IFERROR(IF(OR($O102="",INDEX('Execution Register'!$H$6:$H$105,$O102-5)=""),"",INDEX('Execution Register'!$H$6:$H$105,$O102-5)),"") | K102: =IFERROR(IF(OR($O102="",INDEX('Execution Register'!$I$6:$I$105,$O102-5)=""),"",INDEX('Execution Register'!$I$6:$I$105,$O102-5)),"") | L102: =IFERROR(IF(OR($O102="",INDEX('Execution Register'!$J$6:$J$105,$O102-5)=""),"",INDEX('Execution Register'!$J$6:$J$105,$O102-5)),"") | M102: =IFERROR(IF(OR($O102="",INDEX('Execution Register'!$K$6:$K$105,$O102-5)=""),"",INDEX('Execution Register'!$K$6:$K$105,$O102-5)),"") | N102: =IFERROR(IF(OR($O102="",INDEX('Execution Register'!$L$6:$L$105,$O102-5)=""),"",INDEX('Execution Register'!$L$6:$L$105,$O102-5)),"") | O102: =IFERROR(AGGREGATE(15,6,ROW('Execution Register'!$A$6:$A$105)/(LEFT('Execution Register'!$N$6:$N$105,6)="Open -"),92),"")
...

Sheet Forecast Input
A1: Production Forecast Input
A2: Inputs: product demand identifiers, reporting period, owner or responsible role, work order or run ID, and planned and actual quantities or times.
A3: Rows 6 through 14 are sample records. Replace or clear the sample records before using this workbook.
A4: Yellow cells are user inputs. Blue cells are calculated planned-versus-actual checks. Enter units explicitly; this workbook does not convert units.
A5: Product Demand Identifier | B5: Reporting Period | C5: Owner or Responsible Role | D5: Work Order or Run ID | E5: Planned Quantity | F5: Quantity Unit | G5: Actual Quantity (same unit) | H5: Planned Time | I5: Time Unit | J5: Actual Time (same unit) | K5: Status Progression | L5: Quantity Variance (Actual - Planned) | M5: Time Variance (Actual - Planned) | N5: Planned-versus-Actual Checks / Exception Status
A6: Sample Demand 01 | B6: 46266 | C6: Sample Role A | D6: Sample Run 001 | E6: 100 | F6: each | H6: 10 | I6: hours | K6: Planned | L6: =IFERROR(IF(OR($A6="",NOT(ISNUMBER($E6)),NOT(ISNUMBER($G6))),"",$G6-$E6),"") | M6: =IFERROR(IF(OR($A6="",NOT(ISNUMBER($H6)),NOT(ISNUMBER($J6))),"",$J6-$H6),"") | N6: =IFERROR(IF($A6="","",IF(OR(AND($B6<>"",NOT(ISNUMBER($B6))),AND($E6<>"",NOT(ISNUMBER($E6))),AND($G6<>"",NOT(ISNUMBER($G6))),AND($H6<>"",NOT(ISNUMBER($H6))),AND($J6<>"",NOT(ISNUMBER($J6)))),"Open - invalid date or numeric input",IF(OR($B6="",$C6="",$D6="",$K6=""),"Open - missing required input",IF(OR(AND(NOT(ISNUMBER($E6)),NOT(ISNUMBER($H6))),AND(ISNUMBER($G6),NOT(ISNUMBER($E6))),AND(ISNUMBER($J6),NOT(ISNUMBER($H6)))),"Open - missing plan",IF(OR(AND(ISNUMBER($E6),$F6=""),AND(ISNUMBER($H6),$I6="")),"Open - missing unit",IF(OR(AND($K6="Complete",ISNUMBER($E6),NOT(ISNUMBER($G6))),AND($K6="Complete",ISNUMBER($H6),NOT(ISNUMBER($J6)))),"Open - missing actual",IF(OR(AND(ISNUMBER($L6),$L6<>0),AND(ISNUMBER($M6),$M6<>0)),"Open - plan/actual difference",IF(OR($K6="Planned",$K6="In Progress"),"Pending",IF($K6="Complete","No exception",""))))))))),"")
A7: Sample Demand 02 | B7: 46266 | C7: Sample Role B | D7: Sample Run 002 | E7: 75 | F7: each | G7: 75 | H7: 8 | I7: hours | J7: 8 | K7: Complete | L7: =IFERROR(IF(OR($A7="",NOT(ISNUMBER($E7)),NOT(ISNUMBER($G7))),"",$G7-$E7),"") | M7: =IFERROR(IF(OR($A7="",NOT(ISNUMBER($H7)),NOT(ISNUMBER($J7))),"",$J7-$H7),"") | N7: =IFERROR(IF($A7="","",IF(OR(AND($B7<>"",NOT(ISNUMBER($B7))),AND($E7<>"",NOT(ISNUMBER($E7))),AND($G7<>"",NOT(ISNUMBER($G7))),AND($H7<>"",NOT(ISNUMBER($H7))),AND($J7<>"",NOT(ISNUMBER($J7)))),"Open - invalid date or numeric input",IF(OR($B7="",$C7="",$D7="",$K7=""),"Open - missing required input",IF(OR(AND(NOT(ISNUMBER($E7)),NOT(ISNUMBER($H7))),AND(ISNUMBER($G7),NOT(ISNUMBER($E7))),AND(ISNUMBER($J7),NOT(ISNUMBER($H7)))),"Open - missing plan",IF(OR(AND(ISNUMBER($E7),$F7=""),AND(ISNUMBER($H7),$I7="")),"Open - missing unit",IF(OR(AND($K7="Complete",ISNUMBER($E7),NOT(ISNUMBER($G7))),AND($K7="Complete",ISNUMBER($H7),NOT(ISNUMBER($J7)))),"Open - missing actual",IF(OR(AND(ISNUMBER($L7),$L7<>0),AND(ISNUMBER($M7),$M7<>0)),"Open - plan/actual difference",IF(OR($K7="Planned",$K7="In Progress"),"Pending",IF($K7="Complete","No exception",""))))))))),"")
A8: Sample Demand 03 | B8: 46266 | C8: Sample Role C | D8: Sample Run 003 | E8: 50 | F8: each | G8: 55 | H8: 5 | I8: hours | J8: 5 | K8: Complete | L8: =IFERROR(IF(OR($A8="",NOT(ISNUMBER($E8)),NOT(ISNUMBER($G8))),"",$G8-$E8),"") | M8: =IFERROR(IF(OR($A8="",NOT(ISNUMBER($H8)),NOT(ISNUMBER($J8))),"",$J8-$H8),"") | N8: =IFERROR(IF($A8="","",IF(OR(AND($B8<>"",NOT(ISNUMBER($B8))),AND($E8<>"",NOT(ISNUMBER($E8))),AND($G8<>"",NOT(ISNUMBER($G8))),AND($H8<>"",NOT(ISNUMBER($H8))),AND($J8<>"",NOT(ISNUMBER($J8)))),"Open - invalid date or numeric input",IF(OR($B8="",$C8="",$D8="",$K8=""),"Open - missing required input",IF(OR(AND(NOT(ISNUMBER($E8)),NOT(ISNUMBER($H8))),AND(ISNUMBER($G8),NOT(ISNUMBER($E8))),AND(ISNUMBER($J8),NOT(ISNUMBER($H8)))),"Open - missing plan",IF(OR(AND(ISNUMBER($E8),$F8=""),AND(ISNUMBER($H8),$I8="")),"Open - missing unit",IF(OR(AND($K8="Complete",ISNUMBER($E8),NOT(ISNUMBER($G8))),AND($K8="Complete",ISNUMBER($H8),NOT(ISNUMBER($J8)))),"Open - missing actual",IF(OR(AND(ISNUMBER($L8),$L8<>0),AND(ISNUMBER($M8),$M8<>0)),"Open - plan/actual difference",IF(OR($K8="Planned",$K8="In Progress"),"Pending",IF($K8="Complete","No exception",""))))))))),"")
A9: Sample Demand 04 | B9: 46266 | C9: Sample Role D | D9: Sample Run 004 | E9: 60 | F9: each | H9: 6 | I9: hours | K9: In Progress | L9: =IFERROR(IF(OR($A9="",NOT(ISNUMBER($E9)),NOT(ISNUMBER($G9))),"",$G9-$E9),"") | M9: =IFERROR(IF(OR($A9="",NOT(ISNUMBER($H9)),NOT(ISNUMBER($J9))),"",$J9-$H9),"") | N9: =IFERROR(IF($A9="","",IF(OR(AND($B9<>"",NOT(ISNUMBER($B9))),AND($E9<>"",NOT(ISNUMBER($E9))),AND($G9<>"",NOT(ISNUMBER($G9))),AND($H9<>"",NOT(ISNUMBER($H9))),AND($J9<>"",NOT(ISNUMBER($J9)))),"Open - invalid date or numeric input",IF(OR($B9="",$C9="",$D9="",$K9=""),"Open - missing required input",IF(OR(AND(NOT(ISNUMBER($E9)),NOT(ISNUMBER($H9))),AND(ISNUMBER($G9),NOT(ISNUMBER($E9))),AND(ISNUMBER($J9),NOT(ISNUMBER($H9)))),"Open - missing plan",IF(OR(AND(ISNUMBER($E9),$F9=""),AND(ISNUMBER($H9),$I9="")),"Open - missing unit",IF(OR(AND($K9="Complete",ISNUMBER($E9),NOT(ISNUMBER($G9))),AND($K9="Complete",ISNUMBER($H9),NOT(ISNUMBER($J9)))),"Open - missing actual",IF(OR(AND(ISNUMBER($L9),$L9<>0),AND(ISNUMBER($M9),$M9<>0)),"Open - plan/actual difference",IF(OR($K9="Planned",$K9="In Progress"),"Pending",IF($K9="Complete","No exception",""))))))))),"")
A10: Sample Demand 05 | B10: 46266 | C10: Sample Role E | D10: Sample Run 005 | E10: 120 | F10: each | H10: 12 | I10: hours | K10: Complete | L10: =IFERROR(IF(OR($A10="",NOT(ISNUMBER($E10)),NOT(ISNUMBER($G10))),"",$G10-$E10),"") | M10: =IFERROR(IF(OR($A10="",NOT(ISNUMBER($H10)),NOT(ISNUMBER($J10))),"",$J10-$H10),"") | N10: =IFERROR(IF($A10="","",IF(OR(AND($B10<>"",NOT(ISNUMBER($B10))),AND($E10<>"",NOT(ISNUMBER($E10))),AND($G10<>"",NOT(ISNUMBER($G10))),AND($H10<>"",NOT(ISNUMBER($H10))),AND($J10<>"",NOT(ISNUMBER($J10)))),"Open - invalid date or numeric input",IF(OR($B10="",$C10="",$D10="",$K10=""),"Open - missing required input",IF(OR(AND(NOT(ISNUMBER($E10)),NOT(ISNUMBER($H10))),AND(ISNUMBER($G10),NOT(ISNUMBER($E10))),AND(ISNUMBER($J10),NOT(ISNUMBER($H10)))),"Open - missing plan",IF(OR(AND(ISNUMBER($E10),$F10=""),AND(ISNUMBER($H10),$I10="")),"Open - missing unit",IF(OR(AND($K10="Complete",ISNUMBER($E10),NOT(ISNUMBER($G10))),AND($K10="Complete",ISNUMBER($H10),NOT(ISNUMBER($J10)))),"Open - missing actual",IF(OR(AND(ISNUMBER($L10),$L10<>0),AND(ISNUMBER($M10),$M10<>0)),"Open - plan/actual difference",IF(OR($K10="Planned",$K10="In Progress"),"Pending",IF($K10="Complete","No exception",""))))))))),"")
A11: Sample Demand 06 | B11: 46266 | C11: Sample Role F | D11: Sample Run 006 | E11: 40 | F11: each | G11: 40 | H11: 4 | I11: hours | K11: Complete | L11: =IFERROR(IF(OR($A11="",NOT(ISNUMBER($E11)),NOT(ISNUMBER($G11))),"",$G11-$E11),"") | M11: =IFERROR(IF(OR($A11="",NOT(ISNUMBER($H11)),NOT(ISNUMBER($J11))),"",$J11-$H11),"") | N11: =IFERROR(IF($A11="","",IF(OR(AND($B11<>"",NOT(ISNUMBER($B11))),AND($E11<>"",NOT(ISNUMBER($E11))),AND($G11<>"",NOT(ISNUMBER($G11))),AND($H11<>"",NOT(ISNUMBER($H11))),AND($J11<>"",NOT(ISNUMBER($J11)))),"Open - invalid date or numeric input",IF(OR($B11="",$C11="",$D11="",$K11=""),"Open - missing required input",IF(OR(AND(NOT(ISNUMBER($E11)),NOT(ISNUMBER($H11))),AND(ISNUMBER($G11),NOT(ISNUMBER($E11))),AND(ISNUMBER($J11),NOT(ISNUMBER($H11)))),"Open - missing plan",IF(OR(AND(ISNUMBER($E11),$F11=""),AND(ISNUMBER($H11),$I11="")),"Open - missing unit",IF(OR(AND($K11="Complete",ISNUMBER($E11),NOT(ISNUMBER($G11))),AND($K11="Complete",ISNUMBER($H11),NOT(ISNUMBER($J11)))),"Open - missing actual",IF(OR(AND(ISNUMBER($L11),$L11<>0),AND(ISNUMBER($M11),$M11<>0)),"Open - plan/actual difference",IF(OR($K11="Planned",$K11="In Progress"),"Pending",IF($K11="Complete","No exception",""))))))))),"")
A12: Sample Demand 07 | B12: 46266 | C12: Sample Role G | D12: Sample Run 007 | E12: 30 | F12: each | G12: 30 | K12: Complete | L12: =IFERROR(IF(OR($A12="",NOT(ISNUMBER($E12)),NOT(ISNUMBER($G12))),"",$G12-$E12),"") | M12: =IFERROR(IF(OR($A12="",NOT(ISNUMBER($H12)),NOT(ISNUMBER($J12))),"",$J12-$H12),"") | N12: =IFERROR(IF($A12="","",IF(OR(AND($B12<>"",NOT(ISNUMBER($B12))),AND($E12<>"",NOT(ISNUMBER($E12))),AND($G12<>"",NOT(ISNUMBER($G12))),AND($H12<>"",NOT(ISNUMBER($H12))),AND($J12<>"",NOT(ISNUMBER($J12)))),"Open - invalid date or numeric input",IF(OR($B12="",$C12="",$D12="",$K12=""),"Open - missing required input",IF(OR(AND(NOT(ISNUMBER($E12)),NOT(ISNUMBER($H12))),AND(ISNUMBER($G12),NOT(ISNUMBER($E12))),AND(ISNUMBER($J12),NOT(ISNUMBER($H12)))),"Open - missing plan",IF(OR(AND(ISNUMBER($E12),$F12=""),AND(ISNUMBER($H12),$I12="")),"Open - missing unit",IF(OR(AND($K12="Complete",ISNUMBER($E12),NOT(ISNUMBER($G12))),AND($K12="Complete",ISNUMBER($H12),NOT(ISNUMBER($J12)))),"Open - missing actual",IF(OR(AND(ISNUMBER($L12),$L12<>0),AND(ISNUMBER($M12),$M12<>0)),"Open - plan/actual difference",IF(OR($K12="Planned",$K12="In Progress"),"Pending",IF($K12="Complete","No exception",""))))))))),"")
A13: Sample Demand 08 | B13: 46266 | C13: Sample Role H | D13: Sample Run 008 | H13: 3 | I13: hours | J13: 4 | K13: Complete | L13: =IFERROR(IF(OR($A13="",NOT(ISNUMBER($E13)),NOT(ISNUMBER($G13))),"",$G13-$E13),"") | M13: =IFERROR(IF(OR($A13="",NOT(ISNUMBER($H13)),NOT(ISNUMBER($J13))),"",$J13-$H13),"") | N13: =IFERROR(IF($A13="","",IF(OR(AND($B13<>"",NOT(ISNUMBER($B13))),AND($E13<>"",NOT(ISNUMBER($E13))),AND($G13<>"",NOT(ISNUMBER($G13))),AND($H13<>"",NOT(ISNUMBER($H13))),AND($J13<>"",NOT(ISNUMBER($J13)))),"Open - invalid date or numeric input",IF(OR($B13="",$C13="",$D13="",$K13=""),"Open - missing required input",IF(OR(AND(NOT(ISNUMBER($E13)),NOT(ISNUMBER($H13))),AND(ISNUMBER($G13),NOT(ISNUMBER($E13))),AND(ISNUMBER($J13),NOT(ISNUMBER($H13)))),"Open - missing plan",IF(OR(AND(ISNUMBER($E13),$F13=""),AND(ISNUMBER($H13),$I13="")),"Open - missing unit",IF(OR(AND($K13="Complete",ISNUMBER($E13),NOT(ISNUMBER($G13))),AND($K13="Complete",ISNUMBER($H13),NOT(ISNUMBER($J13)))),"Open - missing actual",IF(OR(AND(ISNUMBER($L13),$L13<>0),AND(ISNUMBER($M13),$M13<>0)),"Open - plan/actual difference",IF(OR($K13="Planned",$K13="In Progress"),"Pending",IF($K13="Complete","No exception",""))))))))),"")
A14: Sample Demand 09 | B14: 46266 | C14: Sample Role I | D14: Sample Run 009 | E14: 90 | H14: 9 | I14: hours | K14: Planned | L14: =IFERROR(IF(OR($A14="",NOT(ISNUMBER($E14)),NOT(ISNUMBER($G14))),"",$G14-$E14),"") | M14: =IFERROR(IF(OR($A14="",NOT(ISNUMBER($H14)),NOT(ISNUMBER($J14))),"",$J14-$H14),"") | N14: =IFERROR(IF($A14="","",IF(OR(AND($B14<>"",NOT(ISNUMBER($B14))),AND($E14<>"",NOT(ISNUMBER($E14))),AND($G14<>"",NOT(ISNUMBER($G14))),AND($H14<>"",NOT(ISNUMBER($H14))),AND($J14<>"",NOT(ISNUMBER($J14)))),"Open - invalid date or numeric input",IF(OR($B14="",$C14="",$D14="",$K14=""),"Open - missing required input",IF(OR(AND(NOT(ISNUMBER($E14)),NOT(ISNUMBER($H14))),AND(ISNUMBER($G14),NOT(ISNUMBER($E14))),AND(ISNUMBER($J14),NOT(ISNUMBER($H14)))),"Open - missing plan",IF(OR(AND(ISNUMBER($E14),$F14=""),AND(ISNUMBER($H14),$I14="")),"Open - missing unit",IF(OR(AND($K14="Complete",ISNUMBER($E14),NOT(ISNUMBER($G14))),AND($K14="Complete",ISNUMBER($H14),NOT(ISNUMBER($J14)))),"Open - missing actual",IF(OR(AND(ISNUMBER($L14),$L14<>0),AND(ISNUMBER($M14),$M14<>0)),"Open - plan/actual difference",IF(OR($K14="Planned",$K14="In Progress"),"Pending",IF($K14="Complete","No exception",""))))))))),"")
