Workbook

Sheet Dashboard
A1: Production Schedule
A2: Plan open work orders before production release using entered due dates, routing hours, and resource calendars.
A4: Schedule Summary | D4: Planner Review
A5: Open Work Orders | B5: =COUNTIF('Work Orders'!$A$5:$A$104,"?*") | D5: Review resource loading by date, the multi-day schedule, and rescheduling exceptions before production release.
A6: Work Orders With Rescheduling Exceptions | B6: =COUNTIF('Work Orders'!$H$5:$H$104,"?*") | D6: This workbook does not release work orders or move work automatically.
A7: Work Orders Marked Late Risk | B7: =COUNTIF('Work Orders'!$G$5:$G$104,"Late") | D7: Sample data is illustrative only. Replace it with current planning information before use.
A8: Ready Schedule Allocations | B8: =COUNTIF('Resource Schedule'!$R$5:$R$104,"Ready")
A9: Schedule Allocation Exceptions | B9: =COUNTIF('Resource Schedule'!$R$5:$R$104,"Planned Hours Needed")+COUNTIF('Resource Schedule'!$R$5:$R$104,"Work Order Missing")+COUNTIF('Resource Schedule'!$R$5:$R$104,"Calendar Missing")+COUNTIF('Resource Schedule'!$R$5:$R$104,"Duplicate Calendar Entry")+COUNTIF('Resource Schedule'!$R$5:$R$104,"Work Order Overallocated")+COUNTIF('Resource Schedule'!$R$5:$R$104,"Resource Overloaded")
A12: Multi-Day Resource Schedule | I12: Rescheduling Exception List
A13: Planned Date | B13: Resource | C13: Work Order ID | D13: Planned Routing Hours | E13: Due Date | F13: Available Routing Hours | G13: Resource-Date Scheduled Routing Hours | I13: Exception Source | J13: Work Order ID | K13: Rescheduling Exception | L13: Related Date | M13: Related Routing Hours
A14: =IFERROR(INDEX('Resource Schedule'!$H$5:$H$104,MATCH(ROWS($A$14:A14),'Resource Schedule'!$T$5:$T$104,0)),"") | B14: =IFERROR(INDEX('Resource Schedule'!$I$5:$I$104,MATCH(ROWS($A$14:A14),'Resource Schedule'!$T$5:$T$104,0)),"") | C14: =IFERROR(INDEX('Resource Schedule'!$J$5:$J$104,MATCH(ROWS($A$14:A14),'Resource Schedule'!$T$5:$T$104,0)),"") | D14: =IFERROR(INDEX('Resource Schedule'!$K$5:$K$104,MATCH(ROWS($A$14:A14),'Resource Schedule'!$T$5:$T$104,0)),"") | E14: =IFERROR(INDEX('Resource Schedule'!$L$5:$L$104,MATCH(ROWS($A$14:A14),'Resource Schedule'!$T$5:$T$104,0)),"") | F14: =IFERROR(INDEX('Resource Schedule'!$P$5:$P$104,MATCH(ROWS($A$14:A14),'Resource Schedule'!$T$5:$T$104,0)),"") | G14: =IFERROR(INDEX('Resource Schedule'!$Q$5:$Q$104,MATCH(ROWS($A$14:A14),'Resource Schedule'!$T$5:$T$104,0)),"") | I14: =IF(ROWS($I$14:I14)<=COUNTIF('Work Orders'!$H$5:$H$104,"?*"),"Work Order",IF(ROWS($I$14:I14)<=COUNTIF('Work Orders'!$H$5:$H$104,"?*")+COUNTIF('Resource Schedule'!$R$5:$R$104,"Planned Hours Needed")+COUNTIF('Resource Schedule'!$R$5:$R$104,"Work Order Missing")+COUNTIF('Resource Schedule'!$R$5:$R$104,"Calendar Missing")+COUNTIF('Resource Schedule'!$R$5:$R$104,"Duplicate Calendar Entry")+COUNTIF('Resource Schedule'!$R$5:$R$104,"Work Order Overallocated")+COUNTIF('Resource Schedule'!$R$5:$R$104,"Resource Overloaded"),"Schedule Allocation","")) | J14: =IF(I14="Work Order",IFERROR(INDEX('Work Orders'!$A$5:$A$104,MATCH(ROWS($I$14:I14),'Work Orders'!$I$5:$I$104,0)),""),IF(I14="Schedule Allocation",IFERROR(INDEX('Resource Schedule'!$J$5:$J$104,MATCH(ROWS($I$14:I14)-COUNTIF('Work Orders'!$H$5:$H$104,"?*"),'Resource Schedule'!$S$5:$S$104,0)),""),"")) | K14: =IF(I14="Work Order",IFERROR(INDEX('Work Orders'!$H$5:$H$104,MATCH(ROWS($I$14:I14),'Work Orders'!$I$5:$I$104,0)),""),IF(I14="Schedule Allocation",IFERROR(INDEX('Resource Schedule'!$R$5:$R$104,MATCH(ROWS($I$14:I14)-COUNTIF('Work Orders'!$H$5:$H$104,"?*"),'Resource Schedule'!$S$5:$S$104,0)),""),"")) | L14: =IF(I14="Work Order",IFERROR(INDEX('Work Orders'!$B$5:$B$104,MATCH(ROWS($I$14:I14),'Work Orders'!$I$5:$I$104,0)),""),IF(I14="Schedule Allocation",IFERROR(INDEX('Resource Schedule'!$H$5:$H$104,MATCH(ROWS($I$14:I14)-COUNTIF('Work Orders'!$H$5:$H$104,"?*"),'Resource Schedule'!$S$5:$S$104,0)),""),"")) | M14: =IF(I14="Work Order",IFERROR(INDEX('Work Orders'!$E$5:$E$104,MATCH(ROWS($I$14:I14),'Work Orders'!$I$5:$I$104,0)),""),IF(I14="Schedule Allocation",IFERROR(INDEX('Resource Schedule'!$K$5:$K$104,MATCH(ROWS($I$14:I14)-COUNTIF('Work Orders'!$H$5:$H$104,"?*"),'Resource Schedule'!$S$5:$S$104,0)),""),""))
A15: =IFERROR(INDEX('Resource Schedule'!$H$5:$H$104,MATCH(ROWS($A$14:A15),'Resource Schedule'!$T$5:$T$104,0)),"") | B15: =IFERROR(INDEX('Resource Schedule'!$I$5:$I$104,MATCH(ROWS($A$14:A15),'Resource Schedule'!$T$5:$T$104,0)),"") | C15: =IFERROR(INDEX('Resource Schedule'!$J$5:$J$104,MATCH(ROWS($A$14:A15),'Resource Schedule'!$T$5:$T$104,0)),"") | D15: =IFERROR(INDEX('Resource Schedule'!$K$5:$K$104,MATCH(ROWS($A$14:A15),'Resource Schedule'!$T$5:$T$104,0)),"") | E15: =IFERROR(INDEX('Resource Schedule'!$L$5:$L$104,MATCH(ROWS($A$14:A15),'Resource Schedule'!$T$5:$T$104,0)),"") | F15: =IFERROR(INDEX('Resource Schedule'!$P$5:$P$104,MATCH(ROWS($A$14:A15),'Resource Schedule'!$T$5:$T$104,0)),"") | G15: =IFERROR(INDEX('Resource Schedule'!$Q$5:$Q$104,MATCH(ROWS($A$14:A15),'Resource Schedule'!$T$5:$T$104,0)),"") | I15: =IF(ROWS($I$14:I15)<=COUNTIF('Work Orders'!$H$5:$H$104,"?*"),"Work Order",IF(ROWS($I$14:I15)<=COUNTIF('Work Orders'!$H$5:$H$104,"?*")+COUNTIF('Resource Schedule'!$R$5:$R$104,"Planned Hours Needed")+COUNTIF('Resource Schedule'!$R$5:$R$104,"Work Order Missing")+COUNTIF('Resource Schedule'!$R$5:$R$104,"Calendar Missing")+COUNTIF('Resource Schedule'!$R$5:$R$104,"Duplicate Calendar Entry")+COUNTIF('Resource Schedule'!$R$5:$R$104,"Work Order Overallocated")+COUNTIF('Resource Schedule'!$R$5:$R$104,"Resource Overloaded"),"Schedule Allocation","")) | J15: =IF(I15="Work Order",IFERROR(INDEX('Work Orders'!$A$5:$A$104,MATCH(ROWS($I$14:I15),'Work Orders'!$I$5:$I$104,0)),""),IF(I15="Schedule Allocation",IFERROR(INDEX('Resource Schedule'!$J$5:$J$104,MATCH(ROWS($I$14:I15)-COUNTIF('Work Orders'!$H$5:$H$104,"?*"),'Resource Schedule'!$S$5:$S$104,0)),""),"")) | K15: =IF(I15="Work Order",IFERROR(INDEX('Work Orders'!$H$5:$H$104,MATCH(ROWS($I$14:I15),'Work Orders'!$I$5:$I$104,0)),""),IF(I15="Schedule Allocation",IFERROR(INDEX('Resource Schedule'!$R$5:$R$104,MATCH(ROWS($I$14:I15)-COUNTIF('Work Orders'!$H$5:$H$104,"?*"),'Resource Schedule'!$S$5:$S$104,0)),""),"")) | L15: =IF(I15="Work Order",IFERROR(INDEX('Work Orders'!$B$5:$B$104,MATCH(ROWS($I$14:I15),'Work Orders'!$I$5:$I$104,0)),""),IF(I15="Schedule Allocation",IFERROR(INDEX('Resource Schedule'!$H$5:$H$104,MATCH(ROWS($I$14:I15)-COUNTIF('Work Orders'!$H$5:$H$104,"?*"),'Resource Schedule'!$S$5:$S$104,0)),""),"")) | M15: =IF(I15="Work Order",IFERROR(INDEX('Work Orders'!$E$5:$E$104,MATCH(ROWS($I$14:I15),'Work Orders'!$I$5:$I$104,0)),""),IF(I15="Schedule Allocation",IFERROR(INDEX('Resource Schedule'!$K$5:$K$104,MATCH(ROWS($I$14:I15)-COUNTIF('Work Orders'!$H$5:$H$104,"?*"),'Resource Schedule'!$S$5:$S$104,0)),""),""))
A16: =IFERROR(INDEX('Resource Schedule'!$H$5:$H$104,MATCH(ROWS($A$14:A16),'Resource Schedule'!$T$5:$T$104,0)),"") | B16: =IFERROR(INDEX('Resource Schedule'!$I$5:$I$104,MATCH(ROWS($A$14:A16),'Resource Schedule'!$T$5:$T$104,0)),"") | C16: =IFERROR(INDEX('Resource Schedule'!$J$5:$J$104,MATCH(ROWS($A$14:A16),'Resource Schedule'!$T$5:$T$104,0)),"") | D16: =IFERROR(INDEX('Resource Schedule'!$K$5:$K$104,MATCH(ROWS($A$14:A16),'Resource Schedule'!$T$5:$T$104,0)),"") | E16: =IFERROR(INDEX('Resource Schedule'!$L$5:$L$104,MATCH(ROWS($A$14:A16),'Resource Schedule'!$T$5:$T$104,0)),"") | F16: =IFERROR(INDEX('Resource Schedule'!$P$5:$P$104,MATCH(ROWS($A$14:A16),'Resource Schedule'!$T$5:$T$104,0)),"") | G16: =IFERROR(INDEX('Resource Schedule'!$Q$5:$Q$104,MATCH(ROWS($A$14:A16),'Resource Schedule'!$T$5:$T$104,0)),"") | I16: =IF(ROWS($I$14:I16)<=COUNTIF('Work Orders'!$H$5:$H$104,"?*"),"Work Order",IF(ROWS($I$14:I16)<=COUNTIF('Work Orders'!$H$5:$H$104,"?*")+COUNTIF('Resource Schedule'!$R$5:$R$104,"Planned Hours Needed")+COUNTIF('Resource Schedule'!$R$5:$R$104,"Work Order Missing")+COUNTIF('Resource Schedule'!$R$5:$R$104,"Calendar Missing")+COUNTIF('Resource Schedule'!$R$5:$R$104,"Duplicate Calendar Entry")+COUNTIF('Resource Schedule'!$R$5:$R$104,"Work Order Overallocated")+COUNTIF('Resource Schedule'!$R$5:$R$104,"Resource Overloaded"),"Schedule Allocation","")) | J16: =IF(I16="Work Order",IFERROR(INDEX('Work Orders'!$A$5:$A$104,MATCH(ROWS($I$14:I16),'Work Orders'!$I$5:$I$104,0)),""),IF(I16="Schedule Allocation",IFERROR(INDEX('Resource Schedule'!$J$5:$J$104,MATCH(ROWS($I$14:I16)-COUNTIF('Work Orders'!$H$5:$H$104,"?*"),'Resource Schedule'!$S$5:$S$104,0)),""),"")) | K16: =IF(I16="Work Order",IFERROR(INDEX('Work Orders'!$H$5:$H$104,MATCH(ROWS($I$14:I16),'Work Orders'!$I$5:$I$104,0)),""),IF(I16="Schedule Allocation",IFERROR(INDEX('Resource Schedule'!$R$5:$R$104,MATCH(ROWS($I$14:I16)-COUNTIF('Work Orders'!$H$5:$H$104,"?*"),'Resource Schedule'!$S$5:$S$104,0)),""),"")) | L16: =IF(I16="Work Order",IFERROR(INDEX('Work Orders'!$B$5:$B$104,MATCH(ROWS($I$14:I16),'Work Orders'!$I$5:$I$104,0)),""),IF(I16="Schedule Allocation",IFERROR(INDEX('Resource Schedule'!$H$5:$H$104,MATCH(ROWS($I$14:I16)-COUNTIF('Work Orders'!$H$5:$H$104,"?*"),'Resource Schedule'!$S$5:$S$104,0)),""),"")) | M16: =IF(I16="Work Order",IFERROR(INDEX('Work Orders'!$E$5:$E$104,MATCH(ROWS($I$14:I16),'Work Orders'!$I$5:$I$104,0)),""),IF(I16="Schedule Allocation",IFERROR(INDEX('Resource Schedule'!$K$5:$K$104,MATCH(ROWS($I$14:I16)-COUNTIF('Work Orders'!$H$5:$H$104,"?*"),'Resource Schedule'!$S$5:$S$104,0)),""),""))
A17: =IFERROR(INDEX('Resource Schedule'!$H$5:$H$104,MATCH(ROWS($A$14:A17),'Resource Schedule'!$T$5:$T$104,0)),"") | B17: =IFERROR(INDEX('Resource Schedule'!$I$5:$I$104,MATCH(ROWS($A$14:A17),'Resource Schedule'!$T$5:$T$104,0)),"") | C17: =IFERROR(INDEX('Resource Schedule'!$J$5:$J$104,MATCH(ROWS($A$14:A17),'Resource Schedule'!$T$5:$T$104,0)),"") | D17: =IFERROR(INDEX('Resource Schedule'!$K$5:$K$104,MATCH(ROWS($A$14:A17),'Resource Schedule'!$T$5:$T$104,0)),"") | E17: =IFERROR(INDEX('Resource Schedule'!$L$5:$L$104,MATCH(ROWS($A$14:A17),'Resource Schedule'!$T$5:$T$104,0)),"") | F17: =IFERROR(INDEX('Resource Schedule'!$P$5:$P$104,MATCH(ROWS($A$14:A17),'Resource Schedule'!$T$5:$T$104,0)),"") | G17: =IFERROR(INDEX('Resource Schedule'!$Q$5:$Q$104,MATCH(ROWS($A$14:A17),'Resource Schedule'!$T$5:$T$104,0)),"") | I17: =IF(ROWS($I$14:I17)<=COUNTIF('Work Orders'!$H$5:$H$104,"?*"),"Work Order",IF(ROWS($I$14:I17)<=COUNTIF('Work Orders'!$H$5:$H$104,"?*")+COUNTIF('Resource Schedule'!$R$5:$R$104,"Planned Hours Needed")+COUNTIF('Resource Schedule'!$R$5:$R$104,"Work Order Missing")+COUNTIF('Resource Schedule'!$R$5:$R$104,"Calendar Missing")+COUNTIF('Resource Schedule'!$R$5:$R$104,"Duplicate Calendar Entry")+COUNTIF('Resource Schedule'!$R$5:$R$104,"Work Order Overallocated")+COUNTIF('Resource Schedule'!$R$5:$R$104,"Resource Overloaded"),"Schedule Allocation","")) | J17: =IF(I17="Work Order",IFERROR(INDEX('Work Orders'!$A$5:$A$104,MATCH(ROWS($I$14:I17),'Work Orders'!$I$5:$I$104,0)),""),IF(I17="Schedule Allocation",IFERROR(INDEX('Resource Schedule'!$J$5:$J$104,MATCH(ROWS($I$14:I17)-COUNTIF('Work Orders'!$H$5:$H$104,"?*"),'Resource Schedule'!$S$5:$S$104,0)),""),"")) | K17: =IF(I17="Work Order",IFERROR(INDEX('Work Orders'!$H$5:$H$104,MATCH(ROWS($I$14:I17),'Work Orders'!$I$5:$I$104,0)),""),IF(I17="Schedule Allocation",IFERROR(INDEX('Resource Schedule'!$R$5:$R$104,MATCH(ROWS($I$14:I17)-COUNTIF('Work Orders'!$H$5:$H$104,"?*"),'Resource Schedule'!$S$5:$S$104,0)),""),"")) | L17: =IF(I17="Work Order",IFERROR(INDEX('Work Orders'!$B$5:$B$104,MATCH(ROWS($I$14:I17),'Work Orders'!$I$5:$I$104,0)),""),IF(I17="Schedule Allocation",IFERROR(INDEX('Resource Schedule'!$H$5:$H$104,MATCH(ROWS($I$14:I17)-COUNTIF('Work Orders'!$H$5:$H$104,"?*"),'Resource Schedule'!$S$5:$S$104,0)),""),"")) | M17: =IF(I17="Work Order",IFERROR(INDEX('Work Orders'!$E$5:$E$104,MATCH(ROWS($I$14:I17),'Work Orders'!$I$5:$I$104,0)),""),IF(I17="Schedule Allocation",IFERROR(INDEX('Resource Schedule'!$K$5:$K$104,MATCH(ROWS($I$14:I17)-COUNTIF('Work Orders'!$H$5:$H$104,"?*"),'Resource Schedule'!$S$5:$S$104,0)),""),""))
A18: =IFERROR(INDEX('Resource Schedule'!$H$5:$H$104,MATCH(ROWS($A$14:A18),'Resource Schedule'!$T$5:$T$104,0)),"") | B18: =IFERROR(INDEX('Resource Schedule'!$I$5:$I$104,MATCH(ROWS($A$14:A18),'Resource Schedule'!$T$5:$T$104,0)),"") | C18: =IFERROR(INDEX('Resource Schedule'!$J$5:$J$104,MATCH(ROWS($A$14:A18),'Resource Schedule'!$T$5:$T$104,0)),"") | D18: =IFERROR(INDEX('Resource Schedule'!$K$5:$K$104,MATCH(ROWS($A$14:A18),'Resource Schedule'!$T$5:$T$104,0)),"") | E18: =IFERROR(INDEX('Resource Schedule'!$L$5:$L$104,MATCH(ROWS($A$14:A18),'Resource Schedule'!$T$5:$T$104,0)),"") | F18: =IFERROR(INDEX('Resource Schedule'!$P$5:$P$104,MATCH(ROWS($A$14:A18),'Resource Schedule'!$T$5:$T$104,0)),"") | G18: =IFERROR(INDEX('Resource Schedule'!$Q$5:$Q$104,MATCH(ROWS($A$14:A18),'Resource Schedule'!$T$5:$T$104,0)),"") | I18: =IF(ROWS($I$14:I18)<=COUNTIF('Work Orders'!$H$5:$H$104,"?*"),"Work Order",IF(ROWS($I$14:I18)<=COUNTIF('Work Orders'!$H$5:$H$104,"?*")+COUNTIF('Resource Schedule'!$R$5:$R$104,"Planned Hours Needed")+COUNTIF('Resource Schedule'!$R$5:$R$104,"Work Order Missing")+COUNTIF('Resource Schedule'!$R$5:$R$104,"Calendar Missing")+COUNTIF('Resource Schedule'!$R$5:$R$104,"Duplicate Calendar Entry")+COUNTIF('Resource Schedule'!$R$5:$R$104,"Work Order Overallocated")+COUNTIF('Resource Schedule'!$R$5:$R$104,"Resource Overloaded"),"Schedule Allocation","")) | J18: =IF(I18="Work Order",IFERROR(INDEX('Work Orders'!$A$5:$A$104,MATCH(ROWS($I$14:I18),'Work Orders'!$I$5:$I$104,0)),""),IF(I18="Schedule Allocation",IFERROR(INDEX('Resource Schedule'!$J$5:$J$104,MATCH(ROWS($I$14:I18)-COUNTIF('Work Orders'!$H$5:$H$104,"?*"),'Resource Schedule'!$S$5:$S$104,0)),""),"")) | K18: =IF(I18="Work Order",IFERROR(INDEX('Work Orders'!$H$5:$H$104,MATCH(ROWS($I$14:I18),'Work Orders'!$I$5:$I$104,0)),""),IF(I18="Schedule Allocation",IFERROR(INDEX('Resource Schedule'!$R$5:$R$104,MATCH(ROWS($I$14:I18)-COUNTIF('Work Orders'!$H$5:$H$104,"?*"),'Resource Schedule'!$S$5:$S$104,0)),""),"")) | L18: =IF(I18="Work Order",IFERROR(INDEX('Work Orders'!$B$5:$B$104,MATCH(ROWS($I$14:I18),'Work Orders'!$I$5:$I$104,0)),""),IF(I18="Schedule Allocation",IFERROR(INDEX('Resource Schedule'!$H$5:$H$104,MATCH(ROWS($I$14:I18)-COUNTIF('Work Orders'!$H$5:$H$104,"?*"),'Resource Schedule'!$S$5:$S$104,0)),""),"")) | M18: =IF(I18="Work Order",IFERROR(INDEX('Work Orders'!$E$5:$E$104,MATCH(ROWS($I$14:I18),'Work Orders'!$I$5:$I$104,0)),""),IF(I18="Schedule Allocation",IFERROR(INDEX('Resource Schedule'!$K$5:$K$104,MATCH(ROWS($I$14:I18)-COUNTIF('Work Orders'!$H$5:$H$104,"?*"),'Resource Schedule'!$S$5:$S$104,0)),""),""))
A19: =IFERROR(INDEX('Resource Schedule'!$H$5:$H$104,MATCH(ROWS($A$14:A19),'Resource Schedule'!$T$5:$T$104,0)),"") | B19: =IFERROR(INDEX('Resource Schedule'!$I$5:$I$104,MATCH(ROWS($A$14:A19),'Resource Schedule'!$T$5:$T$104,0)),"") | C19: =IFERROR(INDEX('Resource Schedule'!$J$5:$J$104,MATCH(ROWS($A$14:A19),'Resource Schedule'!$T$5:$T$104,0)),"") | D19: =IFERROR(INDEX('Resource Schedule'!$K$5:$K$104,MATCH(ROWS($A$14:A19),'Resource Schedule'!$T$5:$T$104,0)),"") | E19: =IFERROR(INDEX('Resource Schedule'!$L$5:$L$104,MATCH(ROWS($A$14:A19),'Resource Schedule'!$T$5:$T$104,0)),"") | F19: =IFERROR(INDEX('Resource Schedule'!$P$5:$P$104,MATCH(ROWS($A$14:A19),'Resource Schedule'!$T$5:$T$104,0)),"") | G19: =IFERROR(INDEX('Resource Schedule'!$Q$5:$Q$104,MATCH(ROWS($A$14:A19),'Resource Schedule'!$T$5:$T$104,0)),"") | I19: =IF(ROWS($I$14:I19)<=COUNTIF('Work Orders'!$H$5:$H$104,"?*"),"Work Order",IF(ROWS($I$14:I19)<=COUNTIF('Work Orders'!$H$5:$H$104,"?*")+COUNTIF('Resource Schedule'!$R$5:$R$104,"Planned Hours Needed")+COUNTIF('Resource Schedule'!$R$5:$R$104,"Work Order Missing")+COUNTIF('Resource Schedule'!$R$5:$R$104,"Calendar Missing")+COUNTIF('Resource Schedule'!$R$5:$R$104,"Duplicate Calendar Entry")+COUNTIF('Resource Schedule'!$R$5:$R$104,"Work Order Overallocated")+COUNTIF('Resource Schedule'!$R$5:$R$104,"Resource Overloaded"),"Schedule Allocation","")) | J19: =IF(I19="Work Order",IFERROR(INDEX('Work Orders'!$A$5:$A$104,MATCH(ROWS($I$14:I19),'Work Orders'!$I$5:$I$104,0)),""),IF(I19="Schedule Allocation",IFERROR(INDEX('Resource Schedule'!$J$5:$J$104,MATCH(ROWS($I$14:I19)-COUNTIF('Work Orders'!$H$5:$H$104,"?*"),'Resource Schedule'!$S$5:$S$104,0)),""),"")) | K19: =IF(I19="Work Order",IFERROR(INDEX('Work Orders'!$H$5:$H$104,MATCH(ROWS($I$14:I19),'Work Orders'!$I$5:$I$104,0)),""),IF(I19="Schedule Allocation",IFERROR(INDEX('Resource Schedule'!$R$5:$R$104,MATCH(ROWS($I$14:I19)-COUNTIF('Work Orders'!$H$5:$H$104,"?*"),'Resource Schedule'!$S$5:$S$104,0)),""),"")) | L19: =IF(I19="Work Order",IFERROR(INDEX('Work Orders'!$B$5:$B$104,MATCH(ROWS($I$14:I19),'Work Orders'!$I$5:$I$104,0)),""),IF(I19="Schedule Allocation",IFERROR(INDEX('Resource Schedule'!$H$5:$H$104,MATCH(ROWS($I$14:I19)-COUNTIF('Work Orders'!$H$5:$H$104,"?*"),'Resource Schedule'!$S$5:$S$104,0)),""),"")) | M19: =IF(I19="Work Order",IFERROR(INDEX('Work Orders'!$E$5:$E$104,MATCH(ROWS($I$14:I19),'Work Orders'!$I$5:$I$104,0)),""),IF(I19="Schedule Allocation",IFERROR(INDEX('Resource Schedule'!$K$5:$K$104,MATCH(ROWS($I$14:I19)-COUNTIF('Work Orders'!$H$5:$H$104,"?*"),'Resource Schedule'!$S$5:$S$104,0)),""),""))
A20: =IFERROR(INDEX('Resource Schedule'!$H$5:$H$104,MATCH(ROWS($A$14:A20),'Resource Schedule'!$T$5:$T$104,0)),"") | B20: =IFERROR(INDEX('Resource Schedule'!$I$5:$I$104,MATCH(ROWS($A$14:A20),'Resource Schedule'!$T$5:$T$104,0)),"") | C20: =IFERROR(INDEX('Resource Schedule'!$J$5:$J$104,MATCH(ROWS($A$14:A20),'Resource Schedule'!$T$5:$T$104,0)),"") | D20: =IFERROR(INDEX('Resource Schedule'!$K$5:$K$104,MATCH(ROWS($A$14:A20),'Resource Schedule'!$T$5:$T$104,0)),"") | E20: =IFERROR(INDEX('Resource Schedule'!$L$5:$L$104,MATCH(ROWS($A$14:A20),'Resource Schedule'!$T$5:$T$104,0)),"") | F20: =IFERROR(INDEX('Resource Schedule'!$P$5:$P$104,MATCH(ROWS($A$14:A20),'Resource Schedule'!$T$5:$T$104,0)),"") | G20: =IFERROR(INDEX('Resource Schedule'!$Q$5:$Q$104,MATCH(ROWS($A$14:A20),'Resource Schedule'!$T$5:$T$104,0)),"") | I20: =IF(ROWS($I$14:I20)<=COUNTIF('Work Orders'!$H$5:$H$104,"?*"),"Work Order",IF(ROWS($I$14:I20)<=COUNTIF('Work Orders'!$H$5:$H$104,"?*")+COUNTIF('Resource Schedule'!$R$5:$R$104,"Planned Hours Needed")+COUNTIF('Resource Schedule'!$R$5:$R$104,"Work Order Missing")+COUNTIF('Resource Schedule'!$R$5:$R$104,"Calendar Missing")+COUNTIF('Resource Schedule'!$R$5:$R$104,"Duplicate Calendar Entry")+COUNTIF('Resource Schedule'!$R$5:$R$104,"Work Order Overallocated")+COUNTIF('Resource Schedule'!$R$5:$R$104,"Resource Overloaded"),"Schedule Allocation","")) | J20: =IF(I20="Work Order",IFERROR(INDEX('Work Orders'!$A$5:$A$104,MATCH(ROWS($I$14:I20),'Work Orders'!$I$5:$I$104,0)),""),IF(I20="Schedule Allocation",IFERROR(INDEX('Resource Schedule'!$J$5:$J$104,MATCH(ROWS($I$14:I20)-COUNTIF('Work Orders'!$H$5:$H$104,"?*"),'Resource Schedule'!$S$5:$S$104,0)),""),"")) | K20: =IF(I20="Work Order",IFERROR(INDEX('Work Orders'!$H$5:$H$104,MATCH(ROWS($I$14:I20),'Work Orders'!$I$5:$I$104,0)),""),IF(I20="Schedule Allocation",IFERROR(INDEX('Resource Schedule'!$R$5:$R$104,MATCH(ROWS($I$14:I20)-COUNTIF('Work Orders'!$H$5:$H$104,"?*"),'Resource Schedule'!$S$5:$S$104,0)),""),"")) | L20: =IF(I20="Work Order",IFERROR(INDEX('Work Orders'!$B$5:$B$104,MATCH(ROWS($I$14:I20),'Work Orders'!$I$5:$I$104,0)),""),IF(I20="Schedule Allocation",IFERROR(INDEX('Resource Schedule'!$H$5:$H$104,MATCH(ROWS($I$14:I20)-COUNTIF('Work Orders'!$H$5:$H$104,"?*"),'Resource Schedule'!$S$5:$S$104,0)),""),"")) | M20: =IF(I20="Work Order",IFERROR(INDEX('Work Orders'!$E$5:$E$104,MATCH(ROWS($I$14:I20),'Work Orders'!$I$5:$I$104,0)),""),IF(I20="Schedule Allocation",IFERROR(INDEX('Resource Schedule'!$K$5:$K$104,MATCH(ROWS($I$14:I20)-COUNTIF('Work Orders'!$H$5:$H$104,"?*"),'Resource Schedule'!$S$5:$S$104,0)),""),""))
A21: =IFERROR(INDEX('Resource Schedule'!$H$5:$H$104,MATCH(ROWS($A$14:A21),'Resource Schedule'!$T$5:$T$104,0)),"") | B21: =IFERROR(INDEX('Resource Schedule'!$I$5:$I$104,MATCH(ROWS($A$14:A21),'Resource Schedule'!$T$5:$T$104,0)),"") | C21: =IFERROR(INDEX('Resource Schedule'!$J$5:$J$104,MATCH(ROWS($A$14:A21),'Resource Schedule'!$T$5:$T$104,0)),"") | D21: =IFERROR(INDEX('Resource Schedule'!$K$5:$K$104,MATCH(ROWS($A$14:A21),'Resource Schedule'!$T$5:$T$104,0)),"") | E21: =IFERROR(INDEX('Resource Schedule'!$L$5:$L$104,MATCH(ROWS($A$14:A21),'Resource Schedule'!$T$5:$T$104,0)),"") | F21: =IFERROR(INDEX('Resource Schedule'!$P$5:$P$104,MATCH(ROWS($A$14:A21),'Resource Schedule'!$T$5:$T$104,0)),"") | G21: =IFERROR(INDEX('Resource Schedule'!$Q$5:$Q$104,MATCH(ROWS($A$14:A21),'Resource Schedule'!$T$5:$T$104,0)),"") | I21: =IF(ROWS($I$14:I21)<=COUNTIF('Work Orders'!$H$5:$H$104,"?*"),"Work Order",IF(ROWS($I$14:I21)<=COUNTIF('Work Orders'!$H$5:$H$104,"?*")+COUNTIF('Resource Schedule'!$R$5:$R$104,"Planned Hours Needed")+COUNTIF('Resource Schedule'!$R$5:$R$104,"Work Order Missing")+COUNTIF('Resource Schedule'!$R$5:$R$104,"Calendar Missing")+COUNTIF('Resource Schedule'!$R$5:$R$104,"Duplicate Calendar Entry")+COUNTIF('Resource Schedule'!$R$5:$R$104,"Work Order Overallocated")+COUNTIF('Resource Schedule'!$R$5:$R$104,"Resource Overloaded"),"Schedule Allocation","")) | J21: =IF(I21="Work Order",IFERROR(INDEX('Work Orders'!$A$5:$A$104,MATCH(ROWS($I$14:I21),'Work Orders'!$I$5:$I$104,0)),""),IF(I21="Schedule Allocation",IFERROR(INDEX('Resource Schedule'!$J$5:$J$104,MATCH(ROWS($I$14:I21)-COUNTIF('Work Orders'!$H$5:$H$104,"?*"),'Resource Schedule'!$S$5:$S$104,0)),""),"")) | K21: =IF(I21="Work Order",IFERROR(INDEX('Work Orders'!$H$5:$H$104,MATCH(ROWS($I$14:I21),'Work Orders'!$I$5:$I$104,0)),""),IF(I21="Schedule Allocation",IFERROR(INDEX('Resource Schedule'!$R$5:$R$104,MATCH(ROWS($I$14:I21)-COUNTIF('Work Orders'!$H$5:$H$104,"?*"),'Resource Schedule'!$S$5:$S$104,0)),""),"")) | L21: =IF(I21="Work Order",IFERROR(INDEX('Work Orders'!$B$5:$B$104,MATCH(ROWS($I$14:I21),'Work Orders'!$I$5:$I$104,0)),""),IF(I21="Schedule Allocation",IFERROR(INDEX('Resource Schedule'!$H$5:$H$104,MATCH(ROWS($I$14:I21)-COUNTIF('Work Orders'!$H$5:$H$104,"?*"),'Resource Schedule'!$S$5:$S$104,0)),""),"")) | M21: =IF(I21="Work Order",IFERROR(INDEX('Work Orders'!$E$5:$E$104,MATCH(ROWS($I$14:I21),'Work Orders'!$I$5:$I$104,0)),""),IF(I21="Schedule Allocation",IFERROR(INDEX('Resource Schedule'!$K$5:$K$104,MATCH(ROWS($I$14:I21)-COUNTIF('Work Orders'!$H$5:$H$104,"?*"),'Resource Schedule'!$S$5:$S$104,0)),""),""))
A22: =IFERROR(INDEX('Resource Schedule'!$H$5:$H$104,MATCH(ROWS($A$14:A22),'Resource Schedule'!$T$5:$T$104,0)),"") | B22: =IFERROR(INDEX('Resource Schedule'!$I$5:$I$104,MATCH(ROWS($A$14:A22),'Resource Schedule'!$T$5:$T$104,0)),"") | C22: =IFERROR(INDEX('Resource Schedule'!$J$5:$J$104,MATCH(ROWS($A$14:A22),'Resource Schedule'!$T$5:$T$104,0)),"") | D22: =IFERROR(INDEX('Resource Schedule'!$K$5:$K$104,MATCH(ROWS($A$14:A22),'Resource Schedule'!$T$5:$T$104,0)),"") | E22: =IFERROR(INDEX('Resource Schedule'!$L$5:$L$104,MATCH(ROWS($A$14:A22),'Resource Schedule'!$T$5:$T$104,0)),"") | F22: =IFERROR(INDEX('Resource Schedule'!$P$5:$P$104,MATCH(ROWS($A$14:A22),'Resource Schedule'!$T$5:$T$104,0)),"") | G22: =IFERROR(INDEX('Resource Schedule'!$Q$5:$Q$104,MATCH(ROWS($A$14:A22),'Resource Schedule'!$T$5:$T$104,0)),"") | I22: =IF(ROWS($I$14:I22)<=COUNTIF('Work Orders'!$H$5:$H$104,"?*"),"Work Order",IF(ROWS($I$14:I22)<=COUNTIF('Work Orders'!$H$5:$H$104,"?*")+COUNTIF('Resource Schedule'!$R$5:$R$104,"Planned Hours Needed")+COUNTIF('Resource Schedule'!$R$5:$R$104,"Work Order Missing")+COUNTIF('Resource Schedule'!$R$5:$R$104,"Calendar Missing")+COUNTIF('Resource Schedule'!$R$5:$R$104,"Duplicate Calendar Entry")+COUNTIF('Resource Schedule'!$R$5:$R$104,"Work Order Overallocated")+COUNTIF('Resource Schedule'!$R$5:$R$104,"Resource Overloaded"),"Schedule Allocation","")) | J22: =IF(I22="Work Order",IFERROR(INDEX('Work Orders'!$A$5:$A$104,MATCH(ROWS($I$14:I22),'Work Orders'!$I$5:$I$104,0)),""),IF(I22="Schedule Allocation",IFERROR(INDEX('Resource Schedule'!$J$5:$J$104,MATCH(ROWS($I$14:I22)-COUNTIF('Work Orders'!$H$5:$H$104,"?*"),'Resource Schedule'!$S$5:$S$104,0)),""),"")) | K22: =IF(I22="Work Order",IFERROR(INDEX('Work Orders'!$H$5:$H$104,MATCH(ROWS($I$14:I22),'Work Orders'!$I$5:$I$104,0)),""),IF(I22="Schedule Allocation",IFERROR(INDEX('Resource Schedule'!$R$5:$R$104,MATCH(ROWS($I$14:I22)-COUNTIF('Work Orders'!$H$5:$H$104,"?*"),'Resource Schedule'!$S$5:$S$104,0)),""),"")) | L22: =IF(I22="Work Order",IFERROR(INDEX('Work Orders'!$B$5:$B$104,MATCH(ROWS($I$14:I22),'Work Orders'!$I$5:$I$104,0)),""),IF(I22="Schedule Allocation",IFERROR(INDEX('Resource Schedule'!$H$5:$H$104,MATCH(ROWS($I$14:I22)-COUNTIF('Work Orders'!$H$5:$H$104,"?*"),'Resource Schedule'!$S$5:$S$104,0)),""),"")) | M22: =IF(I22="Work Order",IFERROR(INDEX('Work Orders'!$E$5:$E$104,MATCH(ROWS($I$14:I22),'Work Orders'!$I$5:$I$104,0)),""),IF(I22="Schedule Allocation",IFERROR(INDEX('Resource Schedule'!$K$5:$K$104,MATCH(ROWS($I$14:I22)-COUNTIF('Work Orders'!$H$5:$H$104,"?*"),'Resource Schedule'!$S$5:$S$104,0)),""),""))
A23: =IFERROR(INDEX('Resource Schedule'!$H$5:$H$104,MATCH(ROWS($A$14:A23),'Resource Schedule'!$T$5:$T$104,0)),"") | B23: =IFERROR(INDEX('Resource Schedule'!$I$5:$I$104,MATCH(ROWS($A$14:A23),'Resource Schedule'!$T$5:$T$104,0)),"") | C23: =IFERROR(INDEX('Resource Schedule'!$J$5:$J$104,MATCH(ROWS($A$14:A23),'Resource Schedule'!$T$5:$T$104,0)),"") | D23: =IFERROR(INDEX('Resource Schedule'!$K$5:$K$104,MATCH(ROWS($A$14:A23),'Resource Schedule'!$T$5:$T$104,0)),"") | E23: =IFERROR(INDEX('Resource Schedule'!$L$5:$L$104,MATCH(ROWS($A$14:A23),'Resource Schedule'!$T$5:$T$104,0)),"") | F23: =IFERROR(INDEX('Resource Schedule'!$P$5:$P$104,MATCH(ROWS($A$14:A23),'Resource Schedule'!$T$5:$T$104,0)),"") | G23: =IFERROR(INDEX('Resource Schedule'!$Q$5:$Q$104,MATCH(ROWS($A$14:A23),'Resource Schedule'!$T$5:$T$104,0)),"") | I23: =IF(ROWS($I$14:I23)<=COUNTIF('Work Orders'!$H$5:$H$104,"?*"),"Work Order",IF(ROWS($I$14:I23)<=COUNTIF('Work Orders'!$H$5:$H$104,"?*")+COUNTIF('Resource Schedule'!$R$5:$R$104,"Planned Hours Needed")+COUNTIF('Resource Schedule'!$R$5:$R$104,"Work Order Missing")+COUNTIF('Resource Schedule'!$R$5:$R$104,"Calendar Missing")+COUNTIF('Resource Schedule'!$R$5:$R$104,"Duplicate Calendar Entry")+COUNTIF('Resource Schedule'!$R$5:$R$104,"Work Order Overallocated")+COUNTIF('Resource Schedule'!$R$5:$R$104,"Resource Overloaded"),"Schedule Allocation","")) | J23: =IF(I23="Work Order",IFERROR(INDEX('Work Orders'!$A$5:$A$104,MATCH(ROWS($I$14:I23),'Work Orders'!$I$5:$I$104,0)),""),IF(I23="Schedule Allocation",IFERROR(INDEX('Resource Schedule'!$J$5:$J$104,MATCH(ROWS($I$14:I23)-COUNTIF('Work Orders'!$H$5:$H$104,"?*"),'Resource Schedule'!$S$5:$S$104,0)),""),"")) | K23: =IF(I23="Work Order",IFERROR(INDEX('Work Orders'!$H$5:$H$104,MATCH(ROWS($I$14:I23),'Work Orders'!$I$5:$I$104,0)),""),IF(I23="Schedule Allocation",IFERROR(INDEX('Resource Schedule'!$R$5:$R$104,MATCH(ROWS($I$14:I23)-COUNTIF('Work Orders'!$H$5:$H$104,"?*"),'Resource Schedule'!$S$5:$S$104,0)),""),"")) | L23: =IF(I23="Work Order",IFERROR(INDEX('Work Orders'!$B$5:$B$104,MATCH(ROWS($I$14:I23),'Work Orders'!$I$5:$I$104,0)),""),IF(I23="Schedule Allocation",IFERROR(INDEX('Resource Schedule'!$H$5:$H$104,MATCH(ROWS($I$14:I23)-COUNTIF('Work Orders'!$H$5:$H$104,"?*"),'Resource Schedule'!$S$5:$S$104,0)),""),"")) | M23: =IF(I23="Work Order",IFERROR(INDEX('Work Orders'!$E$5:$E$104,MATCH(ROWS($I$14:I23),'Work Orders'!$I$5:$I$104,0)),""),IF(I23="Schedule Allocation",IFERROR(INDEX('Resource Schedule'!$K$5:$K$104,MATCH(ROWS($I$14:I23)-COUNTIF('Work Orders'!$H$5:$H$104,"?*"),'Resource Schedule'!$S$5:$S$104,0)),""),""))
A24: =IFERROR(INDEX('Resource Schedule'!$H$5:$H$104,MATCH(ROWS($A$14:A24),'Resource Schedule'!$T$5:$T$104,0)),"") | B24: =IFERROR(INDEX('Resource Schedule'!$I$5:$I$104,MATCH(ROWS($A$14:A24),'Resource Schedule'!$T$5:$T$104,0)),"") | C24: =IFERROR(INDEX('Resource Schedule'!$J$5:$J$104,MATCH(ROWS($A$14:A24),'Resource Schedule'!$T$5:$T$104,0)),"") | D24: =IFERROR(INDEX('Resource Schedule'!$K$5:$K$104,MATCH(ROWS($A$14:A24),'Resource Schedule'!$T$5:$T$104,0)),"") | E24: =IFERROR(INDEX('Resource Schedule'!$L$5:$L$104,MATCH(ROWS($A$14:A24),'Resource Schedule'!$T$5:$T$104,0)),"") | F24: =IFERROR(INDEX('Resource Schedule'!$P$5:$P$104,MATCH(ROWS($A$14:A24),'Resource Schedule'!$T$5:$T$104,0)),"") | G24: =IFERROR(INDEX('Resource Schedule'!$Q$5:$Q$104,MATCH(ROWS($A$14:A24),'Resource Schedule'!$T$5:$T$104,0)),"") | I24: =IF(ROWS($I$14:I24)<=COUNTIF('Work Orders'!$H$5:$H$104,"?*"),"Work Order",IF(ROWS($I$14:I24)<=COUNTIF('Work Orders'!$H$5:$H$104,"?*")+COUNTIF('Resource Schedule'!$R$5:$R$104,"Planned Hours Needed")+COUNTIF('Resource Schedule'!$R$5:$R$104,"Work Order Missing")+COUNTIF('Resource Schedule'!$R$5:$R$104,"Calendar Missing")+COUNTIF('Resource Schedule'!$R$5:$R$104,"Duplicate Calendar Entry")+COUNTIF('Resource Schedule'!$R$5:$R$104,"Work Order Overallocated")+COUNTIF('Resource Schedule'!$R$5:$R$104,"Resource Overloaded"),"Schedule Allocation","")) | J24: =IF(I24="Work Order",IFERROR(INDEX('Work Orders'!$A$5:$A$104,MATCH(ROWS($I$14:I24),'Work Orders'!$I$5:$I$104,0)),""),IF(I24="Schedule Allocation",IFERROR(INDEX('Resource Schedule'!$J$5:$J$104,MATCH(ROWS($I$14:I24)-COUNTIF('Work Orders'!$H$5:$H$104,"?*"),'Resource Schedule'!$S$5:$S$104,0)),""),"")) | K24: =IF(I24="Work Order",IFERROR(INDEX('Work Orders'!$H$5:$H$104,MATCH(ROWS($I$14:I24),'Work Orders'!$I$5:$I$104,0)),""),IF(I24="Schedule Allocation",IFERROR(INDEX('Resource Schedule'!$R$5:$R$104,MATCH(ROWS($I$14:I24)-COUNTIF('Work Orders'!$H$5:$H$104,"?*"),'Resource Schedule'!$S$5:$S$104,0)),""),"")) | L24: =IF(I24="Work Order",IFERROR(INDEX('Work Orders'!$B$5:$B$104,MATCH(ROWS($I$14:I24),'Work Orders'!$I$5:$I$104,0)),""),IF(I24="Schedule Allocation",IFERROR(INDEX('Resource Schedule'!$H$5:$H$104,MATCH(ROWS($I$14:I24)-COUNTIF('Work Orders'!$H$5:$H$104,"?*"),'Resource Schedule'!$S$5:$S$104,0)),""),"")) | M24: =IF(I24="Work Order",IFERROR(INDEX('Work Orders'!$E$5:$E$104,MATCH(ROWS($I$14:I24),'Work Orders'!$I$5:$I$104,0)),""),IF(I24="Schedule Allocation",IFERROR(INDEX('Resource Schedule'!$K$5:$K$104,MATCH(ROWS($I$14:I24)-COUNTIF('Work Orders'!$H$5:$H$104,"?*"),'Resource Schedule'!$S$5:$S$104,0)),""),""))
A25: =IFERROR(INDEX('Resource Schedule'!$H$5:$H$104,MATCH(ROWS($A$14:A25),'Resource Schedule'!$T$5:$T$104,0)),"") | B25: =IFERROR(INDEX('Resource Schedule'!$I$5:$I$104,MATCH(ROWS($A$14:A25),'Resource Schedule'!$T$5:$T$104,0)),"") | C25: =IFERROR(INDEX('Resource Schedule'!$J$5:$J$104,MATCH(ROWS($A$14:A25),'Resource Schedule'!$T$5:$T$104,0)),"") | D25: =IFERROR(INDEX('Resource Schedule'!$K$5:$K$104,MATCH(ROWS($A$14:A25),'Resource Schedule'!$T$5:$T$104,0)),"") | E25: =IFERROR(INDEX('Resource Schedule'!$L$5:$L$104,MATCH(ROWS($A$14:A25),'Resource Schedule'!$T$5:$T$104,0)),"") | F25: =IFERROR(INDEX('Resource Schedule'!$P$5:$P$104,MATCH(ROWS($A$14:A25),'Resource Schedule'!$T$5:$T$104,0)),"") | G25: =IFERROR(INDEX('Resource Schedule'!$Q$5:$Q$104,MATCH(ROWS($A$14:A25),'Resource Schedule'!$T$5:$T$104,0)),"") | I25: =IF(ROWS($I$14:I25)<=COUNTIF('Work Orders'!$H$5:$H$104,"?*"),"Work Order",IF(ROWS($I$14:I25)<=COUNTIF('Work Orders'!$H$5:$H$104,"?*")+COUNTIF('Resource Schedule'!$R$5:$R$104,"Planned Hours Needed")+COUNTIF('Resource Schedule'!$R$5:$R$104,"Work Order Missing")+COUNTIF('Resource Schedule'!$R$5:$R$104,"Calendar Missing")+COUNTIF('Resource Schedule'!$R$5:$R$104,"Duplicate Calendar Entry")+COUNTIF('Resource Schedule'!$R$5:$R$104,"Work Order Overallocated")+COUNTIF('Resource Schedule'!$R$5:$R$104,"Resource Overloaded"),"Schedule Allocation","")) | J25: =IF(I25="Work Order",IFERROR(INDEX('Work Orders'!$A$5:$A$104,MATCH(ROWS($I$14:I25),'Work Orders'!$I$5:$I$104,0)),""),IF(I25="Schedule Allocation",IFERROR(INDEX('Resource Schedule'!$J$5:$J$104,MATCH(ROWS($I$14:I25)-COUNTIF('Work Orders'!$H$5:$H$104,"?*"),'Resource Schedule'!$S$5:$S$104,0)),""),"")) | K25: =IF(I25="Work Order",IFERROR(INDEX('Work Orders'!$H$5:$H$104,MATCH(ROWS($I$14:I25),'Work Orders'!$I$5:$I$104,0)),""),IF(I25="Schedule Allocation",IFERROR(INDEX('Resource Schedule'!$R$5:$R$104,MATCH(ROWS($I$14:I25)-COUNTIF('Work Orders'!$H$5:$H$104,"?*"),'Resource Schedule'!$S$5:$S$104,0)),""),"")) | L25: =IF(I25="Work Order",IFERROR(INDEX('Work Orders'!$B$5:$B$104,MATCH(ROWS($I$14:I25),'Work Orders'!$I$5:$I$104,0)),""),IF(I25="Schedule Allocation",IFERROR(INDEX('Resource Schedule'!$H$5:$H$104,MATCH(ROWS($I$14:I25)-COUNTIF('Work Orders'!$H$5:$H$104,"?*"),'Resource Schedule'!$S$5:$S$104,0)),""),"")) | M25: =IF(I25="Work Order",IFERROR(INDEX('Work Orders'!$E$5:$E$104,MATCH(ROWS($I$14:I25),'Work Orders'!$I$5:$I$104,0)),""),IF(I25="Schedule Allocation",IFERROR(INDEX('Resource Schedule'!$K$5:$K$104,MATCH(ROWS($I$14:I25)-COUNTIF('Work Orders'!$H$5:$H$104,"?*"),'Resource Schedule'!$S$5:$S$104,0)),""),""))
... A113: =IFERROR(INDEX('Resource Schedule'!$H$5:$H$104,MATCH(ROWS($A$14:A113),'Resource Schedule'!$T$5:$T$104,0)),"") | B113: =IFERROR(INDEX('Resource Schedule'!$I$5:$I$104,MATCH(ROWS($A$14:A113),'Resource Schedule'!$T$5:$T$104,0)),"") | C113: =IFERROR(INDEX('Resource Schedule'!$J$5:$J$104,MATCH(ROWS($A$14:A113),'Resource Schedule'!$T$5:$T$104,0)),"") | D113: =IFERROR(INDEX('Resource Schedule'!$K$5:$K$104,MATCH(ROWS($A$14:A113),'Resource Schedule'!$T$5:$T$104,0)),"") | E113: =IFERROR(INDEX('Resource Schedule'!$L$5:$L$104,MATCH(ROWS($A$14:A113),'Resource Schedule'!$T$5:$T$104,0)),"") | F113: =IFERROR(INDEX('Resource Schedule'!$P$5:$P$104,MATCH(ROWS($A$14:A113),'Resource Schedule'!$T$5:$T$104,0)),"") | G113: =IFERROR(INDEX('Resource Schedule'!$Q$5:$Q$104,MATCH(ROWS($A$14:A113),'Resource Schedule'!$T$5:$T$104,0)),"") | I113: =IF(ROWS($I$14:I113)<=COUNTIF('Work Orders'!$H$5:$H$104,"?*"),"Work Order",IF(ROWS($I$14:I113)<=COUNTIF('Work Orders'!$H$5:$H$104,"?*")+COUNTIF('Resource Schedule'!$R$5:$R$104,"Planned Hours Needed")+COUNTIF('Resource Schedule'!$R$5:$R$104,"Work Order Missing")+COUNTIF('Resource Schedule'!$R$5:$R$104,"Calendar Missing")+COUNTIF('Resource Schedule'!$R$5:$R$104,"Duplicate Calendar Entry")+COUNTIF('Resource Schedule'!$R$5:$R$104,"Work Order Overallocated")+COUNTIF('Resource Schedule'!$R$5:$R$104,"Resource Overloaded"),"Schedule Allocation","")) | J113: =IF(I113="Work Order",IFERROR(INDEX('Work Orders'!$A$5:$A$104,MATCH(ROWS($I$14:I113),'Work Orders'!$I$5:$I$104,0)),""),IF(I113="Schedule Allocation",IFERROR(INDEX('Resource Schedule'!$J$5:$J$104,MATCH(ROWS($I$14:I113)-COUNTIF('Work Orders'!$H$5:$H$104,"?*"),'Resource Schedule'!$S$5:$S$104,0)),""),"")) | K113: =IF(I113="Work Order",IFERROR(INDEX('Work Orders'!$H$5:$H$104,MATCH(ROWS($I$14:I113),'Work Orders'!$I$5:$I$104,0)),""),IF(I113="Schedule Allocation",IFERROR(INDEX('Resource Schedule'!$R$5:$R$104,MATCH(ROWS($I$14:I113)-COUNTIF('Work Orders'!$H$5:$H$104,"?*"),'Resource Schedule'!$S$5:$S$104,0)),""),"")) | L113: =IF(I113="Work Order",IFERROR(INDEX('Work Orders'!$B$5:$B$104,MATCH(ROWS($I$14:I113),'Work Orders'!$I$5:$I$104,0)),""),IF(I113="Schedule Allocation",IFERROR(INDEX('Resource Schedule'!$H$5:$H$104,MATCH(ROWS($I$14:I113)-COUNTIF('Work Orders'!$H$5:$H$104,"?*"),'Resource Schedule'!$S$5:$S$104,0)),""),"")) | M113: =IF(I113="Work Order",IFERROR(INDEX('Work Orders'!$E$5:$E$104,MATCH(ROWS($I$14:I113),'Work Orders'!$I$5:$I$104,0)),""),IF(I113="Schedule Allocation",IFERROR(INDEX('Resource Schedule'!$K$5:$K$104,MATCH(ROWS($I$14:I113)-COUNTIF('Work Orders'!$H$5:$H$104,"?*"),'Resource Schedule'!$S$5:$S$104,0)),""),""))
I114: =IF(ROWS($I$14:I114)<=COUNTIF('Work Orders'!$H$5:$H$104,"?*"),"Work Order",IF(ROWS($I$14:I114)<=COUNTIF('Work Orders'!$H$5:$H$104,"?*")+COUNTIF('Resource Schedule'!$R$5:$R$104,"Planned Hours Needed")+COUNTIF('Resource Schedule'!$R$5:$R$104,"Work Order Missing")+COUNTIF('Resource Schedule'!$R$5:$R$104,"Calendar Missing")+COUNTIF('Resource Schedule'!$R$5:$R$104,"Duplicate Calendar Entry")+COUNTIF('Resource Schedule'!$R$5:$R$104,"Work Order Overallocated")+COUNTIF('Resource Schedule'!$R$5:$R$104,"Resource Overloaded"),"Schedule Allocation","")) | J114: =IF(I114="Work Order",IFERROR(INDEX('Work Orders'!$A$5:$A$104,MATCH(ROWS($I$14:I114),'Work Orders'!$I$5:$I$104,0)),""),IF(I114="Schedule Allocation",IFERROR(INDEX('Resource Schedule'!$J$5:$J$104,MATCH(ROWS($I$14:I114)-COUNTIF('Work Orders'!$H$5:$H$104,"?*"),'Resource Schedule'!$S$5:$S$104,0)),""),"")) | K114: =IF(I114="Work Order",IFERROR(INDEX('Work Orders'!$H$5:$H$104,MATCH(ROWS($I$14:I114),'Work Orders'!$I$5:$I$104,0)),""),IF(I114="Schedule Allocation",IFERROR(INDEX('Resource Schedule'!$R$5:$R$104,MATCH(ROWS($I$14:I114)-COUNTIF('Work Orders'!$H$5:$H$104,"?*"),'Resource Schedule'!$S$5:$S$104,0)),""),"")) | L114: =IF(I114="Work Order",IFERROR(INDEX('Work Orders'!$B$5:$B$104,MATCH(ROWS($I$14:I114),'Work Orders'!$I$5:$I$104,0)),""),IF(I114="Schedule Allocation",IFERROR(INDEX('Resource Schedule'!$H$5:$H$104,MATCH(ROWS($I$14:I114)-COUNTIF('Work Orders'!$H$5:$H$104,"?*"),'Resource Schedule'!$S$5:$S$104,0)),""),"")) | M114: =IF(I114="Work Order",IFERROR(INDEX('Work Orders'!$E$5:$E$104,MATCH(ROWS($I$14:I114),'Work Orders'!$I$5:$I$104,0)),""),IF(I114="Schedule Allocation",IFERROR(INDEX('Resource Schedule'!$K$5:$K$104,MATCH(ROWS($I$14:I114)-COUNTIF('Work Orders'!$H$5:$H$104,"?*"),'Resource Schedule'!$S$5:$S$104,0)),""),""))
I115: =IF(ROWS($I$14:I115)<=COUNTIF('Work Orders'!$H$5:$H$104,"?*"),"Work Order",IF(ROWS($I$14:I115)<=COUNTIF('Work Orders'!$H$5:$H$104,"?*")+COUNTIF('Resource Schedule'!$R$5:$R$104,"Planned Hours Needed")+COUNTIF('Resource Schedule'!$R$5:$R$104,"Work Order Missing")+COUNTIF('Resource Schedule'!$R$5:$R$104,"Calendar Missing")+COUNTIF('Resource Schedule'!$R$5:$R$104,"Duplicate Calendar Entry")+COUNTIF('Resource Schedule'!$R$5:$R$104,"Work Order Overallocated")+COUNTIF('Resource Schedule'!$R$5:$R$104,"Resource Overloaded"),"Schedule Allocation","")) | J115: =IF(I115="Work Order",IFERROR(INDEX('Work Orders'!$A$5:$A$104,MATCH(ROWS($I$14:I115),'Work Orders'!$I$5:$I$104,0)),""),IF(I115="Schedule Allocation",IFERROR(INDEX('Resource Schedule'!$J$5:$J$104,MATCH(ROWS($I$14:I115)-COUNTIF('Work Orders'!$H$5:$H$104,"?*"),'Resource Schedule'!$S$5:$S$104,0)),""),"")) | K115: =IF(I115="Work Order",IFERROR(INDEX('Work Orders'!$H$5:$H$104,MATCH(ROWS($I$14:I115),'Work Orders'!$I$5:$I$104,0)),""),IF(I115="Schedule Allocation",IFERROR(INDEX('Resource Schedule'!$R$5:$R$104,MATCH(ROWS($I$14:I115)-COUNTIF('Work Orders'!$H$5:$H$104,"?*"),'Resource Schedule'!$S$5:$S$104,0)),""),"")) | L115: =IF(I115="Work Order",IFERROR(INDEX('Work Orders'!$B$5:$B$104,MATCH(ROWS($I$14:I115),'Work Orders'!$I$5:$I$104,0)),""),IF(I115="Schedule Allocation",IFERROR(INDEX('Resource Schedule'!$H$5:$H$104,MATCH(ROWS($I$14:I115)-COUNTIF('Work Orders'!$H$5:$H$104,"?*"),'Resource Schedule'!$S$5:$S$104,0)),""),"")) | M115: =IF(I115="Work Order",IFERROR(INDEX('Work Orders'!$E$5:$E$104,MATCH(ROWS($I$14:I115),'Work Orders'!$I$5:$I$104,0)),""),IF(I115="Schedule Allocation",IFERROR(INDEX('Resource Schedule'!$K$5:$K$104,MATCH(ROWS($I$14:I115)-COUNTIF('Work Orders'!$H$5:$H$104,"?*"),'Resource Schedule'!$S$5:$S$104,0)),""),""))
I116: =IF(ROWS($I$14:I116)<=COUNTIF('Work Orders'!$H$5:$H$104,"?*"),"Work Order",IF(ROWS($I$14:I116)<=COUNTIF('Work Orders'!$H$5:$H$104,"?*")+COUNTIF('Resource Schedule'!$R$5:$R$104,"Planned Hours Needed")+COUNTIF('Resource Schedule'!$R$5:$R$104,"Work Order Missing")+COUNTIF('Resource Schedule'!$R$5:$R$104,"Calendar Missing")+COUNTIF('Resource Schedule'!$R$5:$R$104,"Duplicate Calendar Entry")+COUNTIF('Resource Schedule'!$R$5:$R$104,"Work Order Overallocated")+COUNTIF('Resource Schedule'!$R$5:$R$104,"Resource Overloaded"),"Schedule Allocation","")) | J116: =IF(I116="Work Order",IFERROR(INDEX('Work Orders'!$A$5:$A$104,MATCH(ROWS($I$14:I116),'Work Orders'!$I$5:$I$104,0)),""),IF(I116="Schedule Allocation",IFERROR(INDEX('Resource Schedule'!$J$5:$J$104,MATCH(ROWS($I$14:I116)-COUNTIF('Work Orders'!$H$5:$H$104,"?*"),'Resource Schedule'!$S$5:$S$104,0)),""),"")) | K116: =IF(I116="Work Order",IFERROR(INDEX('Work Orders'!$H$5:$H$104,MATCH(ROWS($I$14:I116),'Work Orders'!$I$5:$I$104,0)),""),IF(I116="Schedule Allocation",IFERROR(INDEX('Resource Schedule'!$R$5:$R$104,MATCH(ROWS($I$14:I116)-COUNTIF('Work Orders'!$H$5:$H$104,"?*"),'Resource Schedule'!$S$5:$S$104,0)),""),"")) | L116: =IF(I116="Work Order",IFERROR(INDEX('Work Orders'!$B$5:$B$104,MATCH(ROWS($I$14:I116),'Work Orders'!$I$5:$I$104,0)),""),IF(I116="Schedule Allocation",IFERROR(INDEX('Resource Schedule'!$H$5:$H$104,MATCH(ROWS($I$14:I116)-COUNTIF('Work Orders'!$H$5:$H$104,"?*"),'Resource Schedule'!$S$5:$S$104,0)),""),"")) | M116: =IF(I116="Work Order",IFERROR(INDEX('Work Orders'!$E$5:$E$104,MATCH(ROWS($I$14:I116),'Work Orders'!$I$5:$I$104,0)),""),IF(I116="Schedule Allocation",IFERROR(INDEX('Resource Schedule'!$K$5:$K$104,MATCH(ROWS($I$14:I116)-COUNTIF('Work Orders'!$H$5:$H$104,"?*"),'Resource Schedule'!$S$5:$S$104,0)),""),""))
I117: =IF(ROWS($I$14:I117)<=COUNTIF('Work Orders'!$H$5:$H$104,"?*"),"Work Order",IF(ROWS($I$14:I117)<=COUNTIF('Work Orders'!$H$5:$H$104,"?*")+COUNTIF('Resource Schedule'!$R$5:$R$104,"Planned Hours Needed")+COUNTIF('Resource Schedule'!$R$5:$R$104,"Work Order Missing")+COUNTIF('Resource Schedule'!$R$5:$R$104,"Calendar Missing")+COUNTIF('Resource Schedule'!$R$5:$R$104,"Duplicate Calendar Entry")+COUNTIF('Resource Schedule'!$R$5:$R$104,"Work Order Overallocated")+COUNTIF('Resource Schedule'!$R$5:$R$104,"Resource Overloaded"),"Schedule Allocation","")) | J117: =IF(I117="Work Order",IFERROR(INDEX('Work Orders'!$A$5:$A$104,MATCH(ROWS($I$14:I117),'Work Orders'!$I$5:$I$104,0)),""),IF(I117="Schedule Allocation",IFERROR(INDEX('Resource Schedule'!$J$5:$J$104,MATCH(ROWS($I$14:I117)-COUNTIF('Work Orders'!$H$5:$H$104,"?*"),'Resource Schedule'!$S$5:$S$104,0)),""),"")) | K117: =IF(I117="Work Order",IFERROR(INDEX('Work Orders'!$H$5:$H$104,MATCH(ROWS($I$14:I117),'Work Orders'!$I$5:$I$104,0)),""),IF(I117="Schedule Allocation",IFERROR(INDEX('Resource Schedule'!$R$5:$R$104,MATCH(ROWS($I$14:I117)-COUNTIF('Work Orders'!$H$5:$H$104,"?*"),'Resource Schedule'!$S$5:$S$104,0)),""),"")) | L117: =IF(I117="Work Order",IFERROR(INDEX('Work Orders'!$B$5:$B$104,MATCH(ROWS($I$14:I117),'Work Orders'!$I$5:$I$104,0)),""),IF(I117="Schedule Allocation",IFERROR(INDEX('Resource Schedule'!$H$5:$H$104,MATCH(ROWS($I$14:I117)-COUNTIF('Work Orders'!$H$5:$H$104,"?*"),'Resource Schedule'!$S$5:$S$104,0)),""),"")) | M117: =IF(I117="Work Order",IFERROR(INDEX('Work Orders'!$E$5:$E$104,MATCH(ROWS($I$14:I117),'Work Orders'!$I$5:$I$104,0)),""),IF(I117="Schedule Allocation",IFERROR(INDEX('Resource Schedule'!$K$5:$K$104,MATCH(ROWS($I$14:I117)-COUNTIF('Work Orders'!$H$5:$H$104,"?*"),'Resource Schedule'!$S$5:$S$104,0)),""),""))
I118: =IF(ROWS($I$14:I118)<=COUNTIF('Work Orders'!$H$5:$H$104,"?*"),"Work Order",IF(ROWS($I$14:I118)<=COUNTIF('Work Orders'!$H$5:$H$104,"?*")+COUNTIF('Resource Schedule'!$R$5:$R$104,"Planned Hours Needed")+COUNTIF('Resource Schedule'!$R$5:$R$104,"Work Order Missing")+COUNTIF('Resource Schedule'!$R$5:$R$104,"Calendar Missing")+COUNTIF('Resource Schedule'!$R$5:$R$104,"Duplicate Calendar Entry")+COUNTIF('Resource Schedule'!$R$5:$R$104,"Work Order Overallocated")+COUNTIF('Resource Schedule'!$R$5:$R$104,"Resource Overloaded"),"Schedule Allocation","")) | J118: =IF(I118="Work Order",IFERROR(INDEX('Work Orders'!$A$5:$A$104,MATCH(ROWS($I$14:I118),'Work Orders'!$I$5:$I$104,0)),""),IF(I118="Schedule Allocation",IFERROR(INDEX('Resource Schedule'!$J$5:$J$104,MATCH(ROWS($I$14:I118)-COUNTIF('Work Orders'!$H$5:$H$104,"?*"),'Resource Schedule'!$S$5:$S$104,0)),""),"")) | K118: =IF(I118="Work Order",IFERROR(INDEX('Work Orders'!$H$5:$H$104,MATCH(ROWS($I$14:I118),'Work Orders'!$I$5:$I$104,0)),""),IF(I118="Schedule Allocation",IFERROR(INDEX('Resource Schedule'!$R$5:$R$104,MATCH(ROWS($I$14:I118)-COUNTIF('Work Orders'!$H$5:$H$104,"?*"),'Resource Schedule'!$S$5:$S$104,0)),""),"")) | L118: =IF(I118="Work Order",IFERROR(INDEX('Work Orders'!$B$5:$B$104,MATCH(ROWS($I$14:I118),'Work Orders'!$I$5:$I$104,0)),""),IF(I118="Schedule Allocation",IFERROR(INDEX('Resource Schedule'!$H$5:$H$104,MATCH(ROWS($I$14:I118)-COUNTIF('Work Orders'!$H$5:$H$104,"?*"),'Resource Schedule'!$S$5:$S$104,0)),""),"")) | M118: =IF(I118="Work Order",IFERROR(INDEX('Work Orders'!$E$5:$E$104,MATCH(ROWS($I$14:I118),'Work Orders'!$I$5:$I$104,0)),""),IF(I118="Schedule Allocation",IFERROR(INDEX('Resource Schedule'!$K$5:$K$104,MATCH(ROWS($I$14:I118)-COUNTIF('Work Orders'!$H$5:$H$104,"?*"),'Resource Schedule'!$S$5:$S$104,0)),""),""))
I119: =IF(ROWS($I$14:I119)<=COUNTIF('Work Orders'!$H$5:$H$104,"?*"),"Work Order",IF(ROWS($I$14:I119)<=COUNTIF('Work Orders'!$H$5:$H$104,"?*")+COUNTIF('Resource Schedule'!$R$5:$R$104,"Planned Hours Needed")+COUNTIF('Resource Schedule'!$R$5:$R$104,"Work Order Missing")+COUNTIF('Resource Schedule'!$R$5:$R$104,"Calendar Missing")+COUNTIF('Resource Schedule'!$R$5:$R$104,"Duplicate Calendar Entry")+COUNTIF('Resource Schedule'!$R$5:$R$104,"Work Order Overallocated")+COUNTIF('Resource Schedule'!$R$5:$R$104,"Resource Overloaded"),"Schedule Allocation","")) | J119: =IF(I119="Work Order",IFERROR(INDEX('Work Orders'!$A$5:$A$104,MATCH(ROWS($I$14:I119),'Work Orders'!$I$5:$I$104,0)),""),IF(I119="Schedule Allocation",IFERROR(INDEX('Resource Schedule'!$J$5:$J$104,MATCH(ROWS($I$14:I119)-COUNTIF('Work Orders'!$H$5:$H$104,"?*"),'Resource Schedule'!$S$5:$S$104,0)),""),"")) | K119: =IF(I119="Work Order",IFERROR(INDEX('Work Orders'!$H$5:$H$104,MATCH(ROWS($I$14:I119),'Work Orders'!$I$5:$I$104,0)),""),IF(I119="Schedule Allocation",IFERROR(INDEX('Resource Schedule'!$R$5:$R$104,MATCH(ROWS($I$14:I119)-COUNTIF('Work Orders'!$H$5:$H$104,"?*"),'Resource Schedule'!$S$5:$S$104,0)),""),"")) | L119: =IF(I119="Work Order",IFERROR(INDEX('Work Orders'!$B$5:$B$104,MATCH(ROWS($I$14:I119),'Work Orders'!$I$5:$I$104,0)),""),IF(I119="Schedule Allocation",IFERROR(INDEX('Resource Schedule'!$H$5:$H$104,MATCH(ROWS($I$14:I119)-COUNTIF('Work Orders'!$H$5:$H$104,"?*"),'Resource Schedule'!$S$5:$S$104,0)),""),"")) | M119: =IF(I119="Work Order",IFERROR(INDEX('Work Orders'!$E$5:$E$104,MATCH(ROWS($I$14:I119),'Work Orders'!$I$5:$I$104,0)),""),IF(I119="Schedule Allocation",IFERROR(INDEX('Resource Schedule'!$K$5:$K$104,MATCH(ROWS($I$14:I119)-COUNTIF('Work Orders'!$H$5:$H$104,"?*"),'Resource Schedule'!$S$5:$S$104,0)),""),""))
I120: =IF(ROWS($I$14:I120)<=COUNTIF('Work Orders'!$H$5:$H$104,"?*"),"Work Order",IF(ROWS($I$14:I120)<=COUNTIF('Work Orders'!$H$5:$H$104,"?*")+COUNTIF('Resource Schedule'!$R$5:$R$104,"Planned Hours Needed")+COUNTIF('Resource Schedule'!$R$5:$R$104,"Work Order Missing")+COUNTIF('Resource Schedule'!$R$5:$R$104,"Calendar Missing")+COUNTIF('Resource Schedule'!$R$5:$R$104,"Duplicate Calendar Entry")+COUNTIF('Resource Schedule'!$R$5:$R$104,"Work Order Overallocated")+COUNTIF('Resource Schedule'!$R$5:$R$104,"Resource Overloaded"),"Schedule Allocation","")) | J120: =IF(I120="Work Order",IFERROR(INDEX('Work Orders'!$A$5:$A$104,MATCH(ROWS($I$14:I120),'Work Orders'!$I$5:$I$104,0)),""),IF(I120="Schedule Allocation",IFERROR(INDEX('Resource Schedule'!$J$5:$J$104,MATCH(ROWS($I$14:I120)-COUNTIF('Work Orders'!$H$5:$H$104,"?*"),'Resource Schedule'!$S$5:$S$104,0)),""),"")) | K120: =IF(I120="Work Order",IFERROR(INDEX('Work Orders'!$H$5:$H$104,MATCH(ROWS($I$14:I120),'Work Orders'!$I$5:$I$104,0)),""),IF(I120="Schedule Allocation",IFERROR(INDEX('Resource Schedule'!$R$5:$R$104,MATCH(ROWS($I$14:I120)-COUNTIF('Work Orders'!$H$5:$H$104,"?*"),'Resource Schedule'!$S$5:$S$104,0)),""),"")) | L120: =IF(I120="Work Order",IFERROR(INDEX('Work Orders'!$B$5:$B$104,MATCH(ROWS($I$14:I120),'Work Orders'!$I$5:$I$104,0)),""),IF(I120="Schedule Allocation",IFERROR(INDEX('Resource Schedule'!$H$5:$H$104,MATCH(ROWS($I$14:I120)-COUNTIF('Work Orders'!$H$5:$H$104,"?*"),'Resource Schedule'!$S$5:$S$104,0)),""),"")) | M120: =IF(I120="Work Order",IFERROR(INDEX('Work Orders'!$E$5:$E$104,MATCH(ROWS($I$14:I120),'Work Orders'!$I$5:$I$104,0)),""),IF(I120="Schedule Allocation",IFERROR(INDEX('Resource Schedule'!$K$5:$K$104,MATCH(ROWS($I$14:I120)-COUNTIF('Work Orders'!$H$5:$H$104,"?*"),'Resource Schedule'!$S$5:$S$104,0)),""),""))
I121: =IF(ROWS($I$14:I121)<=COUNTIF('Work Orders'!$H$5:$H$104,"?*"),"Work Order",IF(ROWS($I$14:I121)<=COUNTIF('Work Orders'!$H$5:$H$104,"?*")+COUNTIF('Resource Schedule'!$R$5:$R$104,"Planned Hours Needed")+COUNTIF('Resource Schedule'!$R$5:$R$104,"Work Order Missing")+COUNTIF('Resource Schedule'!$R$5:$R$104,"Calendar Missing")+COUNTIF('Resource Schedule'!$R$5:$R$104,"Duplicate Calendar Entry")+COUNTIF('Resource Schedule'!$R$5:$R$104,"Work Order Overallocated")+COUNTIF('Resource Schedule'!$R$5:$R$104,"Resource Overloaded"),"Schedule Allocation","")) | J121: =IF(I121="Work Order",IFERROR(INDEX('Work Orders'!$A$5:$A$104,MATCH(ROWS($I$14:I121),'Work Orders'!$I$5:$I$104,0)),""),IF(I121="Schedule Allocation",IFERROR(INDEX('Resource Schedule'!$J$5:$J$104,MATCH(ROWS($I$14:I121)-COUNTIF('Work Orders'!$H$5:$H$104,"?*"),'Resource Schedule'!$S$5:$S$104,0)),""),"")) | K121: =IF(I121="Work Order",IFERROR(INDEX('Work Orders'!$H$5:$H$104,MATCH(ROWS($I$14:I121),'Work Orders'!$I$5:$I$104,0)),""),IF(I121="Schedule Allocation",IFERROR(INDEX('Resource Schedule'!$R$5:$R$104,MATCH(ROWS($I$14:I121)-COUNTIF('Work Orders'!$H$5:$H$104,"?*"),'Resource Schedule'!$S$5:$S$104,0)),""),"")) | L121: =IF(I121="Work Order",IFERROR(INDEX('Work Orders'!$B$5:$B$104,MATCH(ROWS($I$14:I121),'Work Orders'!$I$5:$I$104,0)),""),IF(I121="Schedule Allocation",IFERROR(INDEX('Resource Schedule'!$H$5:$H$104,MATCH(ROWS($I$14:I121)-COUNTIF('Work Orders'!$H$5:$H$104,"?*"),'Resource Schedule'!$S$5:$S$104,0)),""),"")) | M121: =IF(I121="Work Order",IFERROR(INDEX('Work Orders'!$E$5:$E$104,MATCH(ROWS($I$14:I121),'Work Orders'!$I$5:$I$104,0)),""),IF(I121="Schedule Allocation",IFERROR(INDEX('Resource Schedule'!$K$5:$K$104,MATCH(ROWS($I$14:I121)-COUNTIF('Work Orders'!$H$5:$H$104,"?*"),'Resource Schedule'!$S$5:$S$104,0)),""),""))
I122: =IF(ROWS($I$14:I122)<=COUNTIF('Work Orders'!$H$5:$H$104,"?*"),"Work Order",IF(ROWS($I$14:I122)<=COUNTIF('Work Orders'!$H$5:$H$104,"?*")+COUNTIF('Resource Schedule'!$R$5:$R$104,"Planned Hours Needed")+COUNTIF('Resource Schedule'!$R$5:$R$104,"Work Order Missing")+COUNTIF('Resource Schedule'!$R$5:$R$104,"Calendar Missing")+COUNTIF('Resource Schedule'!$R$5:$R$104,"Duplicate Calendar Entry")+COUNTIF('Resource Schedule'!$R$5:$R$104,"Work Order Overallocated")+COUNTIF('Resource Schedule'!$R$5:$R$104,"Resource Overloaded"),"Schedule Allocation","")) | J122: =IF(I122="Work Order",IFERROR(INDEX('Work Orders'!$A$5:$A$104,MATCH(ROWS($I$14:I122),'Work Orders'!$I$5:$I$104,0)),""),IF(I122="Schedule Allocation",IFERROR(INDEX('Resource Schedule'!$J$5:$J$104,MATCH(ROWS($I$14:I122)-COUNTIF('Work Orders'!$H$5:$H$104,"?*"),'Resource Schedule'!$S$5:$S$104,0)),""),"")) | K122: =IF(I122="Work Order",IFERROR(INDEX('Work Orders'!$H$5:$H$104,MATCH(ROWS($I$14:I122),'Work Orders'!$I$5:$I$104,0)),""),IF(I122="Schedule Allocation",IFERROR(INDEX('Resource Schedule'!$R$5:$R$104,MATCH(ROWS($I$14:I122)-COUNTIF('Work Orders'!$H$5:$H$104,"?*"),'Resource Schedule'!$S$5:$S$104,0)),""),"")) | L122: =IF(I122="Work Order",IFERROR(INDEX('Work Orders'!$B$5:$B$104,MATCH(ROWS($I$14:I122),'Work Orders'!$I$5:$I$104,0)),""),IF(I122="Schedule Allocation",IFERROR(INDEX('Resource Schedule'!$H$5:$H$104,MATCH(ROWS($I$14:I122)-COUNTIF('Work Orders'!$H$5:$H$104,"?*"),'Resource Schedule'!$S$5:$S$104,0)),""),"")) | M122: =IF(I122="Work Order",IFERROR(INDEX('Work Orders'!$E$5:$E$104,MATCH(ROWS($I$14:I122),'Work Orders'!$I$5:$I$104,0)),""),IF(I122="Schedule Allocation",IFERROR(INDEX('Resource Schedule'!$K$5:$K$104,MATCH(ROWS($I$14:I122)-COUNTIF('Work Orders'!$H$5:$H$104,"?*"),'Resource Schedule'!$S$5:$S$104,0)),""),""))
I123: =IF(ROWS($I$14:I123)<=COUNTIF('Work Orders'!$H$5:$H$104,"?*"),"Work Order",IF(ROWS($I$14:I123)<=COUNTIF('Work Orders'!$H$5:$H$104,"?*")+COUNTIF('Resource Schedule'!$R$5:$R$104,"Planned Hours Needed")+COUNTIF('Resource Schedule'!$R$5:$R$104,"Work Order Missing")+COUNTIF('Resource Schedule'!$R$5:$R$104,"Calendar Missing")+COUNTIF('Resource Schedule'!$R$5:$R$104,"Duplicate Calendar Entry")+COUNTIF('Resource Schedule'!$R$5:$R$104,"Work Order Overallocated")+COUNTIF('Resource Schedule'!$R$5:$R$104,"Resource Overloaded"),"Schedule Allocation","")) | J123: =IF(I123="Work Order",IFERROR(INDEX('Work Orders'!$A$5:$A$104,MATCH(ROWS($I$14:I123),'Work Orders'!$I$5:$I$104,0)),""),IF(I123="Schedule Allocation",IFERROR(INDEX('Resource Schedule'!$J$5:$J$104,MATCH(ROWS($I$14:I123)-COUNTIF('Work Orders'!$H$5:$H$104,"?*"),'Resource Schedule'!$S$5:$S$104,0)),""),"")) | K123: =IF(I123="Work Order",IFERROR(INDEX('Work Orders'!$H$5:$H$104,MATCH(ROWS($I$14:I123),'Work Orders'!$I$5:$I$104,0)),""),IF(I123="Schedule Allocation",IFERROR(INDEX('Resource Schedule'!$R$5:$R$104,MATCH(ROWS($I$14:I123)-COUNTIF('Work Orders'!$H$5:$H$104,"?*"),'Resource Schedule'!$S$5:$S$104,0)),""),"")) | L123: =IF(I123="Work Order",IFERROR(INDEX('Work Orders'!$B$5:$B$104,MATCH(ROWS($I$14:I123),'Work Orders'!$I$5:$I$104,0)),""),IF(I123="Schedule Allocation",IFERROR(INDEX('Resource Schedule'!$H$5:$H$104,MATCH(ROWS($I$14:I123)-COUNTIF('Work Orders'!$H$5:$H$104,"?*"),'Resource Schedule'!$S$5:$S$104,0)),""),"")) | M123: =IF(I123="Work Order",IFERROR(INDEX('Work Orders'!$E$5:$E$104,MATCH(ROWS($I$14:I123),'Work Orders'!$I$5:$I$104,0)),""),IF(I123="Schedule Allocation",IFERROR(INDEX('Resource Schedule'!$K$5:$K$104,MATCH(ROWS($I$14:I123)-COUNTIF('Work Orders'!$H$5:$H$104,"?*"),'Resource Schedule'!$S$5:$S$104,0)),""),""))
I124: =IF(ROWS($I$14:I124)<=COUNTIF('Work Orders'!$H$5:$H$104,"?*"),"Work Order",IF(ROWS($I$14:I124)<=COUNTIF('Work Orders'!$H$5:$H$104,"?*")+COUNTIF('Resource Schedule'!$R$5:$R$104,"Planned Hours Needed")+COUNTIF('Resource Schedule'!$R$5:$R$104,"Work Order Missing")+COUNTIF('Resource Schedule'!$R$5:$R$104,"Calendar Missing")+COUNTIF('Resource Schedule'!$R$5:$R$104,"Duplicate Calendar Entry")+COUNTIF('Resource Schedule'!$R$5:$R$104,"Work Order Overallocated")+COUNTIF('Resource Schedule'!$R$5:$R$104,"Resource Overloaded"),"Schedule Allocation","")) | J124: =IF(I124="Work Order",IFERROR(INDEX('Work Orders'!$A$5:$A$104,MATCH(ROWS($I$14:I124),'Work Orders'!$I$5:$I$104,0)),""),IF(I124="Schedule Allocation",IFERROR(INDEX('Resource Schedule'!$J$5:$J$104,MATCH(ROWS($I$14:I124)-COUNTIF('Work Orders'!$H$5:$H$104,"?*"),'Resource Schedule'!$S$5:$S$104,0)),""),"")) | K124: =IF(I124="Work Order",IFERROR(INDEX('Work Orders'!$H$5:$H$104,MATCH(ROWS($I$14:I124),'Work Orders'!$I$5:$I$104,0)),""),IF(I124="Schedule Allocation",IFERROR(INDEX('Resource Schedule'!$R$5:$R$104,MATCH(ROWS($I$14:I124)-COUNTIF('Work Orders'!$H$5:$H$104,"?*"),'Resource Schedule'!$S$5:$S$104,0)),""),"")) | L124: =IF(I124="Work Order",IFERROR(INDEX('Work Orders'!$B$5:$B$104,MATCH(ROWS($I$14:I124),'Work Orders'!$I$5:$I$104,0)),""),IF(I124="Schedule Allocation",IFERROR(INDEX('Resource Schedule'!$H$5:$H$104,MATCH(ROWS($I$14:I124)-COUNTIF('Work Orders'!$H$5:$H$104,"?*"),'Resource Schedule'!$S$5:$S$104,0)),""),"")) | M124: =IF(I124="Work Order",IFERROR(INDEX('Work Orders'!$E$5:$E$104,MATCH(ROWS($I$14:I124),'Work Orders'!$I$5:$I$104,0)),""),IF(I124="Schedule Allocation",IFERROR(INDEX('Resource Schedule'!$K$5:$K$104,MATCH(ROWS($I$14:I124)-COUNTIF('Work Orders'!$H$5:$H$104,"?*"),'Resource Schedule'!$S$5:$S$104,0)),""),""))
I125: =IF(ROWS($I$14:I125)<=COUNTIF('Work Orders'!$H$5:$H$104,"?*"),"Work Order",IF(ROWS($I$14:I125)<=COUNTIF('Work Orders'!$H$5:$H$104,"?*")+COUNTIF('Resource Schedule'!$R$5:$R$104,"Planned Hours Needed")+COUNTIF('Resource Schedule'!$R$5:$R$104,"Work Order Missing")+COUNTIF('Resource Schedule'!$R$5:$R$104,"Calendar Missing")+COUNTIF('Resource Schedule'!$R$5:$R$104,"Duplicate Calendar Entry")+COUNTIF('Resource Schedule'!$R$5:$R$104,"Work Order Overallocated")+COUNTIF('Resource Schedule'!$R$5:$R$104,"Resource Overloaded"),"Schedule Allocation","")) | J125: =IF(I125="Work Order",IFERROR(INDEX('Work Orders'!$A$5:$A$104,MATCH(ROWS($I$14:I125),'Work Orders'!$I$5:$I$104,0)),""),IF(I125="Schedule Allocation",IFERROR(INDEX('Resource Schedule'!$J$5:$J$104,MATCH(ROWS($I$14:I125)-COUNTIF('Work Orders'!$H$5:$H$104,"?*"),'Resource Schedule'!$S$5:$S$104,0)),""),"")) | K125: =IF(I125="Work Order",IFERROR(INDEX('Work Orders'!$H$5:$H$104,MATCH(ROWS($I$14:I125),'Work Orders'!$I$5:$I$104,0)),""),IF(I125="Schedule Allocation",IFERROR(INDEX('Resource Schedule'!$R$5:$R$104,MATCH(ROWS($I$14:I125)-COUNTIF('Work Orders'!$H$5:$H$104,"?*"),'Resource Schedule'!$S$5:$S$104,0)),""),"")) | L125: =IF(I125="Work Order",IFERROR(INDEX('Work Orders'!$B$5:$B$104,MATCH(ROWS($I$14:I125),'Work Orders'!$I$5:$I$104,0)),""),IF(I125="Schedule Allocation",IFERROR(INDEX('Resource Schedule'!$H$5:$H$104,MATCH(ROWS($I$14:I125)-COUNTIF('Work Orders'!$H$5:$H$104,"?*"),'Resource Schedule'!$S$5:$S$104,0)),""),"")) | M125: =IF(I125="Work Order",IFERROR(INDEX('Work Orders'!$E$5:$E$104,MATCH(ROWS($I$14:I125),'Work Orders'!$I$5:$I$104,0)),""),IF(I125="Schedule Allocation",IFERROR(INDEX('Resource Schedule'!$K$5:$K$104,MATCH(ROWS($I$14:I125)-COUNTIF('Work Orders'!$H$5:$H$104,"?*"),'Resource Schedule'!$S$5:$S$104,0)),""),""))
... I213: =IF(ROWS($I$14:I213)<=COUNTIF('Work Orders'!$H$5:$H$104,"?*"),"Work Order",IF(ROWS($I$14:I213)<=COUNTIF('Work Orders'!$H$5:$H$104,"?*")+COUNTIF('Resource Schedule'!$R$5:$R$104,"Planned Hours Needed")+COUNTIF('Resource Schedule'!$R$5:$R$104,"Work Order Missing")+COUNTIF('Resource Schedule'!$R$5:$R$104,"Calendar Missing")+COUNTIF('Resource Schedule'!$R$5:$R$104,"Duplicate Calendar Entry")+COUNTIF('Resource Schedule'!$R$5:$R$104,"Work Order Overallocated")+COUNTIF('Resource Schedule'!$R$5:$R$104,"Resource Overloaded"),"Schedule Allocation","")) | J213: =IF(I213="Work Order",IFERROR(INDEX('Work Orders'!$A$5:$A$104,MATCH(ROWS($I$14:I213),'Work Orders'!$I$5:$I$104,0)),""),IF(I213="Schedule Allocation",IFERROR(INDEX('Resource Schedule'!$J$5:$J$104,MATCH(ROWS($I$14:I213)-COUNTIF('Work Orders'!$H$5:$H$104,"?*"),'Resource Schedule'!$S$5:$S$104,0)),""),"")) | K213: =IF(I213="Work Order",IFERROR(INDEX('Work Orders'!$H$5:$H$104,MATCH(ROWS($I$14:I213),'Work Orders'!$I$5:$I$104,0)),""),IF(I213="Schedule Allocation",IFERROR(INDEX('Resource Schedule'!$R$5:$R$104,MATCH(ROWS($I$14:I213)-COUNTIF('Work Orders'!$H$5:$H$104,"?*"),'Resource Schedule'!$S$5:$S$104,0)),""),"")) | L213: =IF(I213="Work Order",IFERROR(INDEX('Work Orders'!$B$5:$B$104,MATCH(ROWS($I$14:I213),'Work Orders'!$I$5:$I$104,0)),""),IF(I213="Schedule Allocation",IFERROR(INDEX('Resource Schedule'!$H$5:$H$104,MATCH(ROWS($I$14:I213)-COUNTIF('Work Orders'!$H$5:$H$104,"?*"),'Resource Schedule'!$S$5:$S$104,0)),""),"")) | M213: =IF(I213="Work Order",IFERROR(INDEX('Work Orders'!$E$5:$E$104,MATCH(ROWS($I$14:I213),'Work Orders'!$I$5:$I$104,0)),""),IF(I213="Schedule Allocation",IFERROR(INDEX('Resource Schedule'!$K$5:$K$104,MATCH(ROWS($I$14:I213)-COUNTIF('Work Orders'!$H$5:$H$104,"?*"),'Resource Schedule'!$S$5:$S$104,0)),""),""))

Sheet Work Orders
A1: Open Work Orders
A2: Enter each open work order, its due date, and total routing hours. Sample rows are illustrative only and must be replaced.
A4: Work Order ID | B4: Due Date | C4: Routing Hours | D4: Total Planned Routing Hours | E4: Remaining Routing Hours | F4: Latest Planned Date | G4: Late-Order Risk | H4: Rescheduling Exception | I4: Exception Sequence
A5: Sample Work Order 1001 | B5: 46273 | C5: 4 | D5: =IF(OR(A5="",B5="",NOT(ISNUMBER(B5)),NOT(ISNUMBER(C5)),C5<=0),"",IFERROR(SUMIFS('Resource Schedule'!$K$5:$K$104,'Resource Schedule'!$J$5:$J$104,A5),0)) | E5: =IF(OR(A5="",B5="",NOT(ISNUMBER(B5)),NOT(ISNUMBER(C5)),C5<=0),"",IFERROR(C5-D5,"")) | F5: =IF(OR(A5="",B5="",NOT(ISNUMBER(B5)),NOT(ISNUMBER(C5)),C5<=0),"",IF(COUNTIFS('Resource Schedule'!$J$5:$J$104,A5,'Resource Schedule'!$H$5:$H$104,">0")=0,"",IFERROR(MAXIFS('Resource Schedule'!$H$5:$H$104,'Resource Schedule'!$J$5:$J$104,A5),""))) | G5: =IF(OR(A5="",B5="",NOT(ISNUMBER(B5)),NOT(ISNUMBER(C5)),C5<=0),"",IF(D5<C5,"Unscheduled Hours",IF(D5>C5,"Overallocated",IF(F5="","Unscheduled Hours",IF(F5>B5,"Late","On Schedule"))))) | H5: =IF(OR(A5="",B5="",NOT(ISNUMBER(B5)),NOT(ISNUMBER(C5)),C5<=0),"",IF(G5="On Schedule","",G5)) | I5: =IF(H5="","",COUNTIF($H$5:H5,"?*"))
