Workbook

Sheet Dashboard
A1: Rough-Cut Capacity Plan
A2: Plan critical resources before production release using family-level demand, critical-resource rates, and period calendars.
A3: Illustrative sample values appear in prepared rows 5 through 12 on the input sheets. Replace them before operational use.
A5: Demand and rate rows ready | B5: =IFERROR(COUNTIF('Demand & Rates'!$G$5:$G$104,"Ready"),0) | D5: Feasible critical-resource rows | E5: =IFERROR(COUNTIF('Calendar & Resource Gaps'!$M$5:$M$104,"Feasible"),0) | G5: Critical-resource rows with a gap | H5: =IFERROR(COUNTIF('Calendar & Resource Gaps'!$M$5:$M$104,"Gap"),0)
A6: Total critical-resource gap (hours) | B6: =IFERROR(SUMIF('Calendar & Resource Gaps'!$M$5:$M$104,"Gap",'Calendar & Resource Gaps'!$L$5:$L$104),0) | D6: Capacity rows needing input review | E6: =IFERROR(COUNTIF('Calendar & Resource Gaps'!$M$5:$M$104,"Check Inputs"),0) | G6: Demand and rate rows needing input review | H6: =IFERROR(COUNTIF('Demand & Rates'!$G$5:$G$104,"Complete all inputs")+COUNTIF('Demand & Rates'!$G$5:$G$104,"Check numeric input"),0)
A9: Family-Level Feasibility View — First Eight Prepared Family Rows
A10: Period | B10: Product Family | C10: Critical Resource | D10: Family Demand Converted to Critical Hours (hours) | E10: Available Critical Hours (hours) | F10: Total Critical Resource Hours Required (hours) | G10: Critical-Resource Gap (hours) | H10: Early Overload Screen
A11: =IFERROR(IF('Demand & Rates'!$A5="","",'Demand & Rates'!$A5),"") | B11: =IFERROR(IF('Demand & Rates'!$B5="","",'Demand & Rates'!$B5),"") | C11: =IFERROR(IF('Demand & Rates'!$C5="","",'Demand & Rates'!$C5),"") | D11: =IFERROR(IF('Demand & Rates'!$F5="","",'Demand & Rates'!$F5),"") | E11: =IFERROR(IF('Demand & Rates'!$I5="","",'Demand & Rates'!$I5),"") | F11: =IFERROR(IF('Demand & Rates'!$K5="","",'Demand & Rates'!$K5),"") | G11: =IFERROR(IF('Demand & Rates'!$L5="","",'Demand & Rates'!$L5),"") | H11: =IFERROR(IF('Demand & Rates'!$M5="","",'Demand & Rates'!$M5),"")
A12: =IFERROR(IF('Demand & Rates'!$A6="","",'Demand & Rates'!$A6),"") | B12: =IFERROR(IF('Demand & Rates'!$B6="","",'Demand & Rates'!$B6),"") | C12: =IFERROR(IF('Demand & Rates'!$C6="","",'Demand & Rates'!$C6),"") | D12: =IFERROR(IF('Demand & Rates'!$F6="","",'Demand & Rates'!$F6),"") | E12: =IFERROR(IF('Demand & Rates'!$I6="","",'Demand & Rates'!$I6),"") | F12: =IFERROR(IF('Demand & Rates'!$K6="","",'Demand & Rates'!$K6),"") | G12: =IFERROR(IF('Demand & Rates'!$L6="","",'Demand & Rates'!$L6),"") | H12: =IFERROR(IF('Demand & Rates'!$M6="","",'Demand & Rates'!$M6),"")
A13: =IFERROR(IF('Demand & Rates'!$A7="","",'Demand & Rates'!$A7),"") | B13: =IFERROR(IF('Demand & Rates'!$B7="","",'Demand & Rates'!$B7),"") | C13: =IFERROR(IF('Demand & Rates'!$C7="","",'Demand & Rates'!$C7),"") | D13: =IFERROR(IF('Demand & Rates'!$F7="","",'Demand & Rates'!$F7),"") | E13: =IFERROR(IF('Demand & Rates'!$I7="","",'Demand & Rates'!$I7),"") | F13: =IFERROR(IF('Demand & Rates'!$K7="","",'Demand & Rates'!$K7),"") | G13: =IFERROR(IF('Demand & Rates'!$L7="","",'Demand & Rates'!$L7),"") | H13: =IFERROR(IF('Demand & Rates'!$M7="","",'Demand & Rates'!$M7),"")
A14: =IFERROR(IF('Demand & Rates'!$A8="","",'Demand & Rates'!$A8),"") | B14: =IFERROR(IF('Demand & Rates'!$B8="","",'Demand & Rates'!$B8),"") | C14: =IFERROR(IF('Demand & Rates'!$C8="","",'Demand & Rates'!$C8),"") | D14: =IFERROR(IF('Demand & Rates'!$F8="","",'Demand & Rates'!$F8),"") | E14: =IFERROR(IF('Demand & Rates'!$I8="","",'Demand & Rates'!$I8),"") | F14: =IFERROR(IF('Demand & Rates'!$K8="","",'Demand & Rates'!$K8),"") | G14: =IFERROR(IF('Demand & Rates'!$L8="","",'Demand & Rates'!$L8),"") | H14: =IFERROR(IF('Demand & Rates'!$M8="","",'Demand & Rates'!$M8),"")
A15: =IFERROR(IF('Demand & Rates'!$A9="","",'Demand & Rates'!$A9),"") | B15: =IFERROR(IF('Demand & Rates'!$B9="","",'Demand & Rates'!$B9),"") | C15: =IFERROR(IF('Demand & Rates'!$C9="","",'Demand & Rates'!$C9),"") | D15: =IFERROR(IF('Demand & Rates'!$F9="","",'Demand & Rates'!$F9),"") | E15: =IFERROR(IF('Demand & Rates'!$I9="","",'Demand & Rates'!$I9),"") | F15: =IFERROR(IF('Demand & Rates'!$K9="","",'Demand & Rates'!$K9),"") | G15: =IFERROR(IF('Demand & Rates'!$L9="","",'Demand & Rates'!$L9),"") | H15: =IFERROR(IF('Demand & Rates'!$M9="","",'Demand & Rates'!$M9),"")
A16: =IFERROR(IF('Demand & Rates'!$A10="","",'Demand & Rates'!$A10),"") | B16: =IFERROR(IF('Demand & Rates'!$B10="","",'Demand & Rates'!$B10),"") | C16: =IFERROR(IF('Demand & Rates'!$C10="","",'Demand & Rates'!$C10),"") | D16: =IFERROR(IF('Demand & Rates'!$F10="","",'Demand & Rates'!$F10),"") | E16: =IFERROR(IF('Demand & Rates'!$I10="","",'Demand & Rates'!$I10),"") | F16: =IFERROR(IF('Demand & Rates'!$K10="","",'Demand & Rates'!$K10),"") | G16: =IFERROR(IF('Demand & Rates'!$L10="","",'Demand & Rates'!$L10),"") | H16: =IFERROR(IF('Demand & Rates'!$M10="","",'Demand & Rates'!$M10),"")
A17: =IFERROR(IF('Demand & Rates'!$A11="","",'Demand & Rates'!$A11),"") | B17: =IFERROR(IF('Demand & Rates'!$B11="","",'Demand & Rates'!$B11),"") | C17: =IFERROR(IF('Demand & Rates'!$C11="","",'Demand & Rates'!$C11),"") | D17: =IFERROR(IF('Demand & Rates'!$F11="","",'Demand & Rates'!$F11),"") | E17: =IFERROR(IF('Demand & Rates'!$I11="","",'Demand & Rates'!$I11),"") | F17: =IFERROR(IF('Demand & Rates'!$K11="","",'Demand & Rates'!$K11),"") | G17: =IFERROR(IF('Demand & Rates'!$L11="","",'Demand & Rates'!$L11),"") | H17: =IFERROR(IF('Demand & Rates'!$M11="","",'Demand & Rates'!$M11),"")
A18: =IFERROR(IF('Demand & Rates'!$A12="","",'Demand & Rates'!$A12),"") | B18: =IFERROR(IF('Demand & Rates'!$B12="","",'Demand & Rates'!$B12),"") | C18: =IFERROR(IF('Demand & Rates'!$C12="","",'Demand & Rates'!$C12),"") | D18: =IFERROR(IF('Demand & Rates'!$F12="","",'Demand & Rates'!$F12),"") | E18: =IFERROR(IF('Demand & Rates'!$I12="","",'Demand & Rates'!$I12),"") | F18: =IFERROR(IF('Demand & Rates'!$K12="","",'Demand & Rates'!$K12),"") | G18: =IFERROR(IF('Demand & Rates'!$L12="","",'Demand & Rates'!$L12),"") | H18: =IFERROR(IF('Demand & Rates'!$M12="","",'Demand & Rates'!$M12),"")
A19: The resource totals and gap shown for each family row represent the full critical-resource and period combination associated with that family row. | H19: =""
H20: =""
A21: Critical-Resource Capacity Preview — First Eight Prepared Calendar Rows | H21: =""
A22: Period | B22: Critical Resource | C22: Available Critical Hours (hours) | D22: Total Critical Resource Hours Required (hours) | E22: Critical-Resource Gap (hours) | F22: Early Overload Screen | G22: Critical-Resource Gap Status | H22: =""
A23: =IFERROR(IF('Calendar & Resource Gaps'!$G5="","",'Calendar & Resource Gaps'!$G5),"") | B23: =IFERROR(IF('Calendar & Resource Gaps'!$H5="","",'Calendar & Resource Gaps'!$H5),"") | C23: =IFERROR(IF('Calendar & Resource Gaps'!$I5="","",'Calendar & Resource Gaps'!$I5),"") | D23: =IFERROR(IF('Calendar & Resource Gaps'!$K5="","",'Calendar & Resource Gaps'!$K5),"") | E23: =IFERROR(IF('Calendar & Resource Gaps'!$L5="","",'Calendar & Resource Gaps'!$L5),"") | F23: =IFERROR(IF('Calendar & Resource Gaps'!$M5="","",'Calendar & Resource Gaps'!$M5),"") | G23: =IFERROR(IF('Calendar & Resource Gaps'!$N5="","",'Calendar & Resource Gaps'!$N5),"") | H23: =""
A24: =IFERROR(IF('Calendar & Resource Gaps'!$G6="","",'Calendar & Resource Gaps'!$G6),"") | B24: =IFERROR(IF('Calendar & Resource Gaps'!$H6="","",'Calendar & Resource Gaps'!$H6),"") | C24: =IFERROR(IF('Calendar & Resource Gaps'!$I6="","",'Calendar & Resource Gaps'!$I6),"") | D24: =IFERROR(IF('Calendar & Resource Gaps'!$K6="","",'Calendar & Resource Gaps'!$K6),"") | E24: =IFERROR(IF('Calendar & Resource Gaps'!$L6="","",'Calendar & Resource Gaps'!$L6),"") | F24: =IFERROR(IF('Calendar & Resource Gaps'!$M6="","",'Calendar & Resource Gaps'!$M6),"") | G24: =IFERROR(IF('Calendar & Resource Gaps'!$N6="","",'Calendar & Resource Gaps'!$N6),"") | H24: =""
A25: =IFERROR(IF('Calendar & Resource Gaps'!$G7="","",'Calendar & Resource Gaps'!$G7),"") | B25: =IFERROR(IF('Calendar & Resource Gaps'!$H7="","",'Calendar & Resource Gaps'!$H7),"") | C25: =IFERROR(IF('Calendar & Resource Gaps'!$I7="","",'Calendar & Resource Gaps'!$I7),"") | D25: =IFERROR(IF('Calendar & Resource Gaps'!$K7="","",'Calendar & Resource Gaps'!$K7),"") | E25: =IFERROR(IF('Calendar & Resource Gaps'!$L7="","",'Calendar & Resource Gaps'!$L7),"") | F25: =IFERROR(IF('Calendar & Resource Gaps'!$M7="","",'Calendar & Resource Gaps'!$M7),"") | G25: =IFERROR(IF('Calendar & Resource Gaps'!$N7="","",'Calendar & Resource Gaps'!$N7),"") | H25: =""
A26: =IFERROR(IF('Calendar & Resource Gaps'!$G8="","",'Calendar & Resource Gaps'!$G8),"") | B26: =IFERROR(IF('Calendar & Resource Gaps'!$H8="","",'Calendar & Resource Gaps'!$H8),"") | C26: =IFERROR(IF('Calendar & Resource Gaps'!$I8="","",'Calendar & Resource Gaps'!$I8),"") | D26: =IFERROR(IF('Calendar & Resource Gaps'!$K8="","",'Calendar & Resource Gaps'!$K8),"") | E26: =IFERROR(IF('Calendar & Resource Gaps'!$L8="","",'Calendar & Resource Gaps'!$L8),"") | F26: =IFERROR(IF('Calendar & Resource Gaps'!$M8="","",'Calendar & Resource Gaps'!$M8),"") | G26: =IFERROR(IF('Calendar & Resource Gaps'!$N8="","",'Calendar & Resource Gaps'!$N8),"") | H26: =""
A27: =IFERROR(IF('Calendar & Resource Gaps'!$G9="","",'Calendar & Resource Gaps'!$G9),"") | B27: =IFERROR(IF('Calendar & Resource Gaps'!$H9="","",'Calendar & Resource Gaps'!$H9),"") | C27: =IFERROR(IF('Calendar & Resource Gaps'!$I9="","",'Calendar & Resource Gaps'!$I9),"") | D27: =IFERROR(IF('Calendar & Resource Gaps'!$K9="","",'Calendar & Resource Gaps'!$K9),"") | E27: =IFERROR(IF('Calendar & Resource Gaps'!$L9="","",'Calendar & Resource Gaps'!$L9),"") | F27: =IFERROR(IF('Calendar & Resource Gaps'!$M9="","",'Calendar & Resource Gaps'!$M9),"") | G27: =IFERROR(IF('Calendar & Resource Gaps'!$N9="","",'Calendar & Resource Gaps'!$N9),"") | H27: =""
A28: =IFERROR(IF('Calendar & Resource Gaps'!$G10="","",'Calendar & Resource Gaps'!$G10),"") | B28: =IFERROR(IF('Calendar & Resource Gaps'!$H10="","",'Calendar & Resource Gaps'!$H10),"") | C28: =IFERROR(IF('Calendar & Resource Gaps'!$I10="","",'Calendar & Resource Gaps'!$I10),"") | D28: =IFERROR(IF('Calendar & Resource Gaps'!$K10="","",'Calendar & Resource Gaps'!$K10),"") | E28: =IFERROR(IF('Calendar & Resource Gaps'!$L10="","",'Calendar & Resource Gaps'!$L10),"") | F28: =IFERROR(IF('Calendar & Resource Gaps'!$M10="","",'Calendar & Resource Gaps'!$M10),"") | G28: =IFERROR(IF('Calendar & Resource Gaps'!$N10="","",'Calendar & Resource Gaps'!$N10),"") | H28: =""
A29: =IFERROR(IF('Calendar & Resource Gaps'!$G11="","",'Calendar & Resource Gaps'!$G11),"") | B29: =IFERROR(IF('Calendar & Resource Gaps'!$H11="","",'Calendar & Resource Gaps'!$H11),"") | C29: =IFERROR(IF('Calendar & Resource Gaps'!$I11="","",'Calendar & Resource Gaps'!$I11),"") | D29: =IFERROR(IF('Calendar & Resource Gaps'!$K11="","",'Calendar & Resource Gaps'!$K11),"") | E29: =IFERROR(IF('Calendar & Resource Gaps'!$L11="","",'Calendar & Resource Gaps'!$L11),"") | F29: =IFERROR(IF('Calendar & Resource Gaps'!$M11="","",'Calendar & Resource Gaps'!$M11),"") | G29: =IFERROR(IF('Calendar & Resource Gaps'!$N11="","",'Calendar & Resource Gaps'!$N11),"") | H29: =""
A30: =IFERROR(IF('Calendar & Resource Gaps'!$G12="","",'Calendar & Resource Gaps'!$G12),"") | B30: =IFERROR(IF('Calendar & Resource Gaps'!$H12="","",'Calendar & Resource Gaps'!$H12),"") | C30: =IFERROR(IF('Calendar & Resource Gaps'!$I12="","",'Calendar & Resource Gaps'!$I12),"") | D30: =IFERROR(IF('Calendar & Resource Gaps'!$K12="","",'Calendar & Resource Gaps'!$K12),"") | E30: =IFERROR(IF('Calendar & Resource Gaps'!$L12="","",'Calendar & Resource Gaps'!$L12),"") | F30: =IFERROR(IF('Calendar & Resource Gaps'!$M12="","",'Calendar & Resource Gaps'!$M12),"") | G30: =IFERROR(IF('Calendar & Resource Gaps'!$N12="","",'Calendar & Resource Gaps'!$N12),"") | H30: =""
A31: ="" | B31: ="" | C31: ="" | D31: ="" | E31: ="" | F31: ="" | G31: ="" | H31: =""
A32: Use Calendar & Resource Gaps for the full critical-resource gap list and related input checks. | B32: ="" | C32: ="" | D32: ="" | E32: ="" | F32: ="" | G32: ="" | H32: =""
A33: ="" | B33: ="" | C33: ="" | D33: ="" | E33: ="" | F33: ="" | G33: ="" | H33: =""
A34: ="" | B34: ="" | C34: ="" | D34: ="" | E34: ="" | F34: ="" | G34: ="" | H34: =""
A35: ="" | B35: ="" | C35: ="" | D35: ="" | E35: ="" | F35: ="" | G35: ="" | H35: =""
A36: ="" | B36: ="" | C36: ="" | D36: ="" | E36: ="" | F36: ="" | G36: ="" | H36: =""
A37: ="" | B37: ="" | C37: ="" | D37: ="" | E37: ="" | F37: ="" | G37: ="" | H37: =""
A38: ="" | B38: ="" | C38: ="" | D38: ="" | E38: ="" | F38: ="" | G38: ="" | H38: =""
A39: ="" | B39: ="" | C39: ="" | D39: ="" | E39: ="" | F39: ="" | G39: ="" | H39: =""
A40: ="" | B40: ="" | C40: ="" | D40: ="" | E40: ="" | F40: ="" | G40: ="" | H40: =""
A41: ="" | B41: ="" | C41: ="" | D41: ="" | E41: ="" | F41: ="" | G41: ="" | H41: =""
A42: ="" | B42: ="" | C42: ="" | D42: ="" | E42: ="" | F42: ="" | G42: ="" | H42: =""
A43: ="" | B43: ="" | C43: ="" | D43: ="" | E43: ="" | F43: ="" | G43: ="" | H43: =""
...

Sheet Demand & Rates
A1: Family-Level Demand and Critical-Resource Rates
A2: Enter one row for each product family, period, and critical resource. Enter family-level demand quantity and the matching critical-resource rate.
A3: Illustrative sample rows are in rows 5 through 12. Replace or clear sample values before operational use. Input cells are shaded pale yellow; calculated cells are shaded light blue or light gray.
A4: Period | B4: Product Family | C4: Critical Resource | D4: Family-Level Demand (units) | E4: Critical-Resource Rate (hours/unit) | F4: Family Demand Converted to Critical Hours (hours) | G4: Demand and Rate Input Status | H4: Calendar Match Status | I4: Available Critical Hours (hours) | J4: Resource Demand Status | K4: Total Critical Resource Hours Required (hours) | L4: Critical-Resource Gap (hours) | M4: Early Overload Screen
A5: 46272 | B5: Family A | C5: Critical Resource A | D5: 10 | E5: 2 | F5: =IF(AND($A5="",$B5="",$C5="",$D5="",$E5=""),"",IF(OR($A5="",$B5="",$C5="",$D5="",$E5=""),"",IFERROR($D5*$E5,""))) | G5: =IF(AND($A5="",$B5="",$C5="",$D5="",$E5=""),"",IF(OR($A5="",$B5="",$C5="",$D5="",$E5=""),"Complete all inputs",IFERROR(IF(AND(ISNUMBER($A5),ISNUMBER($D5),ISNUMBER($E5),$D5>=0,$E5>=0),"Ready","Check numeric input"),"Check numeric input"))) | H5: =IFERROR(IF($G5="","",IF($G5<>"Ready","Check demand input",IF(COUNTIFS('Calendar & Resource Gaps'!$A$5:$A$104,$A5,'Calendar & Resource Gaps'!$B$5:$B$104,$C5)=0,"No period calendar",IF(COUNTIFS('Calendar & Resource Gaps'!$A$5:$A$104,$A5,'Calendar & Resource Gaps'!$B$5:$B$104,$C5)>1,"Duplicate period calendar",IF(COUNTIFS('Calendar & Resource Gaps'!$A$5:$A$104,$A5,'Calendar & Resource Gaps'!$B$5:$B$104,$C5,'Calendar & Resource Gaps'!$D$5:$D$104,"Ready")=1,"Ready","Check period calendar"))))),"Check period calendar") | I5: =IFERROR(IF($H5<>"Ready","",SUMIFS('Calendar & Resource Gaps'!$C$5:$C$104,'Calendar & Resource Gaps'!$A$5:$A$104,$A5,'Calendar & Resource Gaps'!$B$5:$B$104,$C5)),"") | J5: =IFERROR(IF($G5="","",IF(OR($G5<>"Ready",$H5<>"Ready"),"Check inputs",IF(COUNTIFS($A$5:$A$104,$A5,$C$5:$C$104,$C5)=COUNTIFS($A$5:$A$104,$A5,$C$5:$C$104,$C5,$G$5:$G$104,"Ready"),"Ready","Check family demand or rate"))),"Check family demand or rate") | K5: =IFERROR(IF($J5<>"Ready","",SUMIFS($F$5:$F$104,$A$5:$A$104,$A5,$C$5:$C$104,$C5,$G$5:$G$104,"Ready")),"") | L5: =IFERROR(IF(OR($I5="",$K5=""),"",IF($K5>$I5,$K5-$I5,"")),"") | M5: =IFERROR(IF($G5="","",IF(AND($G5="Ready",$H5="Ready",$J5="Ready"),IF($K5<=$I5,"Feasible","Gap"),"Check Inputs")),"Check Inputs")
A6: 46272 | B6: Family B | C6: Critical Resource A | D6: 15 | E6: 2 | F6: =IF(AND($A6="",$B6="",$C6="",$D6="",$E6=""),"",IF(OR($A6="",$B6="",$C6="",$D6="",$E6=""),"",IFERROR($D6*$E6,""))) | G6: =IF(AND($A6="",$B6="",$C6="",$D6="",$E6=""),"",IF(OR($A6="",$B6="",$C6="",$D6="",$E6=""),"Complete all inputs",IFERROR(IF(AND(ISNUMBER($A6),ISNUMBER($D6),ISNUMBER($E6),$D6>=0,$E6>=0),"Ready","Check numeric input"),"Check numeric input"))) | H6: =IFERROR(IF($G6="","",IF($G6<>"Ready","Check demand input",IF(COUNTIFS('Calendar & Resource Gaps'!$A$5:$A$104,$A6,'Calendar & Resource Gaps'!$B$5:$B$104,$C6)=0,"No period calendar",IF(COUNTIFS('Calendar & Resource Gaps'!$A$5:$A$104,$A6,'Calendar & Resource Gaps'!$B$5:$B$104,$C6)>1,"Duplicate period calendar",IF(COUNTIFS('Calendar & Resource Gaps'!$A$5:$A$104,$A6,'Calendar & Resource Gaps'!$B$5:$B$104,$C6,'Calendar & Resource Gaps'!$D$5:$D$104,"Ready")=1,"Ready","Check period calendar"))))),"Check period calendar") | I6: =IFERROR(IF($H6<>"Ready","",SUMIFS('Calendar & Resource Gaps'!$C$5:$C$104,'Calendar & Resource Gaps'!$A$5:$A$104,$A6,'Calendar & Resource Gaps'!$B$5:$B$104,$C6)),"") | J6: =IFERROR(IF($G6="","",IF(OR($G6<>"Ready",$H6<>"Ready"),"Check inputs",IF(COUNTIFS($A$5:$A$104,$A6,$C$5:$C$104,$C6)=COUNTIFS($A$5:$A$104,$A6,$C$5:$C$104,$C6,$G$5:$G$104,"Ready"),"Ready","Check family demand or rate"))),"Check family demand or rate") | K6: =IFERROR(IF($J6<>"Ready","",SUMIFS($F$5:$F$104,$A$5:$A$104,$A6,$C$5:$C$104,$C6,$G$5:$G$104,"Ready")),"") | L6: =IFERROR(IF(OR($I6="",$K6=""),"",IF($K6>$I6,$K6-$I6,"")),"") | M6: =IFERROR(IF($G6="","",IF(AND($G6="Ready",$H6="Ready",$J6="Ready"),IF($K6<=$I6,"Feasible","Gap"),"Check Inputs")),"Check Inputs")
A7: 46279 | B7: Family C | C7: Critical Resource B | D7: 8 | E7: 3 | F7: =IF(AND($A7="",$B7="",$C7="",$D7="",$E7=""),"",IF(OR($A7="",$B7="",$C7="",$D7="",$E7=""),"",IFERROR($D7*$E7,""))) | G7: =IF(AND($A7="",$B7="",$C7="",$D7="",$E7=""),"",IF(OR($A7="",$B7="",$C7="",$D7="",$E7=""),"Complete all inputs",IFERROR(IF(AND(ISNUMBER($A7),ISNUMBER($D7),ISNUMBER($E7),$D7>=0,$E7>=0),"Ready","Check numeric input"),"Check numeric input"))) | H7: =IFERROR(IF($G7="","",IF($G7<>"Ready","Check demand input",IF(COUNTIFS('Calendar & Resource Gaps'!$A$5:$A$104,$A7,'Calendar & Resource Gaps'!$B$5:$B$104,$C7)=0,"No period calendar",IF(COUNTIFS('Calendar & Resource Gaps'!$A$5:$A$104,$A7,'Calendar & Resource Gaps'!$B$5:$B$104,$C7)>1,"Duplicate period calendar",IF(COUNTIFS('Calendar & Resource Gaps'!$A$5:$A$104,$A7,'Calendar & Resource Gaps'!$B$5:$B$104,$C7,'Calendar & Resource Gaps'!$D$5:$D$104,"Ready")=1,"Ready","Check period calendar"))))),"Check period calendar") | I7: =IFERROR(IF($H7<>"Ready","",SUMIFS('Calendar & Resource Gaps'!$C$5:$C$104,'Calendar & Resource Gaps'!$A$5:$A$104,$A7,'Calendar & Resource Gaps'!$B$5:$B$104,$C7)),"") | J7: =IFERROR(IF($G7="","",IF(OR($G7<>"Ready",$H7<>"Ready"),"Check inputs",IF(COUNTIFS($A$5:$A$104,$A7,$C$5:$C$104,$C7)=COUNTIFS($A$5:$A$104,$A7,$C$5:$C$104,$C7,$G$5:$G$104,"Ready"),"Ready","Check family demand or rate"))),"Check family demand or rate") | K7: =IFERROR(IF($J7<>"Ready","",SUMIFS($F$5:$F$104,$A$5:$A$104,$A7,$C$5:$C$104,$C7,$G$5:$G$104,"Ready")),"") | L7: =IFERROR(IF(OR($I7="",$K7=""),"",IF($K7>$I7,$K7-$I7,"")),"") | M7: =IFERROR(IF($G7="","",IF(AND($G7="Ready",$H7="Ready",$J7="Ready"),IF($K7<=$I7,"Feasible","Gap"),"Check Inputs")),"Check Inputs")
A8: 46279 | B8: Family D | C8: Critical Resource C | D8: 12 | E8: 1 | F8: =IF(AND($A8="",$B8="",$C8="",$D8="",$E8=""),"",IF(OR($A8="",$B8="",$C8="",$D8="",$E8=""),"",IFERROR($D8*$E8,""))) | G8: =IF(AND($A8="",$B8="",$C8="",$D8="",$E8=""),"",IF(OR($A8="",$B8="",$C8="",$D8="",$E8=""),"Complete all inputs",IFERROR(IF(AND(ISNUMBER($A8),ISNUMBER($D8),ISNUMBER($E8),$D8>=0,$E8>=0),"Ready","Check numeric input"),"Check numeric input"))) | H8: =IFERROR(IF($G8="","",IF($G8<>"Ready","Check demand input",IF(COUNTIFS('Calendar & Resource Gaps'!$A$5:$A$104,$A8,'Calendar & Resource Gaps'!$B$5:$B$104,$C8)=0,"No period calendar",IF(COUNTIFS('Calendar & Resource Gaps'!$A$5:$A$104,$A8,'Calendar & Resource Gaps'!$B$5:$B$104,$C8)>1,"Duplicate period calendar",IF(COUNTIFS('Calendar & Resource Gaps'!$A$5:$A$104,$A8,'Calendar & Resource Gaps'!$B$5:$B$104,$C8,'Calendar & Resource Gaps'!$D$5:$D$104,"Ready")=1,"Ready","Check period calendar"))))),"Check period calendar") | I8: =IFERROR(IF($H8<>"Ready","",SUMIFS('Calendar & Resource Gaps'!$C$5:$C$104,'Calendar & Resource Gaps'!$A$5:$A$104,$A8,'Calendar & Resource Gaps'!$B$5:$B$104,$C8)),"") | J8: =IFERROR(IF($G8="","",IF(OR($G8<>"Ready",$H8<>"Ready"),"Check inputs",IF(COUNTIFS($A$5:$A$104,$A8,$C$5:$C$104,$C8)=COUNTIFS($A$5:$A$104,$A8,$C$5:$C$104,$C8,$G$5:$G$104,"Ready"),"Ready","Check family demand or rate"))),"Check family demand or rate") | K8: =IFERROR(IF($J8<>"Ready","",SUMIFS($F$5:$F$104,$A$5:$A$104,$A8,$C$5:$C$104,$C8,$G$5:$G$104,"Ready")),"") | L8: =IFERROR(IF(OR($I8="",$K8=""),"",IF($K8>$I8,$K8-$I8,"")),"") | M8: =IFERROR(IF($G8="","",IF(AND($G8="Ready",$H8="Ready",$J8="Ready"),IF($K8<=$I8,"Feasible","Gap"),"Check Inputs")),"Check Inputs")
A9: 46286 | B9: Family E | C9: Critical Resource A | D9: 20 | E9: 1 | F9: =IF(AND($A9="",$B9="",$C9="",$D9="",$E9=""),"",IF(OR($A9="",$B9="",$C9="",$D9="",$E9=""),"",IFERROR($D9*$E9,""))) | G9: =IF(AND($A9="",$B9="",$C9="",$D9="",$E9=""),"",IF(OR($A9="",$B9="",$C9="",$D9="",$E9=""),"Complete all inputs",IFERROR(IF(AND(ISNUMBER($A9),ISNUMBER($D9),ISNUMBER($E9),$D9>=0,$E9>=0),"Ready","Check numeric input"),"Check numeric input"))) | H9: =IFERROR(IF($G9="","",IF($G9<>"Ready","Check demand input",IF(COUNTIFS('Calendar & Resource Gaps'!$A$5:$A$104,$A9,'Calendar & Resource Gaps'!$B$5:$B$104,$C9)=0,"No period calendar",IF(COUNTIFS('Calendar & Resource Gaps'!$A$5:$A$104,$A9,'Calendar & Resource Gaps'!$B$5:$B$104,$C9)>1,"Duplicate period calendar",IF(COUNTIFS('Calendar & Resource Gaps'!$A$5:$A$104,$A9,'Calendar & Resource Gaps'!$B$5:$B$104,$C9,'Calendar & Resource Gaps'!$D$5:$D$104,"Ready")=1,"Ready","Check period calendar"))))),"Check period calendar") | I9: =IFERROR(IF($H9<>"Ready","",SUMIFS('Calendar & Resource Gaps'!$C$5:$C$104,'Calendar & Resource Gaps'!$A$5:$A$104,$A9,'Calendar & Resource Gaps'!$B$5:$B$104,$C9)),"") | J9: =IFERROR(IF($G9="","",IF(OR($G9<>"Ready",$H9<>"Ready"),"Check inputs",IF(COUNTIFS($A$5:$A$104,$A9,$C$5:$C$104,$C9)=COUNTIFS($A$5:$A$104,$A9,$C$5:$C$104,$C9,$G$5:$G$104,"Ready"),"Ready","Check family demand or rate"))),"Check family demand or rate") | K9: =IFERROR(IF($J9<>"Ready","",SUMIFS($F$5:$F$104,$A$5:$A$104,$A9,$C$5:$C$104,$C9,$G$5:$G$104,"Ready")),"") | L9: =IFERROR(IF(OR($I9="",$K9=""),"",IF($K9>$I9,$K9-$I9,"")),"") | M9: =IFERROR(IF($G9="","",IF(AND($G9="Ready",$H9="Ready",$J9="Ready"),IF($K9<=$I9,"Feasible","Gap"),"Check Inputs")),"Check Inputs")
A10: 46286 | B10: Family F | C10: Critical Resource B | D10: 10 | E10: 4 | F10: =IF(AND($A10="",$B10="",$C10="",$D10="",$E10=""),"",IF(OR($A10="",$B10="",$C10="",$D10="",$E10=""),"",IFERROR($D10*$E10,""))) | G10: =IF(AND($A10="",$B10="",$C10="",$D10="",$E10=""),"",IF(OR($A10="",$B10="",$C10="",$D10="",$E10=""),"Complete all inputs",IFERROR(IF(AND(ISNUMBER($A10),ISNUMBER($D10),ISNUMBER($E10),$D10>=0,$E10>=0),"Ready","Check numeric input"),"Check numeric input"))) | H10: =IFERROR(IF($G10="","",IF($G10<>"Ready","Check demand input",IF(COUNTIFS('Calendar & Resource Gaps'!$A$5:$A$104,$A10,'Calendar & Resource Gaps'!$B$5:$B$104,$C10)=0,"No period calendar",IF(COUNTIFS('Calendar & Resource Gaps'!$A$5:$A$104,$A10,'Calendar & Resource Gaps'!$B$5:$B$104,$C10)>1,"Duplicate period calendar",IF(COUNTIFS('Calendar & Resource Gaps'!$A$5:$A$104,$A10,'Calendar & Resource Gaps'!$B$5:$B$104,$C10,'Calendar & Resource Gaps'!$D$5:$D$104,"Ready")=1,"Ready","Check period calendar"))))),"Check period calendar") | I10: =IFERROR(IF($H10<>"Ready","",SUMIFS('Calendar & Resource Gaps'!$C$5:$C$104,'Calendar & Resource Gaps'!$A$5:$A$104,$A10,'Calendar & Resource Gaps'!$B$5:$B$104,$C10)),"") | J10: =IFERROR(IF($G10="","",IF(OR($G10<>"Ready",$H10<>"Ready"),"Check inputs",IF(COUNTIFS($A$5:$A$104,$A10,$C$5:$C$104,$C10)=COUNTIFS($A$5:$A$104,$A10,$C$5:$C$104,$C10,$G$5:$G$104,"Ready"),"Ready","Check family demand or rate"))),"Check family demand or rate") | K10: =IFERROR(IF($J10<>"Ready","",SUMIFS($F$5:$F$104,$A$5:$A$104,$A10,$C$5:$C$104,$C10,$G$5:$G$104,"Ready")),"") | L10: =IFERROR(IF(OR($I10="",$K10=""),"",IF($K10>$I10,$K10-$I10,"")),"") | M10: =IFERROR(IF($G10="","",IF(AND($G10="Ready",$H10="Ready",$J10="Ready"),IF($K10<=$I10,"Feasible","Gap"),"Check Inputs")),"Check Inputs")
A11: 46293 | B11: Family G | C11: Critical Resource C | D11: 30 | E11: 1 | F11: =IF(AND($A11="",$B11="",$C11="",$D11="",$E11=""),"",IF(OR($A11="",$B11="",$C11="",$D11="",$E11=""),"",IFERROR($D11*$E11,""))) | G11: =IF(AND($A11="",$B11="",$C11="",$D11="",$E11=""),"",IF(OR($A11="",$B11="",$C11="",$D11="",$E11=""),"Complete all inputs",IFERROR(IF(AND(ISNUMBER($A11),ISNUMBER($D11),ISNUMBER($E11),$D11>=0,$E11>=0),"Ready","Check numeric input"),"Check numeric input"))) | H11: =IFERROR(IF($G11="","",IF($G11<>"Ready","Check demand input",IF(COUNTIFS('Calendar & Resource Gaps'!$A$5:$A$104,$A11,'Calendar & Resource Gaps'!$B$5:$B$104,$C11)=0,"No period calendar",IF(COUNTIFS('Calendar & Resource Gaps'!$A$5:$A$104,$A11,'Calendar & Resource Gaps'!$B$5:$B$104,$C11)>1,"Duplicate period calendar",IF(COUNTIFS('Calendar & Resource Gaps'!$A$5:$A$104,$A11,'Calendar & Resource Gaps'!$B$5:$B$104,$C11,'Calendar & Resource Gaps'!$D$5:$D$104,"Ready")=1,"Ready","Check period calendar"))))),"Check period calendar") | I11: =IFERROR(IF($H11<>"Ready","",SUMIFS('Calendar & Resource Gaps'!$C$5:$C$104,'Calendar & Resource Gaps'!$A$5:$A$104,$A11,'Calendar & Resource Gaps'!$B$5:$B$104,$C11)),"") | J11: =IFERROR(IF($G11="","",IF(OR($G11<>"Ready",$H11<>"Ready"),"Check inputs",IF(COUNTIFS($A$5:$A$104,$A11,$C$5:$C$104,$C11)=COUNTIFS($A$5:$A$104,$A11,$C$5:$C$104,$C11,$G$5:$G$104,"Ready"),"Ready","Check family demand or rate"))),"Check family demand or rate") | K11: =IFERROR(IF($J11<>"Ready","",SUMIFS($F$5:$F$104,$A$5:$A$104,$A11,$C$5:$C$104,$C11,$G$5:$G$104,"Ready")),"") | L11: =IFERROR(IF(OR($I11="",$K11=""),"",IF($K11>$I11,$K11-$I11,"")),"") | M11: =IFERROR(IF($G11="","",IF(AND($G11="Ready",$H11="Ready",$J11="Ready"),IF($K11<=$I11,"Feasible","Gap"),"Check Inputs")),"Check Inputs")
A12: 46293 | B12: Family H | C12: Critical Resource A | D12: 5 | E12: 2 | F12: =IF(AND($A12="",$B12="",$C12="",$D12="",$E12=""),"",IF(OR($A12="",$B12="",$C12="",$D12="",$E12=""),"",IFERROR($D12*$E12,""))) | G12: =IF(AND($A12="",$B12="",$C12="",$D12="",$E12=""),"",IF(OR($A12="",$B12="",$C12="",$D12="",$E12=""),"Complete all inputs",IFERROR(IF(AND(ISNUMBER($A12),ISNUMBER($D12),ISNUMBER($E12),$D12>=0,$E12>=0),"Ready","Check numeric input"),"Check numeric input"))) | H12: =IFERROR(IF($G12="","",IF($G12<>"Ready","Check demand input",IF(COUNTIFS('Calendar & Resource Gaps'!$A$5:$A$104,$A12,'Calendar & Resource Gaps'!$B$5:$B$104,$C12)=0,"No period calendar",IF(COUNTIFS('Calendar & Resource Gaps'!$A$5:$A$104,$A12,'Calendar & Resource Gaps'!$B$5:$B$104,$C12)>1,"Duplicate period calendar",IF(COUNTIFS('Calendar & Resource Gaps'!$A$5:$A$104,$A12,'Calendar & Resource Gaps'!$B$5:$B$104,$C12,'Calendar & Resource Gaps'!$D$5:$D$104,"Ready")=1,"Ready","Check period calendar"))))),"Check period calendar") | I12: =IFERROR(IF($H12<>"Ready","",SUMIFS('Calendar & Resource Gaps'!$C$5:$C$104,'Calendar & Resource Gaps'!$A$5:$A$104,$A12,'Calendar & Resource Gaps'!$B$5:$B$104,$C12)),"") | J12: =IFERROR(IF($G12="","",IF(OR($G12<>"Ready",$H12<>"Ready"),"Check inputs",IF(COUNTIFS($A$5:$A$104,$A12,$C$5:$C$104,$C12)=COUNTIFS($A$5:$A$104,$A12,$C$5:$C$104,$C12,$G$5:$G$104,"Ready"),"Ready","Check family demand or rate"))),"Check family demand or rate") | K12: =IFERROR(IF($J12<>"Ready","",SUMIFS($F$5:$F$104,$A$5:$A$104,$A12,$C$5:$C$104,$C12,$G$5:$G$104,"Ready")),"") | L12: =IFERROR(IF(OR($I12="",$K12=""),"",IF($K12>$I12,$K12-$I12,"")),"") | M12: =IFERROR(IF($G12="","",IF(AND($G12="Ready",$H12="Ready",$J12="Ready"),IF($K12<=$I12,"Feasible","Gap"),"Check Inputs")),"Check Inputs")
F13: =IF(AND($A13="",$B13="",$C13="",$D13="",$E13=""),"",IF(OR($A13="",$B13="",$C13="",$D13="",$E13=""),"",IFERROR($D13*$E13,""))) | G13: =IF(AND($A13="",$B13="",$C13="",$D13="",$E13=""),"",IF(OR($A13="",$B13="",$C13="",$D13="",$E13=""),"Complete all inputs",IFERROR(IF(AND(ISNUMBER($A13),ISNUMBER($D13),ISNUMBER($E13),$D13>=0,$E13>=0),"Ready","Check numeric input"),"Check numeric input"))) | H13: =IFERROR(IF($G13="","",IF($G13<>"Ready","Check demand input",IF(COUNTIFS('Calendar & Resource Gaps'!$A$5:$A$104,$A13,'Calendar & Resource Gaps'!$B$5:$B$104,$C13)=0,"No period calendar",IF(COUNTIFS('Calendar & Resource Gaps'!$A$5:$A$104,$A13,'Calendar & Resource Gaps'!$B$5:$B$104,$C13)>1,"Duplicate period calendar",IF(COUNTIFS('Calendar & Resource Gaps'!$A$5:$A$104,$A13,'Calendar & Resource Gaps'!$B$5:$B$104,$C13,'Calendar & Resource Gaps'!$D$5:$D$104,"Ready")=1,"Ready","Check period calendar"))))),"Check period calendar") | I13: =IFERROR(IF($H13<>"Ready","",SUMIFS('Calendar & Resource Gaps'!$C$5:$C$104,'Calendar & Resource Gaps'!$A$5:$A$104,$A13,'Calendar & Resource Gaps'!$B$5:$B$104,$C13)),"") | J13: =IFERROR(IF($G13="","",IF(OR($G13<>"Ready",$H13<>"Ready"),"Check inputs",IF(COUNTIFS($A$5:$A$104,$A13,$C$5:$C$104,$C13)=COUNTIFS($A$5:$A$104,$A13,$C$5:$C$104,$C13,$G$5:$G$104,"Ready"),"Ready","Check family demand or rate"))),"Check family demand or rate") | K13: =IFERROR(IF($J13<>"Ready","",SUMIFS($F$5:$F$104,$A$5:$A$104,$A13,$C$5:$C$104,$C13,$G$5:$G$104,"Ready")),"") | L13: =IFERROR(IF(OR($I13="",$K13=""),"",IF($K13>$I13,$K13-$I13,"")),"") | M13: =IFERROR(IF($G13="","",IF(AND($G13="Ready",$H13="Ready",$J13="Ready"),IF($K13<=$I13,"Feasible","Gap"),"Check Inputs")),"Check Inputs")
F14: =IF(AND($A14="",$B14="",$C14="",$D14="",$E14=""),"",IF(OR($A14="",$B14="",$C14="",$D14="",$E14=""),"",IFERROR($D14*$E14,""))) | G14: =IF(AND($A14="",$B14="",$C14="",$D14="",$E14=""),"",IF(OR($A14="",$B14="",$C14="",$D14="",$E14=""),"Complete all inputs",IFERROR(IF(AND(ISNUMBER($A14),ISNUMBER($D14),ISNUMBER($E14),$D14>=0,$E14>=0),"Ready","Check numeric input"),"Check numeric input"))) | H14: =IFERROR(IF($G14="","",IF($G14<>"Ready","Check demand input",IF(COUNTIFS('Calendar & Resource Gaps'!$A$5:$A$104,$A14,'Calendar & Resource Gaps'!$B$5:$B$104,$C14)=0,"No period calendar",IF(COUNTIFS('Calendar & Resource Gaps'!$A$5:$A$104,$A14,'Calendar & Resource Gaps'!$B$5:$B$104,$C14)>1,"Duplicate period calendar",IF(COUNTIFS('Calendar & Resource Gaps'!$A$5:$A$104,$A14,'Calendar & Resource Gaps'!$B$5:$B$104,$C14,'Calendar & Resource Gaps'!$D$5:$D$104,"Ready")=1,"Ready","Check period calendar"))))),"Check period calendar") | I14: =IFERROR(IF($H14<>"Ready","",SUMIFS('Calendar & Resource Gaps'!$C$5:$C$104,'Calendar & Resource Gaps'!$A$5:$A$104,$A14,'Calendar & Resource Gaps'!$B$5:$B$104,$C14)),"") | J14: =IFERROR(IF($G14="","",IF(OR($G14<>"Ready",$H14<>"Ready"),"Check inputs",IF(COUNTIFS($A$5:$A$104,$A14,$C$5:$C$104,$C14)=COUNTIFS($A$5:$A$104,$A14,$C$5:$C$104,$C14,$G$5:$G$104,"Ready"),"Ready","Check family demand or rate"))),"Check family demand or rate") | K14: =IFERROR(IF($J14<>"Ready","",SUMIFS($F$5:$F$104,$A$5:$A$104,$A14,$C$5:$C$104,$C14,$G$5:$G$104,"Ready")),"") | L14: =IFERROR(IF(OR($I14="",$K14=""),"",IF($K14>$I14,$K14-$I14,"")),"") | M14: =IFERROR(IF($G14="","",IF(AND($G14="Ready",$H14="Ready",$J14="Ready"),IF($K14<=$I14,"Feasible","Gap"),"Check Inputs")),"Check Inputs")
F15: =IF(AND($A15="",$B15="",$C15="",$D15="",$E15=""),"",IF(OR($A15="",$B15="",$C15="",$D15="",$E15=""),"",IFERROR($D15*$E15,""))) | G15: =IF(AND($A15="",$B15="",$C15="",$D15="",$E15=""),"",IF(OR($A15="",$B15="",$C15="",$D15="",$E15=""),"Complete all inputs",IFERROR(IF(AND(ISNUMBER($A15),ISNUMBER($D15),ISNUMBER($E15),$D15>=0,$E15>=0),"Ready","Check numeric input"),"Check numeric input"))) | H15: =IFERROR(IF($G15="","",IF($G15<>"Ready","Check demand input",IF(COUNTIFS('Calendar & Resource Gaps'!$A$5:$A$104,$A15,'Calendar & Resource Gaps'!$B$5:$B$104,$C15)=0,"No period calendar",IF(COUNTIFS('Calendar & Resource Gaps'!$A$5:$A$104,$A15,'Calendar & Resource Gaps'!$B$5:$B$104,$C15)>1,"Duplicate period calendar",IF(COUNTIFS('Calendar & Resource Gaps'!$A$5:$A$104,$A15,'Calendar & Resource Gaps'!$B$5:$B$104,$C15,'Calendar & Resource Gaps'!$D$5:$D$104,"Ready")=1,"Ready","Check period calendar"))))),"Check period calendar") | I15: =IFERROR(IF($H15<>"Ready","",SUMIFS('Calendar & Resource Gaps'!$C$5:$C$104,'Calendar & Resource Gaps'!$A$5:$A$104,$A15,'Calendar & Resource Gaps'!$B$5:$B$104,$C15)),"") | J15: =IFERROR(IF($G15="","",IF(OR($G15<>"Ready",$H15<>"Ready"),"Check inputs",IF(COUNTIFS($A$5:$A$104,$A15,$C$5:$C$104,$C15)=COUNTIFS($A$5:$A$104,$A15,$C$5:$C$104,$C15,$G$5:$G$104,"Ready"),"Ready","Check family demand or rate"))),"Check family demand or rate") | K15: =IFERROR(IF($J15<>"Ready","",SUMIFS($F$5:$F$104,$A$5:$A$104,$A15,$C$5:$C$104,$C15,$G$5:$G$104,"Ready")),"") | L15: =IFERROR(IF(OR($I15="",$K15=""),"",IF($K15>$I15,$K15-$I15,"")),"") | M15: =IFERROR(IF($G15="","",IF(AND($G15="Ready",$H15="Ready",$J15="Ready"),IF($K15<=$I15,"Feasible","Gap"),"Check Inputs")),"Check Inputs")
F16: =IF(AND($A16="",$B16="",$C16="",$D16="",$E16=""),"",IF(OR($A16="",$B16="",$C16="",$D16="",$E16=""),"",IFERROR($D16*$E16,""))) | G16: =IF(AND($A16="",$B16="",$C16="",$D16="",$E16=""),"",IF(OR($A16="",$B16="",$C16="",$D16="",$E16=""),"Complete all inputs",IFERROR(IF(AND(ISNUMBER($A16),ISNUMBER($D16),ISNUMBER($E16),$D16>=0,$E16>=0),"Ready","Check numeric input"),"Check numeric input"))) | H16: =IFERROR(IF($G16="","",IF($G16<>"Ready","Check demand input",IF(COUNTIFS('Calendar & Resource Gaps'!$A$5:$A$104,$A16,'Calendar & Resource Gaps'!$B$5:$B$104,$C16)=0,"No period calendar",IF(COUNTIFS('Calendar & Resource Gaps'!$A$5:$A$104,$A16,'Calendar & Resource Gaps'!$B$5:$B$104,$C16)>1,"Duplicate period calendar",IF(COUNTIFS('Calendar & Resource Gaps'!$A$5:$A$104,$A16,'Calendar & Resource Gaps'!$B$5:$B$104,$C16,'Calendar & Resource Gaps'!$D$5:$D$104,"Ready")=1,"Ready","Check period calendar"))))),"Check period calendar") | I16: =IFERROR(IF($H16<>"Ready","",SUMIFS('Calendar & Resource Gaps'!$C$5:$C$104,'Calendar & Resource Gaps'!$A$5:$A$104,$A16,'Calendar & Resource Gaps'!$B$5:$B$104,$C16)),"") | J16: =IFERROR(IF($G16="","",IF(OR($G16<>"Ready",$H16<>"Ready"),"Check inputs",IF(COUNTIFS($A$5:$A$104,$A16,$C$5:$C$104,$C16)=COUNTIFS($A$5:$A$104,$A16,$C$5:$C$104,$C16,$G$5:$G$104,"Ready"),"Ready","Check family demand or rate"))),"Check family demand or rate") | K16: =IFERROR(IF($J16<>"Ready","",SUMIFS($F$5:$F$104,$A$5:$A$104,$A16,$C$5:$C$104,$C16,$G$5:$G$104,"Ready")),"") | L16: =IFERROR(IF(OR($I16="",$K16=""),"",IF($K16>$I16,$K16-$I16,"")),"") | M16: =IFERROR(IF($G16="","",IF(AND($G16="Ready",$H16="Ready",$J16="Ready"),IF($K16<=$I16,"Feasible","Gap"),"Check Inputs")),"Check Inputs")
F17: =IF(AND($A17="",$B17="",$C17="",$D17="",$E17=""),"",IF(OR($A17="",$B17="",$C17="",$D17="",$E17=""),"",IFERROR($D17*$E17,""))) | G17: =IF(AND($A17="",$B17="",$C17="",$D17="",$E17=""),"",IF(OR($A17="",$B17="",$C17="",$D17="",$E17=""),"Complete all inputs",IFERROR(IF(AND(ISNUMBER($A17),ISNUMBER($D17),ISNUMBER($E17),$D17>=0,$E17>=0),"Ready","Check numeric input"),"Check numeric input"))) | H17: =IFERROR(IF($G17="","",IF($G17<>"Ready","Check demand input",IF(COUNTIFS('Calendar & Resource Gaps'!$A$5:$A$104,$A17,'Calendar & Resource Gaps'!$B$5:$B$104,$C17)=0,"No period calendar",IF(COUNTIFS('Calendar & Resource Gaps'!$A$5:$A$104,$A17,'Calendar & Resource Gaps'!$B$5:$B$104,$C17)>1,"Duplicate period calendar",IF(COUNTIFS('Calendar & Resource Gaps'!$A$5:$A$104,$A17,'Calendar & Resource Gaps'!$B$5:$B$104,$C17,'Calendar & Resource Gaps'!$D$5:$D$104,"Ready")=1,"Ready","Check period calendar"))))),"Check period calendar") | I17: =IFERROR(IF($H17<>"Ready","",SUMIFS('Calendar & Resource Gaps'!$C$5:$C$104,'Calendar & Resource Gaps'!$A$5:$A$104,$A17,'Calendar & Resource Gaps'!$B$5:$B$104,$C17)),"") | J17: =IFERROR(IF($G17="","",IF(OR($G17<>"Ready",$H17<>"Ready"),"Check inputs",IF(COUNTIFS($A$5:$A$104,$A17,$C$5:$C$104,$C17)=COUNTIFS($A$5:$A$104,$A17,$C$5:$C$104,$C17,$G$5:$G$104,"Ready"),"Ready","Check family demand or rate"))),"Check family demand or rate") | K17: =IFERROR(IF($J17<>"Ready","",SUMIFS($F$5:$F$104,$A$5:$A$104,$A17,$C$5:$C$104,$C17,$G$5:$G$104,"Ready")),"") | L17: =IFERROR(IF(OR($I17="",$K17=""),"",IF($K17>$I17,$K17-$I17,"")),"") | M17: =IFERROR(IF($G17="","",IF(AND($G17="Ready",$H17="Ready",$J17="Ready"),IF($K17<=$I17,"Feasible","Gap"),"Check Inputs")),"Check Inputs")
F18: =IF(AND($A18="",$B18="",$C18="",$D18="",$E18=""),"",IF(OR($A18="",$B18="",$C18="",$D18="",$E18=""),"",IFERROR($D18*$E18,""))) | G18: =IF(AND($A18="",$B18="",$C18="",$D18="",$E18=""),"",IF(OR($A18="",$B18="",$C18="",$D18="",$E18=""),"Complete all inputs",IFERROR(IF(AND(ISNUMBER($A18),ISNUMBER($D18),ISNUMBER($E18),$D18>=0,$E18>=0),"Ready","Check numeric input"),"Check numeric input"))) | H18: =IFERROR(IF($G18="","",IF($G18<>"Ready","Check demand input",IF(COUNTIFS('Calendar & Resource Gaps'!$A$5:$A$104,$A18,'Calendar & Resource Gaps'!$B$5:$B$104,$C18)=0,"No period calendar",IF(COUNTIFS('Calendar & Resource Gaps'!$A$5:$A$104,$A18,'Calendar & Resource Gaps'!$B$5:$B$104,$C18)>1,"Duplicate period calendar",IF(COUNTIFS('Calendar & Resource Gaps'!$A$5:$A$104,$A18,'Calendar & Resource Gaps'!$B$5:$B$104,$C18,'Calendar & Resource Gaps'!$D$5:$D$104,"Ready")=1,"Ready","Check period calendar"))))),"Check period calendar") | I18: =IFERROR(IF($H18<>"Ready","",SUMIFS('Calendar & Resource Gaps'!$C$5:$C$104,'Calendar & Resource Gaps'!$A$5:$A$104,$A18,'Calendar & Resource Gaps'!$B$5:$B$104,$C18)),"") | J18: =IFERROR(IF($G18="","",IF(OR($G18<>"Ready",$H18<>"Ready"),"Check inputs",IF(COUNTIFS($A$5:$A$104,$A18,$C$5:$C$104,$C18)=COUNTIFS($A$5:$A$104,$A18,$C$5:$C$104,$C18,$G$5:$G$104,"Ready"),"Ready","Check family demand or rate"))),"Check family demand or rate") | K18: =IFERROR(IF($J18<>"Ready","",SUMIFS($F$5:$F$104,$A$5:$A$104,$A18,$C$5:$C$104,$C18,$G$5:$G$104,"Ready")),"") | L18: =IFERROR(IF(OR($I18="",$K18=""),"",IF($K18>$I18,$K18-$I18,"")),"") | M18: =IFERROR(IF($G18="","",IF(AND($G18="Ready",$H18="Ready",$J18="Ready"),IF($K18<=$I18,"Feasible","Gap"),"Check Inputs")),"Check Inputs")
F19: =IF(AND($A19="",$B19="",$C19="",$D19="",$E19=""),"",IF(OR($A19="",$B19="",$C19="",$D19="",$E19=""),"",IFERROR($D19*$E19,""))) | G19: =IF(AND($A19="",$B19="",$C19="",$D19="",$E19=""),"",IF(OR($A19="",$B19="",$C19="",$D19="",$E19=""),"Complete all inputs",IFERROR(IF(AND(ISNUMBER($A19),ISNUMBER($D19),ISNUMBER($E19),$D19>=0,$E19>=0),"Ready","Check numeric input"),"Check numeric input"))) | H19: =IFERROR(IF($G19="","",IF($G19<>"Ready","Check demand input",IF(COUNTIFS('Calendar & Resource Gaps'!$A$5:$A$104,$A19,'Calendar & Resource Gaps'!$B$5:$B$104,$C19)=0,"No period calendar",IF(COUNTIFS('Calendar & Resource Gaps'!$A$5:$A$104,$A19,'Calendar & Resource Gaps'!$B$5:$B$104,$C19)>1,"Duplicate period calendar",IF(COUNTIFS('Calendar & Resource Gaps'!$A$5:$A$104,$A19,'Calendar & Resource Gaps'!$B$5:$B$104,$C19,'Calendar & Resource Gaps'!$D$5:$D$104,"Ready")=1,"Ready","Check period calendar"))))),"Check period calendar") | I19: =IFERROR(IF($H19<>"Ready","",SUMIFS('Calendar & Resource Gaps'!$C$5:$C$104,'Calendar & Resource Gaps'!$A$5:$A$104,$A19,'Calendar & Resource Gaps'!$B$5:$B$104,$C19)),"") | J19: =IFERROR(IF($G19="","",IF(OR($G19<>"Ready",$H19<>"Ready"),"Check inputs",IF(COUNTIFS($A$5:$A$104,$A19,$C$5:$C$104,$C19)=COUNTIFS($A$5:$A$104,$A19,$C$5:$C$104,$C19,$G$5:$G$104,"Ready"),"Ready","Check family demand or rate"))),"Check family demand or rate") | K19: =IFERROR(IF($J19<>"Ready","",SUMIFS($F$5:$F$104,$A$5:$A$104,$A19,$C$5:$C$104,$C19,$G$5:$G$104,"Ready")),"") | L19: =IFERROR(IF(OR($I19="",$K19=""),"",IF($K19>$I19,$K19-$I19,"")),"") | M19: =IFERROR(IF($G19="","",IF(AND($G19="Ready",$H19="Ready",$J19="Ready"),IF($K19<=$I19,"Feasible","Gap"),"Check Inputs")),"Check Inputs")
F20: =IF(AND($A20="",$B20="",$C20="",$D20="",$E20=""),"",IF(OR($A20="",$B20="",$C20="",$D20="",$E20=""),"",IFERROR($D20*$E20,""))) | G20: =IF(AND($A20="",$B20="",$C20="",$D20="",$E20=""),"",IF(OR($A20="",$B20="",$C20="",$D20="",$E20=""),"Complete all inputs",IFERROR(IF(AND(ISNUMBER($A20),ISNUMBER($D20),ISNUMBER($E20),$D20>=0,$E20>=0),"Ready","Check numeric input"),"Check numeric input"))) | H20: =IFERROR(IF($G20="","",IF($G20<>"Ready","Check demand input",IF(COUNTIFS('Calendar & Resource Gaps'!$A$5:$A$104,$A20,'Calendar & Resource Gaps'!$B$5:$B$104,$C20)=0,"No period calendar",IF(COUNTIFS('Calendar & Resource Gaps'!$A$5:$A$104,$A20,'Calendar & Resource Gaps'!$B$5:$B$104,$C20)>1,"Duplicate period calendar",IF(COUNTIFS('Calendar & Resource Gaps'!$A$5:$A$104,$A20,'Calendar & Resource Gaps'!$B$5:$B$104,$C20,'Calendar & Resource Gaps'!$D$5:$D$104,"Ready")=1,"Ready","Check period calendar"))))),"Check period calendar") | I20: =IFERROR(IF($H20<>"Ready","",SUMIFS('Calendar & Resource Gaps'!$C$5:$C$104,'Calendar & Resource Gaps'!$A$5:$A$104,$A20,'Calendar & Resource Gaps'!$B$5:$B$104,$C20)),"") | J20: =IFERROR(IF($G20="","",IF(OR($G20<>"Ready",$H20<>"Ready"),"Check inputs",IF(COUNTIFS($A$5:$A$104,$A20,$C$5:$C$104,$C20)=COUNTIFS($A$5:$A$104,$A20,$C$5:$C$104,$C20,$G$5:$G$104,"Ready"),"Ready","Check family demand or rate"))),"Check family demand or rate") | K20: =IFERROR(IF($J20<>"Ready","",SUMIFS($F$5:$F$104,$A$5:$A$104,$A20,$C$5:$C$104,$C20,$G$5:$G$104,"Ready")),"") | L20: =IFERROR(IF(OR($I20="",$K20=""),"",IF($K20>$I20,$K20-$I20,"")),"") | M20: =IFERROR(IF($G20="","",IF(AND($G20="Ready",$H20="Ready",$J20="Ready"),IF($K20<=$I20,"Feasible","Gap"),"Check Inputs")),"Check Inputs")
F21: =IF(AND($A21="",$B21="",$C21="",$D21="",$E21=""),"",IF(OR($A21="",$B21="",$C21="",$D21="",$E21=""),"",IFERROR($D21*$E21,""))) | G21: =IF(AND($A21="",$B21="",$C21="",$D21="",$E21=""),"",IF(OR($A21="",$B21="",$C21="",$D21="",$E21=""),"Complete all inputs",IFERROR(IF(AND(ISNUMBER($A21),ISNUMBER($D21),ISNUMBER($E21),$D21>=0,$E21>=0),"Ready","Check numeric input"),"Check numeric input"))) | H21: =IFERROR(IF($G21="","",IF($G21<>"Ready","Check demand input",IF(COUNTIFS('Calendar & Resource Gaps'!$A$5:$A$104,$A21,'Calendar & Resource Gaps'!$B$5:$B$104,$C21)=0,"No period calendar",IF(COUNTIFS('Calendar & Resource Gaps'!$A$5:$A$104,$A21,'Calendar & Resource Gaps'!$B$5:$B$104,$C21)>1,"Duplicate period calendar",IF(COUNTIFS('Calendar & Resource Gaps'!$A$5:$A$104,$A21,'Calendar & Resource Gaps'!$B$5:$B$104,$C21,'Calendar & Resource Gaps'!$D$5:$D$104,"Ready")=1,"Ready","Check period calendar"))))),"Check period calendar") | I21: =IFERROR(IF($H21<>"Ready","",SUMIFS('Calendar & Resource Gaps'!$C$5:$C$104,'Calendar & Resource Gaps'!$A$5:$A$104,$A21,'Calendar & Resource Gaps'!$B$5:$B$104,$C21)),"") | J21: =IFERROR(IF($G21="","",IF(OR($G21<>"Ready",$H21<>"Ready"),"Check inputs",IF(COUNTIFS($A$5:$A$104,$A21,$C$5:$C$104,$C21)=COUNTIFS($A$5:$A$104,$A21,$C$5:$C$104,$C21,$G$5:$G$104,"Ready"),"Ready","Check family demand or rate"))),"Check family demand or rate") | K21: =IFERROR(IF($J21<>"Ready","",SUMIFS($F$5:$F$104,$A$5:$A$104,$A21,$C$5:$C$104,$C21,$G$5:$G$104,"Ready")),"") | L21: =IFERROR(IF(OR($I21="",$K21=""),"",IF($K21>$I21,$K21-$I21,"")),"") | M21: =IFERROR(IF($G21="","",IF(AND($G21="Ready",$H21="Ready",$J21="Ready"),IF($K21<=$I21,"Feasible","Gap"),"Check Inputs")),"Check Inputs")
F22: =IF(AND($A22="",$B22="",$C22="",$D22="",$E22=""),"",IF(OR($A22="",$B22="",$C22="",$D22="",$E22=""),"",IFERROR($D22*$E22,""))) | G22: =IF(AND($A22="",$B22="",$C22="",$D22="",$E22=""),"",IF(OR($A22="",$B22="",$C22="",$D22="",$E22=""),"Complete all inputs",IFERROR(IF(AND(ISNUMBER($A22),ISNUMBER($D22),ISNUMBER($E22),$D22>=0,$E22>=0),"Ready","Check numeric input"),"Check numeric input"))) | H22: =IFERROR(IF($G22="","",IF($G22<>"Ready","Check demand input",IF(COUNTIFS('Calendar & Resource Gaps'!$A$5:$A$104,$A22,'Calendar & Resource Gaps'!$B$5:$B$104,$C22)=0,"No period calendar",IF(COUNTIFS('Calendar & Resource Gaps'!$A$5:$A$104,$A22,'Calendar & Resource Gaps'!$B$5:$B$104,$C22)>1,"Duplicate period calendar",IF(COUNTIFS('Calendar & Resource Gaps'!$A$5:$A$104,$A22,'Calendar & Resource Gaps'!$B$5:$B$104,$C22,'Calendar & Resource Gaps'!$D$5:$D$104,"Ready")=1,"Ready","Check period calendar"))))),"Check period calendar") | I22: =IFERROR(IF($H22<>"Ready","",SUMIFS('Calendar & Resource Gaps'!$C$5:$C$104,'Calendar & Resource Gaps'!$A$5:$A$104,$A22,'Calendar & Resource Gaps'!$B$5:$B$104,$C22)),"") | J22: =IFERROR(IF($G22="","",IF(OR($G22<>"Ready",$H22<>"Ready"),"Check inputs",IF(COUNTIFS($A$5:$A$104,$A22,$C$5:$C$104,$C22)=COUNTIFS($A$5:$A$104,$A22,$C$5:$C$104,$C22,$G$5:$G$104,"Ready"),"Ready","Check family demand or rate"))),"Check family demand or rate") | K22: =IFERROR(IF($J22<>"Ready","",SUMIFS($F$5:$F$104,$A$5:$A$104,$A22,$C$5:$C$104,$C22,$G$5:$G$104,"Ready")),"") | L22: =IFERROR(IF(OR($I22="",$K22=""),"",IF($K22>$I22,$K22-$I22,"")),"") | M22: =IFERROR(IF($G22="","",IF(AND($G22="Ready",$H22="Ready",$J22="Ready"),IF($K22<=$I22,"Feasible","Gap"),"Check Inputs")),"Check Inputs")
F23: =IF(AND($A23="",$B23="",$C23="",$D23="",$E23=""),"",IF(OR($A23="",$B23="",$C23="",$D23="",$E23=""),"",IFERROR($D23*$E23,""))) | G23: =IF(AND($A23="",$B23="",$C23="",$D23="",$E23=""),"",IF(OR($A23="",$B23="",$C23="",$D23="",$E23=""),"Complete all inputs",IFERROR(IF(AND(ISNUMBER($A23),ISNUMBER($D23),ISNUMBER($E23),$D23>=0,$E23>=0),"Ready","Check numeric input"),"Check numeric input"))) | H23: =IFERROR(IF($G23="","",IF($G23<>"Ready","Check demand input",IF(COUNTIFS('Calendar & Resource Gaps'!$A$5:$A$104,$A23,'Calendar & Resource Gaps'!$B$5:$B$104,$C23)=0,"No period calendar",IF(COUNTIFS('Calendar & Resource Gaps'!$A$5:$A$104,$A23,'Calendar & Resource Gaps'!$B$5:$B$104,$C23)>1,"Duplicate period calendar",IF(COUNTIFS('Calendar & Resource Gaps'!$A$5:$A$104,$A23,'Calendar & Resource Gaps'!$B$5:$B$104,$C23,'Calendar & Resource Gaps'!$D$5:$D$104,"Ready")=1,"Ready","Check period calendar"))))),"Check period calendar") | I23: =IFERROR(IF($H23<>"Ready","",SUMIFS('Calendar & Resource Gaps'!$C$5:$C$104,'Calendar & Resource Gaps'!$A$5:$A$104,$A23,'Calendar & Resource Gaps'!$B$5:$B$104,$C23)),"") | J23: =IFERROR(IF($G23="","",IF(OR($G23<>"Ready",$H23<>"Ready"),"Check inputs",IF(COUNTIFS($A$5:$A$104,$A23,$C$5:$C$104,$C23)=COUNTIFS($A$5:$A$104,$A23,$C$5:$C$104,$C23,$G$5:$G$104,"Ready"),"Ready","Check family demand or rate"))),"Check family demand or rate") | K23: =IFERROR(IF($J23<>"Ready","",SUMIFS($F$5:$F$104,$A$5:$A$104,$A23,$C$5:$C$104,$C23,$G$5:$G$104,"Ready")),"") | L23: =IFERROR(IF(OR($I23="",$K23=""),"",IF($K23>$I23,$K23-$I23,"")),"") | M23: =IFERROR(IF($G23="","",IF(AND($G23="Ready",$H23="Ready",$J23="Ready"),IF($K23<=$I23,"Feasible","Gap"),"Check Inputs")),"Check Inputs")
F24: =IF(AND($A24="",$B24="",$C24="",$D24="",$E24=""),"",IF(OR($A24="",$B24="",$C24="",$D24="",$E24=""),"",IFERROR($D24*$E24,""))) | G24: =IF(AND($A24="",$B24="",$C24="",$D24="",$E24=""),"",IF(OR($A24="",$B24="",$C24="",$D24="",$E24=""),"Complete all inputs",IFERROR(IF(AND(ISNUMBER($A24),ISNUMBER($D24),ISNUMBER($E24),$D24>=0,$E24>=0),"Ready","Check numeric input"),"Check numeric input"))) | H24: =IFERROR(IF($G24="","",IF($G24<>"Ready","Check demand input",IF(COUNTIFS('Calendar & Resource Gaps'!$A$5:$A$104,$A24,'Calendar & Resource Gaps'!$B$5:$B$104,$C24)=0,"No period calendar",IF(COUNTIFS('Calendar & Resource Gaps'!$A$5:$A$104,$A24,'Calendar & Resource Gaps'!$B$5:$B$104,$C24)>1,"Duplicate period calendar",IF(COUNTIFS('Calendar & Resource Gaps'!$A$5:$A$104,$A24,'Calendar & Resource Gaps'!$B$5:$B$104,$C24,'Calendar & Resource Gaps'!$D$5:$D$104,"Ready")=1,"Ready","Check period calendar"))))),"Check period calendar") | I24: =IFERROR(IF($H24<>"Ready","",SUMIFS('Calendar & Resource Gaps'!$C$5:$C$104,'Calendar & Resource Gaps'!$A$5:$A$104,$A24,'Calendar & Resource Gaps'!$B$5:$B$104,$C24)),"") | J24: =IFERROR(IF($G24="","",IF(OR($G24<>"Ready",$H24<>"Ready"),"Check inputs",IF(COUNTIFS($A$5:$A$104,$A24,$C$5:$C$104,$C24)=COUNTIFS($A$5:$A$104,$A24,$C$5:$C$104,$C24,$G$5:$G$104,"Ready"),"Ready","Check family demand or rate"))),"Check family demand or rate") | K24: =IFERROR(IF($J24<>"Ready","",SUMIFS($F$5:$F$104,$A$5:$A$104,$A24,$C$5:$C$104,$C24,$G$5:$G$104,"Ready")),"") | L24: =IFERROR(IF(OR($I24="",$K24=""),"",IF($K24>$I24,$K24-$I24,"")),"") | M24: =IFERROR(IF($G24="","",IF(AND($G24="Ready",$H24="Ready",$J24="Ready"),IF($K24<=$I24,"Feasible","Gap"),"Check Inputs")),"Check Inputs")
... F104: =IF(AND($A104="",$B104="",$C104="",$D104="",$E104=""),"",IF(OR($A104="",$B104="",$C104="",$D104="",$E104=""),"",IFERROR($D104*$E104,""))) | G104: =IF(AND($A104="",$B104="",$C104="",$D104="",$E104=""),"",IF(OR($A104="",$B104="",$C104="",$D104="",$E104=""),"Complete all inputs",IFERROR(IF(AND(ISNUMBER($A104),ISNUMBER($D104),ISNUMBER($E104),$D104>=0,$E104>=0),"Ready","Check numeric input"),"Check numeric input"))) | H104: =IFERROR(IF($G104="","",IF($G104<>"Ready","Check demand input",IF(COUNTIFS('Calendar & Resource Gaps'!$A$5:$A$104,$A104,'Calendar & Resource Gaps'!$B$5:$B$104,$C104)=0,"No period calendar",IF(COUNTIFS('Calendar & Resource Gaps'!$A$5:$A$104,$A104,'Calendar & Resource Gaps'!$B$5:$B$104,$C104)>1,"Duplicate period calendar",IF(COUNTIFS('Calendar & Resource Gaps'!$A$5:$A$104,$A104,'Calendar & Resource Gaps'!$B$5:$B$104,$C104,'Calendar & Resource Gaps'!$D$5:$D$104,"Ready")=1,"Ready","Check period calendar"))))),"Check period calendar") | I104: =IFERROR(IF($H104<>"Ready","",SUMIFS('Calendar & Resource Gaps'!$C$5:$C$104,'Calendar & Resource Gaps'!$A$5:$A$104,$A104,'Calendar & Resource Gaps'!$B$5:$B$104,$C104)),"") | J104: =IFERROR(IF($G104="","",IF(OR($G104<>"Ready",$H104<>"Ready"),"Check inputs",IF(COUNTIFS($A$5:$A$104,$A104,$C$5:$C$104,$C104)=COUNTIFS($A$5:$A$104,$A104,$C$5:$C$104,$C104,$G$5:$G$104,"Ready"),"Ready","Check family demand or rate"))),"Check family demand or rate") | K104: =IFERROR(IF($J104<>"Ready","",SUMIFS($F$5:$F$104,$A$5:$A$104,$A104,$C$5:$C$104,$C104,$G$5:$G$104,"Ready")),"") | L104: =IFERROR(IF(OR($I104="",$K104=""),"",IF($K104>$I104,$K104-$I104,"")),"") | M104: =IFERROR(IF($G104="","",IF(AND($G104="Ready",$H104="Ready",$J104="Ready"),IF($K104<=$I104,"Feasible","Gap"),"Check Inputs")),"Check Inputs")

Sheet Calendar & Resource Gaps
A1: Period Calendars and Critical-Resource Gaps
A2: Enter one available-hours calendar row for each period and critical resource. Use the same period dates and critical-resource descriptions used on Demand & Rates.
A3: Only one calendar row is allowed for each period and critical resource combination. Illustrative sample rows are in rows 5 through 12.
A4: Period | B4: Critical Resource | C4: Available Critical Hours (hours) | D4: Calendar Input Status | G4: Period | H4: Critical Resource | I4: Available Critical Hours (hours) | J4: Family Demand Status | K4: Total Critical Resource Hours Required (hours) | L4: Critical-Resource Gap (hours) | M4: Early Overload Screen | N4: Critical-Resource Gap Status
A5: 46272 | B5: Critical Resource A | C5: 40 | D5: =IFERROR(IF(AND($A5="",$B5="",$C5=""),"",IF(OR($A5="",$B5="",$C5=""),"Complete all inputs",IF(AND(ISNUMBER($A5),ISNUMBER($C5),$C5>=0),IF(COUNTIFS($A$5:$A$104,$A5,$B$5:$B$104,$B5)=1,"Ready","Duplicate period-resource"),"Check date or numeric input"))),"Check date or numeric input") | G5: =IFERROR(IF($A5="","",$A5),"") | H5: =IFERROR(IF($B5="","",$B5),"") | I5: =IFERROR(IF($D5="Ready",$C5,""),"") | J5: =IFERROR(IF($D5="","",IF($D5<>"Ready","Check period calendar",IF(COUNTIFS('Demand & Rates'!$A$5:$A$104,$A5,'Demand & Rates'!$C$5:$C$104,$B5)=0,"No demand entered",IF(COUNTIFS('Demand & Rates'!$A$5:$A$104,$A5,'Demand & Rates'!$C$5:$C$104,$B5)=COUNTIFS('Demand & Rates'!$A$5:$A$104,$A5,'Demand & Rates'!$C$5:$C$104,$B5,'Demand & Rates'!$G$5:$G$104,"Ready"),"Ready","Check family demand or rate")))),"Check family demand or rate") | K5: =IFERROR(IF($J5<>"Ready","",SUMIFS('Demand & Rates'!$F$5:$F$104,'Demand & Rates'!$A$5:$A$104,$A5,'Demand & Rates'!$C$5:$C$104,$B5,'Demand & Rates'!$G$5:$G$104,"Ready")),"") | L5: =IFERROR(IF(OR($I5="",$K5=""),"",IF($K5>$I5,$K5-$I5,"")),"") | M5: =IFERROR(IF($D5="","",IF(AND($D5="Ready",$J5="Ready"),IF($K5<=$I5,"Feasible","Gap"),"Check Inputs")),"Check Inputs") | N5: =IFERROR(IF($M5="","",IF($M5="Gap","Critical resource gap",IF($M5="Feasible","No critical resource gap","Review inputs"))),"Review inputs")
A6: 46279 | B6: Critical Resource B | C6: 24 | D6: =IFERROR(IF(AND($A6="",$B6="",$C6=""),"",IF(OR($A6="",$B6="",$C6=""),"Complete all inputs",IF(AND(ISNUMBER($A6),ISNUMBER($C6),$C6>=0),IF(COUNTIFS($A$5:$A$104,$A6,$B$5:$B$104,$B6)=1,"Ready","Duplicate period-resource"),"Check date or numeric input"))),"Check date or numeric input") | G6: =IFERROR(IF($A6="","",$A6),"") | H6: =IFERROR(IF($B6="","",$B6),"") | I6: =IFERROR(IF($D6="Ready",$C6,""),"") | J6: =IFERROR(IF($D6="","",IF($D6<>"Ready","Check period calendar",IF(COUNTIFS('Demand & Rates'!$A$5:$A$104,$A6,'Demand & Rates'!$C$5:$C$104,$B6)=0,"No demand entered",IF(COUNTIFS('Demand & Rates'!$A$5:$A$104,$A6,'Demand & Rates'!$C$5:$C$104,$B6)=COUNTIFS('Demand & Rates'!$A$5:$A$104,$A6,'Demand & Rates'!$C$5:$C$104,$B6,'Demand & Rates'!$G$5:$G$104,"Ready"),"Ready","Check family demand or rate")))),"Check family demand or rate") | K6: =IFERROR(IF($J6<>"Ready","",SUMIFS('Demand & Rates'!$F$5:$F$104,'Demand & Rates'!$A$5:$A$104,$A6,'Demand & Rates'!$C$5:$C$104,$B6,'Demand & Rates'!$G$5:$G$104,"Ready")),"") | L6: =IFERROR(IF(OR($I6="",$K6=""),"",IF($K6>$I6,$K6-$I6,"")),"") | M6: =IFERROR(IF($D6="","",IF(AND($D6="Ready",$J6="Ready"),IF($K6<=$I6,"Feasible","Gap"),"Check Inputs")),"Check Inputs") | N6: =IFERROR(IF($M6="","",IF($M6="Gap","Critical resource gap",IF($M6="Feasible","No critical resource gap","Review inputs"))),"Review inputs")
A7: 46279 | B7: Critical Resource C | C7: 10 | D7: =IFERROR(IF(AND($A7="",$B7="",$C7=""),"",IF(OR($A7="",$B7="",$C7=""),"Complete all inputs",IF(AND(ISNUMBER($A7),ISNUMBER($C7),$C7>=0),IF(COUNTIFS($A$5:$A$104,$A7,$B$5:$B$104,$B7)=1,"Ready","Duplicate period-resource"),"Check date or numeric input"))),"Check date or numeric input") | G7: =IFERROR(IF($A7="","",$A7),"") | H7: =IFERROR(IF($B7="","",$B7),"") | I7: =IFERROR(IF($D7="Ready",$C7,""),"") | J7: =IFERROR(IF($D7="","",IF($D7<>"Ready","Check period calendar",IF(COUNTIFS('Demand & Rates'!$A$5:$A$104,$A7,'Demand & Rates'!$C$5:$C$104,$B7)=0,"No demand entered",IF(COUNTIFS('Demand & Rates'!$A$5:$A$104,$A7,'Demand & Rates'!$C$5:$C$104,$B7)=COUNTIFS('Demand & Rates'!$A$5:$A$104,$A7,'Demand & Rates'!$C$5:$C$104,$B7,'Demand & Rates'!$G$5:$G$104,"Ready"),"Ready","Check family demand or rate")))),"Check family demand or rate") | K7: =IFERROR(IF($J7<>"Ready","",SUMIFS('Demand & Rates'!$F$5:$F$104,'Demand & Rates'!$A$5:$A$104,$A7,'Demand & Rates'!$C$5:$C$104,$B7,'Demand & Rates'!$G$5:$G$104,"Ready")),"") | L7: =IFERROR(IF(OR($I7="",$K7=""),"",IF($K7>$I7,$K7-$I7,"")),"") | M7: =IFERROR(IF($D7="","",IF(AND($D7="Ready",$J7="Ready"),IF($K7<=$I7,"Feasible","Gap"),"Check Inputs")),"Check Inputs") | N7: =IFERROR(IF($M7="","",IF($M7="Gap","Critical resource gap",IF($M7="Feasible","No critical resource gap","Review inputs"))),"Review inputs")
A8: 46286 | B8: Critical Resource A | C8: 25 | D8: =IFERROR(IF(AND($A8="",$B8="",$C8=""),"",IF(OR($A8="",$B8="",$C8=""),"Complete all inputs",IF(AND(ISNUMBER($A8),ISNUMBER($C8),$C8>=0),IF(COUNTIFS($A$5:$A$104,$A8,$B$5:$B$104,$B8)=1,"Ready","Duplicate period-resource"),"Check date or numeric input"))),"Check date or numeric input") | G8: =IFERROR(IF($A8="","",$A8),"") | H8: =IFERROR(IF($B8="","",$B8),"") | I8: =IFERROR(IF($D8="Ready",$C8,""),"") | J8: =IFERROR(IF($D8="","",IF($D8<>"Ready","Check period calendar",IF(COUNTIFS('Demand & Rates'!$A$5:$A$104,$A8,'Demand & Rates'!$C$5:$C$104,$B8)=0,"No demand entered",IF(COUNTIFS('Demand & Rates'!$A$5:$A$104,$A8,'Demand & Rates'!$C$5:$C$104,$B8)=COUNTIFS('Demand & Rates'!$A$5:$A$104,$A8,'Demand & Rates'!$C$5:$C$104,$B8,'Demand & Rates'!$G$5:$G$104,"Ready"),"Ready","Check family demand or rate")))),"Check family demand or rate") | K8: =IFERROR(IF($J8<>"Ready","",SUMIFS('Demand & Rates'!$F$5:$F$104,'Demand & Rates'!$A$5:$A$104,$A8,'Demand & Rates'!$C$5:$C$104,$B8,'Demand & Rates'!$G$5:$G$104,"Ready")),"") | L8: =IFERROR(IF(OR($I8="",$K8=""),"",IF($K8>$I8,$K8-$I8,"")),"") | M8: =IFERROR(IF($D8="","",IF(AND($D8="Ready",$J8="Ready"),IF($K8<=$I8,"Feasible","Gap"),"Check Inputs")),"Check Inputs") | N8: =IFERROR(IF($M8="","",IF($M8="Gap","Critical resource gap",IF($M8="Feasible","No critical resource gap","Review inputs"))),"Review inputs")
A9: 46286 | B9: Critical Resource B | C9: 35 | D9: =IFERROR(IF(AND($A9="",$B9="",$C9=""),"",IF(OR($A9="",$B9="",$C9=""),"Complete all inputs",IF(AND(ISNUMBER($A9),ISNUMBER($C9),$C9>=0),IF(COUNTIFS($A$5:$A$104,$A9,$B$5:$B$104,$B9)=1,"Ready","Duplicate period-resource"),"Check date or numeric input"))),"Check date or numeric input") | G9: =IFERROR(IF($A9="","",$A9),"") | H9: =IFERROR(IF($B9="","",$B9),"") | I9: =IFERROR(IF($D9="Ready",$C9,""),"") | J9: =IFERROR(IF($D9="","",IF($D9<>"Ready","Check period calendar",IF(COUNTIFS('Demand & Rates'!$A$5:$A$104,$A9,'Demand & Rates'!$C$5:$C$104,$B9)=0,"No demand entered",IF(COUNTIFS('Demand & Rates'!$A$5:$A$104,$A9,'Demand & Rates'!$C$5:$C$104,$B9)=COUNTIFS('Demand & Rates'!$A$5:$A$104,$A9,'Demand & Rates'!$C$5:$C$104,$B9,'Demand & Rates'!$G$5:$G$104,"Ready"),"Ready","Check family demand or rate")))),"Check family demand or rate") | K9: =IFERROR(IF($J9<>"Ready","",SUMIFS('Demand & Rates'!$F$5:$F$104,'Demand & Rates'!$A$5:$A$104,$A9,'Demand & Rates'!$C$5:$C$104,$B9,'Demand & Rates'!$G$5:$G$104,"Ready")),"") | L9: =IFERROR(IF(OR($I9="",$K9=""),"",IF($K9>$I9,$K9-$I9,"")),"") | M9: =IFERROR(IF($D9="","",IF(AND($D9="Ready",$J9="Ready"),IF($K9<=$I9,"Feasible","Gap"),"Check Inputs")),"Check Inputs") | N9: =IFERROR(IF($M9="","",IF($M9="Gap","Critical resource gap",IF($M9="Feasible","No critical resource gap","Review inputs"))),"Review inputs")
A10: 46293 | B10: Critical Resource C | C10: 30 | D10: =IFERROR(IF(AND($A10="",$B10="",$C10=""),"",IF(OR($A10="",$B10="",$C10=""),"Complete all inputs",IF(AND(ISNUMBER($A10),ISNUMBER($C10),$C10>=0),IF(COUNTIFS($A$5:$A$104,$A10,$B$5:$B$104,$B10)=1,"Ready","Duplicate period-resource"),"Check date or numeric input"))),"Check date or numeric input") | G10: =IFERROR(IF($A10="","",$A10),"") | H10: =IFERROR(IF($B10="","",$B10),"") | I10: =IFERROR(IF($D10="Ready",$C10,""),"") | J10: =IFERROR(IF($D10="","",IF($D10<>"Ready","Check period calendar",IF(COUNTIFS('Demand & Rates'!$A$5:$A$104,$A10,'Demand & Rates'!$C$5:$C$104,$B10)=0,"No demand entered",IF(COUNTIFS('Demand & Rates'!$A$5:$A$104,$A10,'Demand & Rates'!$C$5:$C$104,$B10)=COUNTIFS('Demand & Rates'!$A$5:$A$104,$A10,'Demand & Rates'!$C$5:$C$104,$B10,'Demand & Rates'!$G$5:$G$104,"Ready"),"Ready","Check family demand or rate")))),"Check family demand or rate") | K10: =IFERROR(IF($J10<>"Ready","",SUMIFS('Demand & Rates'!$F$5:$F$104,'Demand & Rates'!$A$5:$A$104,$A10,'Demand & Rates'!$C$5:$C$104,$B10,'Demand & Rates'!$G$5:$G$104,"Ready")),"") | L10: =IFERROR(IF(OR($I10="",$K10=""),"",IF($K10>$I10,$K10-$I10,"")),"") | M10: =IFERROR(IF($D10="","",IF(AND($D10="Ready",$J10="Ready"),IF($K10<=$I10,"Feasible","Gap"),"Check Inputs")),"Check Inputs") | N10: =IFERROR(IF($M10="","",IF($M10="Gap","Critical resource gap",IF($M10="Feasible","No critical resource gap","Review inputs"))),"Review inputs")
